{"text_format":"1","workbook":"xlsx","n_sheets":6,"sheets":["例","1階 計算表","2階 計算表","Sheet3","Sheet6","使用会場印刷用"],"not_rendered":{"charts":0,"images":0,"macros":0,"external_links":0,"defined_names":0,"comments":0,"pivot_tables":0},"unopened":[],"bounds":{"document_bytes":16777216,"sheet_cells":100000,"rows_first":2000,"rows_last":500,"rows_between":2000,"halvings":0,"cell_chars":16384,"cell_head_chars":4096},"cells_cut":0,"cells_raw":0,"read":"whole","date_system":"1900"}

{"sheet":"例","index":0,"n_rows":39,"n_cols":27,"rows_kept":39,"cut":false,"hidden":false,"merged":[[4,3,4,9],[4,17,4,23]]}
["隠岐島文化会館　料金計算表",null,null,null,null,null,null,null,null,null,null,null,null,null,"隠岐島文化会館　料金計算表"]
["※黄色の枠に時間もしくは、1を入力して下さい。",null,null,null,null,null,null,null,null,null,null,null,null,null,"※黄色の枠に時間もしくは、1を入力して下さい。"]
["※営利目的の場合は、1を入力して下さい。　→　　",null,null,1,null,null,null,null,null,null,null,null,null,null,"※営利目的の場合は、1を入力して下さい。　→　　",null,null,1]
[]
["１階",null,null,"使用時間",null,null,null,null,null,null,"使用時間","単価","金額",null,"２階",null,null,"使用時間",null,null,null,null,null,null,"使用時間","単価","金額"]
["大ホール","１時間単位","　8：30～22：00",13,"：",0,"～",17,"：",0,{"$f":"+Sheet3!I3","v":4},4810,{"$f":"+IF(K6=0,0,IF($D$3=\"\",K6*L6,K6*L6*3))","v":57720},null,"集会室","１時間単位","　8：30～22：00",null,"：",null,"～",null,"：",null,{"$f":"+Sheet3!I46","v":0},1570,{"$f":"+IF(Y6=0,0,IF($D$3=\"\",Y6*Z6,Y6*Z6*3))","v":0}]
["ステージのみ利用","１時間単位","8：30～22：00",8,"：",30,"～",12,"：",0,{"$f":"+Sheet3!I4","v":4},1360,{"$f":"+IF(K7=0,0,IF($D$3=\"\",K7*L7,K7*L7*3))","v":16320}]
["大ホール空調","１時間単位","8：30～22：00",null,"：",null,"～",null,"：",null,{"$f":"+Sheet3!I5","v":0},1360,0,null,"調理室","１時間単位","　8：30～22：00",null,"：",null,"～",null,"：",null,{"$f":"+Sheet3!I52","v":0},470,{"$f":"+IF(Y8=0,0,IF($D$3=\"\",Y8*Z8,Y8*Z8*3))","v":0}]
[]
["保養室","１時間単位","　8：30～22：00",null,"：",null,"～",null,"：",null,{"$f":"+Sheet3!I6","v":0},470,0,null,"青年研修室","１時間単位","　8：30～22：00",null,"：",null,"～",null,"：",null,{"$f":"+Sheet3!I58","v":0},470,0]
[]
["娯楽室","１時間単位","　8：30～22：00",null,"：",null,"～",null,"：",null,{"$f":"+Sheet3!I11","v":0},470,0,null,"展示ホール","１時間単位","　8：30～22：00",null,"：",null,"～",null,"：",null,{"$f":"+Sheet3!I64","v":0},470,0]
[]
["研修室","１時間単位","　8：30～22：00",null,"：",null,"～",null,"：",null,{"$f":"+Sheet3!I16","v":0},470,0,null,"会議室","１時間単位","　8：30～22：00",null,"：",null,"～",null,"：",null,{"$f":"+Sheet3!I70","v":0},310,0]
[]
["ホワイエ","１時間単位","　8：30～22：00",null,"：",null,"～",null,"：",null,{"$f":"+Sheet3!I21","v":0},470,0,null,"産業研修室","１時間単位","　8：30～22：00",8,"：",30,"～",12,"：",0,{"$f":"+Sheet3!I76","v":4},310,3720]
[]
["コミュニケーションホール","１時間単位","　8：30～22：00",null,"：",null,"～",null,"：",null,{"$f":"+Sheet3!I26","v":0},470,0]
[]
["控室","１時間単位","　8：30～22：00",null,"：",null,"～",null,"：",null,{"$f":"+Sheet3!I31","v":0},310,0]
[]
["小会議室","１時間単位","　8：30～22：00",null,"：",null,"～",null,"：",null,{"$f":"+Sheet3!I36","v":0},310,0]
[]
["住民相談室","１時間単位","　8：30～22：00",null,"：",null,"～",null,"：",null,{"$f":"+Sheet3!I41","v":0},310,0]
[]
[null,null,null,null,null,null,null,null,null,null,"１階合計",null,{"$f":"SUM(M6:M25)","v":74040}]
[]
[]
[]
[]
[]
[]
[]
[]
[]
[]
[]
[null,null,null,null,null,null,null,null,null,null,null,null,null,null,null,null,null,null,null,null,null,null,null,null,"２階合計",null,{"$f":"SUM(AA6:AA36)","v":3720}]
[null,null,null,null,null,null,null,null,null,null,null,null,null,null,null,null,null,null,null,null,null,null,null,null,"合計",null,{"$f":"+AA38+M26","v":77760}]

{"sheet":"1階 計算表","index":1,"n_rows":27,"n_cols":13,"rows_kept":27,"cut":false,"hidden":false,"merged":[[5,3,5,9]]}
["隠岐島文化会館　料金計算表"]
["※黄色の枠に時間もしくは、1を入力して下さい。"]
["※営利目的の場合は、1を入力して下さい。　→　　"]
["※町内高等学校の場合は、1を入力して下さい。　→　　"]
[]
["１階",null,null,"使用時間",null,null,null,null,null,null,"使用時間","単価","金額"]
["大ホール","１時間単位","　8：30～22：00",null,"：",null,"～",null,"：",null,{"$f":"+Sheet3!D3","v":0},4810,{"$f":"IF($F$3=1,K7*L7*3,IF($F$4=1,K7*L7/2,K7*L7))","v":0}]
["ステージのみ利用","１時間単位","8：30～22：00",null,"：",null,"～",null,"：",null,{"$f":"+Sheet3!D4","v":0},1360,{"$f":"IF($F$3=1,K8*L8*3,IF($F$4=1,K8*L8/2,K8*L8))","v":0}]
["大ホール空調","１時間単位","8：30～22：00",null,"：",null,"～",null,"：",null,{"$f":"+Sheet3!D5","v":0},1360,{"$f":"IF($F$3=1,K9*L9*2,K9*L9)","v":0}]
[]
["保養室","１時間単位","　8：30～22：00",null,"：",null,"～",null,"：",null,{"$f":"+Sheet3!D7","v":0},470,{"$f":"IF($F$3=1,K11*L11*3,IF($F$4=1,K11*L11/2,K11*L11))","v":0}]
[]
["娯楽室","１時間単位","　8：30～22：00",null,"：",null,"～",null,"：",null,{"$f":"+Sheet3!D9","v":0},470,{"$f":"IF($F$3=1,K13*L13*3,IF($F$4=1,K13*L13/2,K13*L13))","v":0}]
[]
["研修室","１時間単位","　8：30～22：00",null,"：",null,"～",null,"：",null,{"$f":"+Sheet3!D11","v":0},470,{"$f":"IF($F$3=1,K15*L15*3,IF($F$4=1,K15*L15/2,K15*L15))","v":0}]
[]
["ホワイエ","１時間単位","　8：30～22：00",null,"：",null,"～",null,"：",null,{"$f":"+Sheet3!D13","v":0},470,{"$f":"IF($F$3=1,K17*L17*3,IF($F$4=1,K17*L17/2,K17*L17))","v":0}]
[]
["コミュニケーションホール","１時間単位","　8：30～22：00",null,"：",null,"～",null,"：",null,{"$f":"+Sheet3!D15","v":0},470,{"$f":"IF($F$3=1,K19*L19*3,IF($F$4=1,K19*L19/2,K19*L19))","v":0}]
[]
["控室","１時間単位","　8：30～22：00",null,"：",null,"～",null,"：",null,{"$f":"+Sheet3!D17","v":0},310,{"$f":"IF($F$3=1,K21*L21*3,IF($F$4=1,K21*L21/2,K21*L21))","v":0}]
[]
["小会議室","１時間単位","　8：30～22：00",null,"：",null,"～",null,"：",null,{"$f":"+Sheet3!D19","v":0},310,{"$f":"IF($F$3=1,K23*L23*3,IF($F$4=1,K23*L23/2,K23*L23))","v":0}]
[]
["住民相談室","１時間単位","　8：30～22：00",null,"：",null,"～",null,"：",null,{"$f":"+Sheet3!D21","v":0},310,{"$f":"IF($F$3=1,K25*L25*3,IF($F$4=1,K25*L25/2,K25*L25))","v":0}]
[]
[null,null,null,null,null,null,null,null,null,null,"１階合計",null,{"$f":"SUM(M7:M26)","v":0}]

{"sheet":"2階 計算表","index":2,"n_rows":39,"n_cols":13,"rows_kept":39,"cut":false,"hidden":false,"merged":[[5,3,5,9]]}
["隠岐島文化会館　料金計算表"]
["※黄色の枠に時間もしくは、1を入力して下さい。"]
["※営利目的の場合は、1を入力して下さい。　→　　"]
["※町内高等学校の場合は、1を入力して下さい。　→　　"]
[]
["２階",null,null,"使用時間",null,null,null,null,null,null,"使用時間","単価","金額"]
["集会室","１時間単位","　8：30～22：00",null,"：",null,"～",null,"：",null,{"$f":"+Sheet3!O3","v":0},1570,{"$f":"IF($F$3=1,K7*L7*3,IF($F$4=1,K7*L7/2,K7*L7))","v":0}]
[]
["調理室","１時間単位","8：30～22：00",null,"：",null,"～",null,"：",null,{"$f":"+Sheet3!O5","v":0},470,{"$f":"IF($F$3=1,K9*L9*3,IF($F$4=1,K9*L9/2,K9*L9))","v":0}]
[]
["青年研修室","１時間単位","　8：30～22：00",null,"：",null,"～",null,"：",null,{"$f":"+Sheet3!O7","v":0},470,{"$f":"IF($F$3=1,K11*L11*3,IF($F$4=1,K11*L11/2,K11*L11))","v":0}]
[]
["展示ホール","１時間単位","　8：30～22：00",null,"：",null,"～",null,"：",null,{"$f":"+Sheet3!O9","v":0},470,{"$f":"IF($F$3=1,K13*L13*3,IF($F$4=1,K13*L13/2,K13*L13))","v":0}]
[]
["会議室","１時間単位","　8：30～22：00",null,"：",null,"～",null,"：",null,{"$f":"+Sheet3!O11","v":0},310,{"$f":"IF($F$3=1,K15*L15*3,IF($F$4=1,K15*L15/2,K15*L15))","v":0}]
[]
["産業研修室","１時間単位","　8：30～22：00",null,"：",null,"～",null,"：",null,{"$f":"+Sheet3!O13","v":0},310,{"$f":"IF($F$3=1,K17*L17*3,IF($F$4=1,K17*L17/2,K17*L17))","v":0}]
[]
[null,null,null,null,null,null,null,null,null,null,"２階合計",null,{"$f":"SUM(M7:M18)","v":0}]
[]
[]
[]
[]
[]
[]
[]
[]
[]
[]
[]
[]
[]
[]
[]
[]
[]
[]
[]
[null,null,null,null,null,null,null,null,null,null,"２階合計",null,{"$f":"SUM(M7:M37)","v":0}]

{"sheet":"Sheet3","index":3,"n_rows":104,"n_cols":15,"rows_kept":104,"cut":false,"hidden":true,"merged":[]}
[]
[]
[{"$f":"+'1階 計算表'!A7","v":"大ホール"},{"$f":"+'1階 計算表'!H7-'1階 計算表'!D7","v":0},{"$f":"+'1階 計算表'!J7-'1階 計算表'!F7","v":0},{"$f":"IF(B3<0,0,+IF(C3>0,B3+1,B3))","v":0},null,null,{"$f":"+例!H6-例!D6","v":4},{"$f":"+例!J6-例!F6","v":0},{"$f":"+IF(H3>0,G3+1,G3)","v":4},null,null,{"$f":"++'2階 計算表'!A7","v":"集会室"},{"$f":"+'2階 計算表'!H7-'2階 計算表'!D7","v":0},{"$f":"+'2階 計算表'!J7-'2階 計算表'!F7","v":0},{"$f":"IF(M3<1,0,+IF(N3>0,M3+1,M3))","v":0}]
[{"$f":"+'1階 計算表'!A8","v":"ステージのみ利用"},{"$f":"+'1階 計算表'!H8-'1階 計算表'!D8","v":0},{"$f":"+'1階 計算表'!J8-'1階 計算表'!F8","v":0},{"$f":"IF(B4<0,0,+IF(C4>0,B4+1,B4))","v":0},null,null,{"$f":"+例!H7-例!D7","v":4},{"$f":"+例!J7-例!F7","v":-30},{"$f":"+IF(H4>0,G4+1,G4)","v":4},null,null,{"$f":"++'2階 計算表'!A8","v":0},{"$f":"+'2階 計算表'!H8-'2階 計算表'!D8","v":0},{"$f":"+'2階 計算表'!J8-'2階 計算表'!F8","v":0},{"$f":"IF(M4<1,0,+IF(N4>0,M4+1,M4))","v":0}]
[{"$f":"+'1階 計算表'!A9","v":"大ホール空調"},{"$f":"+'1階 計算表'!H9-'1階 計算表'!D9","v":0},{"$f":"+'1階 計算表'!J9-'1階 計算表'!F9","v":0},0,null,null,{"$f":"+例!H8-例!D8","v":0},{"$f":"+例!J8-例!F8","v":0},{"$f":"+IF(H5>0,G5+1,G5)","v":0},null,null,{"$f":"++'2階 計算表'!A9","v":"調理室"},{"$f":"+'2階 計算表'!H9-'2階 計算表'!D9","v":0},{"$f":"+'2階 計算表'!J9-'2階 計算表'!F9","v":0},0]
[{"$f":"+'1階 計算表'!A10","v":0},{"$f":"+'1階 計算表'!H10-'1階 計算表'!D10","v":0},{"$f":"+'1階 計算表'!J10-'1階 計算表'!F10","v":0},0,null,null,{"$f":"+例!H10-例!D10","v":0},{"$f":"+例!J10-例!F10","v":0},0,null,null,{"$f":"++'2階 計算表'!A10","v":0},{"$f":"+'2階 計算表'!H10-'2階 計算表'!D10","v":0},{"$f":"+'2階 計算表'!J10-'2階 計算表'!F10","v":0},0]
[{"$f":"+'1階 計算表'!A11","v":"保養室"},{"$f":"+'1階 計算表'!H11-'1階 計算表'!D11","v":0},{"$f":"+'1階 計算表'!J11-'1階 計算表'!F11","v":0},0,null,null,{"$f":"+例!#REF!-例!#REF!","v":{"$error":"#REF!"}},{"$f":"+例!#REF!-例!#REF!","v":{"$error":"#REF!"}},{"$error":"#REF!"},null,null,{"$f":"++'2階 計算表'!A11","v":"青年研修室"},{"$f":"+'2階 計算表'!H11-'2階 計算表'!D11","v":0},{"$f":"+'2階 計算表'!J11-'2階 計算表'!F11","v":0},0]
[{"$f":"+'1階 計算表'!A12","v":0},{"$f":"+'1階 計算表'!H12-'1階 計算表'!D12","v":0},{"$f":"+'1階 計算表'!J12-'1階 計算表'!F12","v":0},0,null,null,null,null,null,null,null,{"$f":"++'2階 計算表'!A12","v":0},{"$f":"+'2階 計算表'!H12-'2階 計算表'!D12","v":0},{"$f":"+'2階 計算表'!J12-'2階 計算表'!F12","v":0},0]
[{"$f":"+'1階 計算表'!A13","v":"娯楽室"},{"$f":"+'1階 計算表'!H13-'1階 計算表'!D13","v":0},{"$f":"+'1階 計算表'!J13-'1階 計算表'!F13","v":0},0,null,null,null,null,null,null,null,{"$f":"++'2階 計算表'!A13","v":"展示ホール"},{"$f":"+'2階 計算表'!H13-'2階 計算表'!D13","v":0},{"$f":"+'2階 計算表'!J13-'2階 計算表'!F13","v":0},0]
[{"$f":"+'1階 計算表'!A14","v":0},{"$f":"+'1階 計算表'!H14-'1階 計算表'!D14","v":0},{"$f":"+'1階 計算表'!J14-'1階 計算表'!F14","v":0},0,null,null,null,null,null,null,null,{"$f":"++'2階 計算表'!A14","v":0},{"$f":"+'2階 計算表'!H14-'2階 計算表'!D14","v":0},{"$f":"+'2階 計算表'!J14-'2階 計算表'!F14","v":0},0]
[{"$f":"+'1階 計算表'!A15","v":"研修室"},{"$f":"+'1階 計算表'!H15-'1階 計算表'!D15","v":0},{"$f":"+'1階 計算表'!J15-'1階 計算表'!F15","v":0},0,null,null,{"$f":"+例!H12-例!D12","v":0},{"$f":"+例!J12-例!F12","v":0},{"$f":"+IF(H11>0,G11+1,G11)","v":0},null,null,{"$f":"++'2階 計算表'!A15","v":"会議室"},{"$f":"+'2階 計算表'!H15-'2階 計算表'!D15","v":0},{"$f":"+'2階 計算表'!J15-'2階 計算表'!F15","v":0},0]
[{"$f":"+'1階 計算表'!A16","v":0},{"$f":"+'1階 計算表'!H16-'1階 計算表'!D16","v":0},{"$f":"+'1階 計算表'!J16-'1階 計算表'!F16","v":0},0,null,null,{"$f":"+例!#REF!-例!#REF!","v":{"$error":"#REF!"}},{"$f":"+例!#REF!-例!#REF!","v":{"$error":"#REF!"}},{"$error":"#REF!"},null,null,{"$f":"++'2階 計算表'!A16","v":0},{"$f":"+'2階 計算表'!H16-'2階 計算表'!D16","v":0},{"$f":"+'2階 計算表'!J16-'2階 計算表'!F16","v":0},0]
[{"$f":"+'1階 計算表'!A17","v":"ホワイエ"},{"$f":"+'1階 計算表'!H17-'1階 計算表'!D17","v":0},{"$f":"+'1階 計算表'!J17-'1階 計算表'!F17","v":0},0,null,null,null,null,null,null,null,{"$f":"++'2階 計算表'!A17","v":"産業研修室"},{"$f":"+'2階 計算表'!H17-'2階 計算表'!D17","v":0},{"$f":"+'2階 計算表'!J17-'2階 計算表'!F17","v":0},0]
[{"$f":"+'1階 計算表'!A18","v":0},{"$f":"+'1階 計算表'!H18-'1階 計算表'!D18","v":0},{"$f":"+'1階 計算表'!J18-'1階 計算表'!F18","v":0},0,null,null,null,null,null,null,null,{"$f":"++'2階 計算表'!A18","v":0},{"$f":"+'2階 計算表'!H18-'2階 計算表'!D18","v":0},{"$f":"+'2階 計算表'!J18-'2階 計算表'!F18","v":0},0]
[{"$f":"+'1階 計算表'!A19","v":"コミュニケーションホール"},{"$f":"+'1階 計算表'!H19-'1階 計算表'!D19","v":0},{"$f":"+'1階 計算表'!J19-'1階 計算表'!F19","v":0},0,null,null,null,null,null,null,null,{"$f":"++'2階 計算表'!A19","v":0},{"$f":"+'2階 計算表'!H19-'2階 計算表'!D19","v":0},{"$f":"+'2階 計算表'!J19-'2階 計算表'!F19","v":0},0]
[{"$f":"+'1階 計算表'!A20","v":0},{"$f":"+'1階 計算表'!H20-'1階 計算表'!D20","v":0},{"$f":"+'1階 計算表'!J20-'1階 計算表'!F20","v":0},0,null,null,{"$f":"+例!H14-例!D14","v":0},{"$f":"+例!J14-例!F14","v":0},{"$f":"+IF(H16>0,G16+1,G16)","v":0},null,null,{"$f":"++'2階 計算表'!A20","v":0},{"$f":"+'2階 計算表'!H20-'2階 計算表'!D20","v":0},{"$f":"+'2階 計算表'!J20-'2階 計算表'!F20","v":0},0]
[{"$f":"+'1階 計算表'!A21","v":"控室"},{"$f":"+'1階 計算表'!H21-'1階 計算表'!D21","v":0},{"$f":"+'1階 計算表'!J21-'1階 計算表'!F21","v":0},0,null,null,{"$f":"+例!#REF!-例!#REF!","v":{"$error":"#REF!"}},{"$f":"+例!#REF!-例!#REF!","v":{"$error":"#REF!"}},{"$error":"#REF!"},null,null,{"$f":"++'2階 計算表'!A21","v":0},{"$f":"+'2階 計算表'!H21-'2階 計算表'!D21","v":0},{"$f":"+'2階 計算表'!J21-'2階 計算表'!F21","v":0},0]
[{"$f":"+'1階 計算表'!A22","v":0},{"$f":"+'1階 計算表'!H22-'1階 計算表'!D22","v":0},{"$f":"+'1階 計算表'!J22-'1階 計算表'!F22","v":0},0,null,null,null,null,null,null,null,{"$f":"++'2階 計算表'!A22","v":0},{"$f":"+'2階 計算表'!H22-'2階 計算表'!D22","v":0},{"$f":"+'2階 計算表'!J22-'2階 計算表'!F22","v":0},0]
[{"$f":"+'1階 計算表'!A23","v":"小会議室"},{"$f":"+'1階 計算表'!H23-'1階 計算表'!D23","v":0},{"$f":"+'1階 計算表'!J23-'1階 計算表'!F23","v":0},0,null,null,null,null,null,null,null,{"$f":"++'2階 計算表'!A23","v":0},{"$f":"+'2階 計算表'!H23-'2階 計算表'!D23","v":0},{"$f":"+'2階 計算表'!J23-'2階 計算表'!F23","v":0},0]
[{"$f":"+'1階 計算表'!A24","v":0},{"$f":"+'1階 計算表'!H24-'1階 計算表'!D24","v":0},{"$f":"+'1階 計算表'!J24-'1階 計算表'!F24","v":0},0,null,null,null,null,null,null,null,{"$f":"++'2階 計算表'!A24","v":0},{"$f":"+'2階 計算表'!H24-'2階 計算表'!D24","v":0},{"$f":"+'2階 計算表'!J24-'2階 計算表'!F24","v":0},0]
[{"$f":"+'1階 計算表'!A25","v":"住民相談室"},{"$f":"+'1階 計算表'!H25-'1階 計算表'!D25","v":0},{"$f":"+'1階 計算表'!J25-'1階 計算表'!F25","v":0},0,null,null,{"$f":"+例!H16-例!D16","v":0},{"$f":"+例!J16-例!F16","v":0},{"$f":"+IF(H21>0,G21+1,G21)","v":0},null,null,{"$f":"++'2階 計算表'!A25","v":0},{"$f":"+'2階 計算表'!H25-'2階 計算表'!D25","v":0},{"$f":"+'2階 計算表'!J25-'2階 計算表'!F25","v":0},0]
[{"$f":"+'1階 計算表'!A26","v":0},{"$f":"+'1階 計算表'!H26-'1階 計算表'!D26","v":0},{"$f":"+'1階 計算表'!J26-'1階 計算表'!F26","v":0},0,null,null,{"$f":"+例!#REF!-例!#REF!","v":{"$error":"#REF!"}},{"$f":"+例!#REF!-例!#REF!","v":{"$error":"#REF!"}},{"$error":"#REF!"},null,null,{"$f":"++'2階 計算表'!A26","v":0},{"$f":"+'2階 計算表'!H26-'2階 計算表'!D26","v":0},{"$f":"+'2階 計算表'!J26-'2階 計算表'!F26","v":0},0]
[{"$f":"+'1階 計算表'!A27","v":0},{"$f":"+'1階 計算表'!H27-'1階 計算表'!D27","v":0},{"$f":"+'1階 計算表'!J27-'1階 計算表'!F27","v":0},0,null,null,null,null,null,null,null,{"$f":"++'2階 計算表'!A27","v":0},{"$f":"+'2階 計算表'!H27-'2階 計算表'!D27","v":0},{"$f":"+'2階 計算表'!J27-'2階 計算表'!F27","v":0},0]
[{"$f":"+'1階 計算表'!A28","v":0},{"$f":"+'1階 計算表'!H28-'1階 計算表'!D28","v":0},{"$f":"+'1階 計算表'!J28-'1階 計算表'!F28","v":0},0,null,null,null,null,null,null,null,{"$f":"++'2階 計算表'!A28","v":0},{"$f":"+'2階 計算表'!H28-'2階 計算表'!D28","v":0},{"$f":"+'2階 計算表'!J28-'2階 計算表'!F28","v":0},0]
[{"$f":"+'1階 計算表'!A29","v":0},{"$f":"+'1階 計算表'!H29-'1階 計算表'!D29","v":0},{"$f":"+'1階 計算表'!J29-'1階 計算表'!F29","v":0},0,null,null,null,null,null,null,null,{"$f":"++'2階 計算表'!A29","v":0},{"$f":"+'2階 計算表'!H29-'2階 計算表'!D29","v":0},{"$f":"+'2階 計算表'!J29-'2階 計算表'!F29","v":0},0]
[{"$f":"+'1階 計算表'!A30","v":0},{"$f":"+'1階 計算表'!H30-'1階 計算表'!D30","v":0},{"$f":"+'1階 計算表'!J30-'1階 計算表'!F30","v":0},0,null,null,{"$f":"+例!H18-例!D18","v":0},{"$f":"+例!J18-例!F18","v":0},{"$f":"+IF(H26>0,G26+1,G26)","v":0},null,null,{"$f":"++'2階 計算表'!A30","v":0},{"$f":"+'2階 計算表'!H30-'2階 計算表'!D30","v":0},{"$f":"+'2階 計算表'!J30-'2階 計算表'!F30","v":0},0]
[{"$f":"+'1階 計算表'!A31","v":0},{"$f":"+'1階 計算表'!H31-'1階 計算表'!D31","v":0},{"$f":"+'1階 計算表'!J31-'1階 計算表'!F31","v":0},0,null,null,{"$f":"+例!#REF!-例!#REF!","v":{"$error":"#REF!"}},{"$f":"+例!#REF!-例!#REF!","v":{"$error":"#REF!"}},{"$error":"#REF!"},null,null,{"$f":"++'2階 計算表'!A31","v":0},{"$f":"+'2階 計算表'!H31-'2階 計算表'!D31","v":0},{"$f":"+'2階 計算表'!J31-'2階 計算表'!F31","v":0},0]
[{"$f":"+'1階 計算表'!A32","v":0},{"$f":"+'1階 計算表'!H32-'1階 計算表'!D32","v":0},{"$f":"+'1階 計算表'!J32-'1階 計算表'!F32","v":0},0,null,null,null,null,null,null,null,{"$f":"++'2階 計算表'!A32","v":0},{"$f":"+'2階 計算表'!H32-'2階 計算表'!D32","v":0},{"$f":"+'2階 計算表'!J32-'2階 計算表'!F32","v":0},0]
[{"$f":"+'1階 計算表'!A33","v":0},{"$f":"+'1階 計算表'!H33-'1階 計算表'!D33","v":0},{"$f":"+'1階 計算表'!J33-'1階 計算表'!F33","v":0},0,null,null,null,null,null,null,null,{"$f":"++'2階 計算表'!A33","v":0},{"$f":"+'2階 計算表'!H33-'2階 計算表'!D33","v":0},{"$f":"+'2階 計算表'!J33-'2階 計算表'!F33","v":0},0]
[{"$f":"+'1階 計算表'!A34","v":0},{"$f":"+'1階 計算表'!H34-'1階 計算表'!D34","v":0},{"$f":"+'1階 計算表'!J34-'1階 計算表'!F34","v":0},0,null,null,null,null,null,null,null,{"$f":"++'2階 計算表'!A34","v":0},{"$f":"+'2階 計算表'!H34-'2階 計算表'!D34","v":0},{"$f":"+'2階 計算表'!J34-'2階 計算表'!F34","v":0},0]
[{"$f":"+'1階 計算表'!A35","v":0},{"$f":"+'1階 計算表'!H35-'1階 計算表'!D35","v":0},{"$f":"+'1階 計算表'!J35-'1階 計算表'!F35","v":0},0,null,null,{"$f":"+例!H20-例!D20","v":0},{"$f":"+例!J20-例!F20","v":0},{"$f":"+IF(H31>0,G31+1,G31)","v":0},null,null,{"$f":"++'2階 計算表'!A35","v":0},{"$f":"+'2階 計算表'!H35-'2階 計算表'!D35","v":0},{"$f":"+'2階 計算表'!J35-'2階 計算表'!F35","v":0},0]
[{"$f":"+'1階 計算表'!A36","v":0},{"$f":"+'1階 計算表'!H36-'1階 計算表'!D36","v":0},{"$f":"+'1階 計算表'!J36-'1階 計算表'!F36","v":0},{"$f":"IF(B32<0,0,+IF(C32>0,B32+1,B32))","v":0},null,null,{"$f":"+例!#REF!-例!#REF!","v":{"$error":"#REF!"}},{"$f":"+例!#REF!-例!#REF!","v":{"$error":"#REF!"}},{"$error":"#REF!"},null,null,{"$f":"++'2階 計算表'!A36","v":0},{"$f":"+'2階 計算表'!H36-'2階 計算表'!D36","v":0},{"$f":"+'2階 計算表'!J36-'2階 計算表'!F36","v":0},0]
[{"$f":"+'1階 計算表'!A37","v":0},{"$f":"+'1階 計算表'!H37-'1階 計算表'!D37","v":0},{"$f":"+'1階 計算表'!J37-'1階 計算表'!F37","v":0},0,null,null,null,null,null,null,null,{"$f":"++'2階 計算表'!A37","v":0},{"$f":"+'2階 計算表'!H37-'2階 計算表'!D37","v":0},{"$f":"+'2階 計算表'!J37-'2階 計算表'!F37","v":0},0]
[{"$f":"+'1階 計算表'!A38","v":0},{"$f":"+'1階 計算表'!H38-'1階 計算表'!D38","v":0},{"$f":"+'1階 計算表'!J38-'1階 計算表'!F38","v":0},0,null,null,null,null,null,null,null,{"$f":"++'2階 計算表'!A38","v":0},{"$f":"+'2階 計算表'!H38-'2階 計算表'!D38","v":0},{"$f":"+'2階 計算表'!J38-'2階 計算表'!F38","v":0},0]
[{"$f":"+'1階 計算表'!A39","v":0},{"$f":"+'1階 計算表'!H39-'1階 計算表'!D39","v":0},{"$f":"+'1階 計算表'!J39-'1階 計算表'!F39","v":0},0,null,null,null,null,null,null,null,{"$f":"++'2階 計算表'!A39","v":0},{"$f":"+'2階 計算表'!H39-'2階 計算表'!D39","v":0},{"$f":"+'2階 計算表'!J39-'2階 計算表'!F39","v":0},0]
[{"$f":"+'1階 計算表'!A40","v":0},{"$f":"+'1階 計算表'!H40-'1階 計算表'!D40","v":0},{"$f":"+'1階 計算表'!J40-'1階 計算表'!F40","v":0},0,null,null,{"$f":"+例!H22-例!D22","v":0},{"$f":"+例!J22-例!F22","v":0},{"$f":"+IF(H36>0,G36+1,G36)","v":0},null,null,{"$f":"++'2階 計算表'!A40","v":0},{"$f":"+'2階 計算表'!H40-'2階 計算表'!D40","v":0},{"$f":"+'2階 計算表'!J40-'2階 計算表'!F40","v":0},0]
[{"$f":"+'1階 計算表'!A41","v":0},{"$f":"+'1階 計算表'!H41-'1階 計算表'!D41","v":0},{"$f":"+'1階 計算表'!J41-'1階 計算表'!F41","v":0},0,null,null,{"$f":"+例!#REF!-例!#REF!","v":{"$error":"#REF!"}},{"$f":"+例!#REF!-例!#REF!","v":{"$error":"#REF!"}},{"$error":"#REF!"},null,null,{"$f":"++'2階 計算表'!A41","v":0},{"$f":"+'2階 計算表'!H41-'2階 計算表'!D41","v":0},{"$f":"+'2階 計算表'!J41-'2階 計算表'!F41","v":0},0]
[{"$f":"+'1階 計算表'!A42","v":0},{"$f":"+'1階 計算表'!H42-'1階 計算表'!D42","v":0},{"$f":"+'1階 計算表'!J42-'1階 計算表'!F42","v":0},0,null,null,null,null,null,null,null,{"$f":"++'2階 計算表'!A42","v":0},{"$f":"+'2階 計算表'!H42-'2階 計算表'!D42","v":0},{"$f":"+'2階 計算表'!J42-'2階 計算表'!F42","v":0},0]
[{"$f":"+'1階 計算表'!A43","v":0},{"$f":"+'1階 計算表'!H43-'1階 計算表'!D43","v":0},{"$f":"+'1階 計算表'!J43-'1階 計算表'!F43","v":0},0,null,null,null,null,null,null,null,{"$f":"++'2階 計算表'!A43","v":0},{"$f":"+'2階 計算表'!H43-'2階 計算表'!D43","v":0},{"$f":"+'2階 計算表'!J43-'2階 計算表'!F43","v":0},0]
[{"$f":"+'1階 計算表'!A44","v":0},{"$f":"+'1階 計算表'!H44-'1階 計算表'!D44","v":0},{"$f":"+'1階 計算表'!J44-'1階 計算表'!F44","v":0},0,null,null,null,null,null,null,null,{"$f":"++'2階 計算表'!A44","v":0},{"$f":"+'2階 計算表'!H44-'2階 計算表'!D44","v":0},{"$f":"+'2階 計算表'!J44-'2階 計算表'!F44","v":0},0]
[{"$f":"+'1階 計算表'!A45","v":0},{"$f":"+'1階 計算表'!H45-'1階 計算表'!D45","v":0},{"$f":"+'1階 計算表'!J45-'1階 計算表'!F45","v":0},0,null,null,{"$f":"+例!H24-例!D24","v":0},{"$f":"+例!J24-例!F24","v":0},{"$f":"+IF(H41>0,G41+1,G41)","v":0},null,null,{"$f":"++'2階 計算表'!A45","v":0},{"$f":"+'2階 計算表'!H45-'2階 計算表'!D45","v":0},{"$f":"+'2階 計算表'!J45-'2階 計算表'!F45","v":0},0]
[{"$f":"+'1階 計算表'!A46","v":0},{"$f":"+'1階 計算表'!H46-'1階 計算表'!D46","v":0},{"$f":"+'1階 計算表'!J46-'1階 計算表'!F46","v":0},0,null,null,{"$f":"+例!#REF!-例!#REF!","v":{"$error":"#REF!"}},{"$f":"+例!#REF!-例!#REF!","v":{"$error":"#REF!"}},{"$error":"#REF!"},null,null,{"$f":"++'2階 計算表'!A46","v":0},{"$f":"+'2階 計算表'!H46-'2階 計算表'!D46","v":0},{"$f":"+'2階 計算表'!J46-'2階 計算表'!F46","v":0},0]
[{"$f":"+'1階 計算表'!A47","v":0},{"$f":"+'1階 計算表'!H47-'1階 計算表'!D47","v":0},{"$f":"+'1階 計算表'!J47-'1階 計算表'!F47","v":0},0,null,null,null,null,null,null,null,{"$f":"++'2階 計算表'!A47","v":0},{"$f":"+'2階 計算表'!H47-'2階 計算表'!D47","v":0},{"$f":"+'2階 計算表'!J47-'2階 計算表'!F47","v":0},0]
[{"$f":"+'1階 計算表'!A48","v":0},{"$f":"+'1階 計算表'!H48-'1階 計算表'!D48","v":0},{"$f":"+'1階 計算表'!J48-'1階 計算表'!F48","v":0},0,null,null,null,null,null,null,null,{"$f":"++'2階 計算表'!A48","v":0},{"$f":"+'2階 計算表'!H48-'2階 計算表'!D48","v":0},{"$f":"+'2階 計算表'!J48-'2階 計算表'!F48","v":0},0]
[{"$f":"+'1階 計算表'!A49","v":0},{"$f":"+'1階 計算表'!H49-'1階 計算表'!D49","v":0},{"$f":"+'1階 計算表'!J49-'1階 計算表'!F49","v":0},0,null,null,null,null,null,null,null,{"$f":"++'2階 計算表'!A49","v":0},{"$f":"+'2階 計算表'!H49-'2階 計算表'!D49","v":0},{"$f":"+'2階 計算表'!J49-'2階 計算表'!F49","v":0},{"$f":"IF(M45<1,0,+IF(N45>0,M45+1,M45))","v":0}]
[{"$f":"+'1階 計算表'!A50","v":0},{"$f":"+'1階 計算表'!H50-'1階 計算表'!D50","v":0},{"$f":"+'1階 計算表'!J50-'1階 計算表'!F50","v":0},0,null,null,{"$f":"+例!V6-例!R6","v":0},{"$f":"+例!X6-例!T6","v":0},{"$f":"+IF(H46>0,G46+1,G46)","v":0},null,null,{"$f":"++'2階 計算表'!A50","v":0},{"$f":"+'2階 計算表'!H50-'2階 計算表'!D50","v":0},{"$f":"+'2階 計算表'!J50-'2階 計算表'!F50","v":0},0]
[{"$f":"+'1階 計算表'!A51","v":0},{"$f":"+'1階 計算表'!H51-'1階 計算表'!D51","v":0},{"$f":"+'1階 計算表'!J51-'1階 計算表'!F51","v":0},0,null,null,{"$f":"+例!#REF!-例!#REF!","v":{"$error":"#REF!"}},{"$f":"+例!#REF!-例!#REF!","v":{"$error":"#REF!"}},{"$error":"#REF!"},null,null,{"$f":"++'2階 計算表'!A51","v":0},{"$f":"+'2階 計算表'!H51-'2階 計算表'!D51","v":0},{"$f":"+'2階 計算表'!J51-'2階 計算表'!F51","v":0},0]
[{"$f":"+'1階 計算表'!A52","v":0},{"$f":"+'1階 計算表'!H52-'1階 計算表'!D52","v":0},{"$f":"+'1階 計算表'!J52-'1階 計算表'!F52","v":0},0,null,null,null,null,null,null,null,{"$f":"++'2階 計算表'!A52","v":0},{"$f":"+'2階 計算表'!H52-'2階 計算表'!D52","v":0},{"$f":"+'2階 計算表'!J52-'2階 計算表'!F52","v":0},0]
[{"$f":"+'1階 計算表'!A53","v":0},{"$f":"+'1階 計算表'!H53-'1階 計算表'!D53","v":0},{"$f":"+'1階 計算表'!J53-'1階 計算表'!F53","v":0},0,null,null,null,null,null,null,null,{"$f":"++'2階 計算表'!A53","v":0},{"$f":"+'2階 計算表'!H53-'2階 計算表'!D53","v":0},{"$f":"+'2階 計算表'!J53-'2階 計算表'!F53","v":0},0]
[{"$f":"+'1階 計算表'!A54","v":0},{"$f":"+'1階 計算表'!H54-'1階 計算表'!D54","v":0},{"$f":"+'1階 計算表'!J54-'1階 計算表'!F54","v":0},0,null,null,null,null,null,null,null,{"$f":"++'2階 計算表'!A54","v":0},{"$f":"+'2階 計算表'!H54-'2階 計算表'!D54","v":0},{"$f":"+'2階 計算表'!J54-'2階 計算表'!F54","v":0},0]
[{"$f":"+'1階 計算表'!A55","v":0},{"$f":"+'1階 計算表'!H55-'1階 計算表'!D55","v":0},{"$f":"+'1階 計算表'!J55-'1階 計算表'!F55","v":0},0,null,null,null,null,null,null,null,{"$f":"++'2階 計算表'!A55","v":0},{"$f":"+'2階 計算表'!H55-'2階 計算表'!D55","v":0},{"$f":"+'2階 計算表'!J55-'2階 計算表'!F55","v":0},0]
[{"$f":"+'1階 計算表'!A56","v":0},{"$f":"+'1階 計算表'!H56-'1階 計算表'!D56","v":0},{"$f":"+'1階 計算表'!J56-'1階 計算表'!F56","v":0},0,null,null,{"$f":"+例!V8-例!R8","v":0},{"$f":"+例!X8-例!T8","v":0},{"$f":"+IF(H52>0,G52+1,G52)","v":0},null,null,null,{"$f":"+'2階 計算表'!H56-'2階 計算表'!D56","v":0},{"$f":"+'2階 計算表'!J56-'2階 計算表'!F56","v":0},0]
[{"$f":"+'1階 計算表'!A57","v":0},{"$f":"+'1階 計算表'!H57-'1階 計算表'!D57","v":0},{"$f":"+'1階 計算表'!J57-'1階 計算表'!F57","v":0},0,null,null,{"$f":"+例!#REF!-例!#REF!","v":{"$error":"#REF!"}},{"$f":"+例!#REF!-例!#REF!","v":{"$error":"#REF!"}},{"$error":"#REF!"},null,null,null,{"$f":"+'2階 計算表'!H57-'2階 計算表'!D57","v":0},{"$f":"+'2階 計算表'!J57-'2階 計算表'!F57","v":0},0]
[{"$f":"+'1階 計算表'!A58","v":0},{"$f":"+'1階 計算表'!H58-'1階 計算表'!D58","v":0},{"$f":"+'1階 計算表'!J58-'1階 計算表'!F58","v":0},0,null,null,null,null,null,null,null,null,{"$f":"+'2階 計算表'!H58-'2階 計算表'!D58","v":0},{"$f":"+'2階 計算表'!J58-'2階 計算表'!F58","v":0},0]
[{"$f":"+'1階 計算表'!A59","v":0},{"$f":"+'1階 計算表'!H59-'1階 計算表'!D59","v":0},{"$f":"+'1階 計算表'!J59-'1階 計算表'!F59","v":0},0,null,null,null,null,null,null,null,null,{"$f":"+'2階 計算表'!H59-'2階 計算表'!D59","v":0},{"$f":"+'2階 計算表'!J59-'2階 計算表'!F59","v":0},0]
[{"$f":"+'1階 計算表'!A60","v":0},{"$f":"+'1階 計算表'!H60-'1階 計算表'!D60","v":0},{"$f":"+'1階 計算表'!J60-'1階 計算表'!F60","v":0},0,null,null,null,null,null,null,null,null,{"$f":"+'2階 計算表'!H60-'2階 計算表'!D60","v":0},{"$f":"+'2階 計算表'!J60-'2階 計算表'!F60","v":0},0]
[{"$f":"+'1階 計算表'!A61","v":0},{"$f":"+'1階 計算表'!H61-'1階 計算表'!D61","v":0},{"$f":"+'1階 計算表'!J61-'1階 計算表'!F61","v":0},0,null,null,null,null,null,null,null,null,{"$f":"+'2階 計算表'!H61-'2階 計算表'!D61","v":0},{"$f":"+'2階 計算表'!J61-'2階 計算表'!F61","v":0},0]
[{"$f":"+'1階 計算表'!A62","v":0},{"$f":"+'1階 計算表'!H62-'1階 計算表'!D62","v":0},{"$f":"+'1階 計算表'!J62-'1階 計算表'!F62","v":0},0,null,null,{"$f":"+例!V10-例!R10","v":0},{"$f":"+例!X10-例!T10","v":0},{"$f":"+IF(H58>0,G58+1,G58)","v":0},null,null,null,{"$f":"+'2階 計算表'!H62-'2階 計算表'!D62","v":0},{"$f":"+'2階 計算表'!J62-'2階 計算表'!F62","v":0},0]
[{"$f":"+'1階 計算表'!A63","v":0},{"$f":"+'1階 計算表'!H63-'1階 計算表'!D63","v":0},{"$f":"+'1階 計算表'!J63-'1階 計算表'!F63","v":0},0,null,null,{"$f":"+例!#REF!-例!#REF!","v":{"$error":"#REF!"}},{"$f":"+例!#REF!-例!#REF!","v":{"$error":"#REF!"}},{"$error":"#REF!"},null,null,null,{"$f":"+'2階 計算表'!H63-'2階 計算表'!D63","v":0},{"$f":"+'2階 計算表'!J63-'2階 計算表'!F63","v":0},0]
[{"$f":"+'1階 計算表'!A64","v":0},{"$f":"+'1階 計算表'!H64-'1階 計算表'!D64","v":0},{"$f":"+'1階 計算表'!J64-'1階 計算表'!F64","v":0},0,null,null,null,null,null,null,null,null,{"$f":"+'2階 計算表'!H64-'2階 計算表'!D64","v":0},{"$f":"+'2階 計算表'!J64-'2階 計算表'!F64","v":0},0]
[{"$f":"+'1階 計算表'!A65","v":0},{"$f":"+'1階 計算表'!H65-'1階 計算表'!D65","v":0},{"$f":"+'1階 計算表'!J65-'1階 計算表'!F65","v":0},0,null,null,null,null,null,null,null,null,{"$f":"+'2階 計算表'!H65-'2階 計算表'!D65","v":0},{"$f":"+'2階 計算表'!J65-'2階 計算表'!F65","v":0},0]
[{"$f":"+'1階 計算表'!A66","v":0},{"$f":"+'1階 計算表'!H66-'1階 計算表'!D66","v":0},{"$f":"+'1階 計算表'!J66-'1階 計算表'!F66","v":0},0,null,null,null,null,null,null,null,null,{"$f":"+'2階 計算表'!H66-'2階 計算表'!D66","v":0},{"$f":"+'2階 計算表'!J66-'2階 計算表'!F66","v":0},0]
[{"$f":"+'1階 計算表'!A67","v":0},{"$f":"+'1階 計算表'!H67-'1階 計算表'!D67","v":0},{"$f":"+'1階 計算表'!J67-'1階 計算表'!F67","v":0},0,null,null,null,null,null,null,null,null,{"$f":"+'2階 計算表'!H67-'2階 計算表'!D67","v":0},{"$f":"+'2階 計算表'!J67-'2階 計算表'!F67","v":0},0]
[{"$f":"+'1階 計算表'!A68","v":0},{"$f":"+'1階 計算表'!H68-'1階 計算表'!D68","v":0},{"$f":"+'1階 計算表'!J68-'1階 計算表'!F68","v":0},0,null,null,{"$f":"+例!V12-例!R12","v":0},{"$f":"+例!X12-例!T12","v":0},{"$f":"+IF(H64>0,G64+1,G64)","v":0},null,null,null,{"$f":"+'2階 計算表'!H68-'2階 計算表'!D68","v":0},{"$f":"+'2階 計算表'!J68-'2階 計算表'!F68","v":0},0]
[{"$f":"+'1階 計算表'!A69","v":0},{"$f":"+'1階 計算表'!H69-'1階 計算表'!D69","v":0},{"$f":"+'1階 計算表'!J69-'1階 計算表'!F69","v":0},0,null,null,{"$f":"+例!#REF!-例!#REF!","v":{"$error":"#REF!"}},{"$f":"+例!#REF!-例!#REF!","v":{"$error":"#REF!"}},{"$error":"#REF!"},null,null,null,{"$f":"+'2階 計算表'!H69-'2階 計算表'!D69","v":0},{"$f":"+'2階 計算表'!J69-'2階 計算表'!F69","v":0},0]
[{"$f":"+'1階 計算表'!A70","v":0},{"$f":"+'1階 計算表'!H70-'1階 計算表'!D70","v":0},{"$f":"+'1階 計算表'!J70-'1階 計算表'!F70","v":0},0,null,null,null,null,null,null,null,null,{"$f":"+'2階 計算表'!H70-'2階 計算表'!D70","v":0},{"$f":"+'2階 計算表'!J70-'2階 計算表'!F70","v":0},0]
[{"$f":"+'1階 計算表'!A71","v":0},{"$f":"+'1階 計算表'!H71-'1階 計算表'!D71","v":0},{"$f":"+'1階 計算表'!J71-'1階 計算表'!F71","v":0},0,null,null,null,null,null,null,null,null,{"$f":"+'2階 計算表'!H71-'2階 計算表'!D71","v":0},{"$f":"+'2階 計算表'!J71-'2階 計算表'!F71","v":0},0]
[{"$f":"+'1階 計算表'!A72","v":0},{"$f":"+'1階 計算表'!H72-'1階 計算表'!D72","v":0},{"$f":"+'1階 計算表'!J72-'1階 計算表'!F72","v":0},0,null,null,null,null,null,null,null,null,{"$f":"+'2階 計算表'!H72-'2階 計算表'!D72","v":0},{"$f":"+'2階 計算表'!J72-'2階 計算表'!F72","v":0},0]
[{"$f":"+'1階 計算表'!A73","v":0},{"$f":"+'1階 計算表'!H73-'1階 計算表'!D73","v":0},{"$f":"+'1階 計算表'!J73-'1階 計算表'!F73","v":0},0,null,null,null,null,null,null,null,null,{"$f":"+'2階 計算表'!H73-'2階 計算表'!D73","v":0},{"$f":"+'2階 計算表'!J73-'2階 計算表'!F73","v":0},0]
[{"$f":"+'1階 計算表'!A74","v":0},{"$f":"+'1階 計算表'!H74-'1階 計算表'!D74","v":0},{"$f":"+'1階 計算表'!J74-'1階 計算表'!F74","v":0},0,null,null,{"$f":"+例!V14-例!R14","v":0},{"$f":"+例!X14-例!T14","v":0},{"$f":"+IF(H70>0,G70+1,G70)","v":0},null,null,null,{"$f":"+'2階 計算表'!H74-'2階 計算表'!D74","v":0},{"$f":"+'2階 計算表'!J74-'2階 計算表'!F74","v":0},0]
[{"$f":"+'1階 計算表'!A75","v":0},{"$f":"+'1階 計算表'!H75-'1階 計算表'!D75","v":0},{"$f":"+'1階 計算表'!J75-'1階 計算表'!F75","v":0},0,null,null,{"$f":"+例!#REF!-例!#REF!","v":{"$error":"#REF!"}},{"$f":"+例!#REF!-例!#REF!","v":{"$error":"#REF!"}},{"$error":"#REF!"},null,null,null,{"$f":"+'2階 計算表'!H75-'2階 計算表'!D75","v":0},{"$f":"+'2階 計算表'!J75-'2階 計算表'!F75","v":0},0]
[{"$f":"+'1階 計算表'!A76","v":0},{"$f":"+'1階 計算表'!H76-'1階 計算表'!D76","v":0},{"$f":"+'1階 計算表'!J76-'1階 計算表'!F76","v":0},0,null,null,null,null,null,null,null,null,{"$f":"+'2階 計算表'!H76-'2階 計算表'!D76","v":0},{"$f":"+'2階 計算表'!J76-'2階 計算表'!F76","v":0},0]
[null,null,null,null,null,null,null,null,null,null,null,null,{"$f":"+'2階 計算表'!H77-'2階 計算表'!D77","v":0},{"$f":"+'2階 計算表'!J77-'2階 計算表'!F77","v":0},0]
[null,null,null,null,null,null,null,null,null,null,null,null,{"$f":"+'2階 計算表'!H78-'2階 計算表'!D78","v":0},{"$f":"+'2階 計算表'!J78-'2階 計算表'!F78","v":0},0]
[null,null,null,null,null,null,null,null,null,null,null,null,{"$f":"+'2階 計算表'!H79-'2階 計算表'!D79","v":0},{"$f":"+'2階 計算表'!J79-'2階 計算表'!F79","v":0},0]
[null,null,null,null,null,null,{"$f":"+例!V16-例!R16","v":4},{"$f":"+例!X16-例!T16","v":-30},{"$f":"+IF(H76>0,G76+1,G76)","v":4},null,null,null,{"$f":"+'2階 計算表'!H80-'2階 計算表'!D80","v":0},{"$f":"+'2階 計算表'!J80-'2階 計算表'!F80","v":0},0]
[null,null,null,null,null,null,{"$f":"+例!#REF!-例!#REF!","v":{"$error":"#REF!"}},{"$f":"+例!#REF!-例!#REF!","v":{"$error":"#REF!"}},{"$f":"+IF(H77>0,G77+1,G77)","v":{"$error":"#REF!"}},null,null,null,{"$f":"+'2階 計算表'!H81-'2階 計算表'!D81","v":0},{"$f":"+'2階 計算表'!J81-'2階 計算表'!F81","v":0},0]
[null,null,null,null,null,null,{"$f":"+例!#REF!-例!#REF!","v":{"$error":"#REF!"}},{"$f":"+例!#REF!-例!#REF!","v":{"$error":"#REF!"}},{"$error":"#REF!"},null,null,null,{"$f":"+'2階 計算表'!H82-'2階 計算表'!D82","v":0},{"$f":"+'2階 計算表'!J82-'2階 計算表'!F82","v":0},0]
[null,null,null,null,null,null,{"$f":"+例!#REF!-例!#REF!","v":{"$error":"#REF!"}},{"$f":"+例!#REF!-例!#REF!","v":{"$error":"#REF!"}},{"$error":"#REF!"},null,null,null,{"$f":"+'2階 計算表'!H83-'2階 計算表'!D83","v":0},{"$f":"+'2階 計算表'!J83-'2階 計算表'!F83","v":0},0]
[null,null,null,null,null,null,{"$f":"+例!#REF!-例!#REF!","v":{"$error":"#REF!"}},{"$f":"+例!#REF!-例!#REF!","v":{"$error":"#REF!"}},{"$error":"#REF!"},null,null,null,{"$f":"+'2階 計算表'!H84-'2階 計算表'!D84","v":0},{"$f":"+'2階 計算表'!J84-'2階 計算表'!F84","v":0},0]
[null,null,null,null,null,null,{"$f":"+例!V17-例!R17","v":0},{"$f":"+例!X17-例!T17","v":0},0,null,null,null,{"$f":"+'2階 計算表'!H85-'2階 計算表'!D85","v":0},{"$f":"+'2階 計算表'!J85-'2階 計算表'!F85","v":0},0]
[null,null,null,null,null,null,{"$f":"+例!V18-例!R18","v":0},{"$f":"+例!X18-例!T18","v":0},0,null,null,null,{"$f":"+'2階 計算表'!H86-'2階 計算表'!D86","v":0},{"$f":"+'2階 計算表'!J86-'2階 計算表'!F86","v":0},0]
[null,null,null,null,null,null,{"$f":"+例!V19-例!R19","v":0},{"$f":"+例!X19-例!T19","v":0},0,null,null,null,{"$f":"+'2階 計算表'!H87-'2階 計算表'!D87","v":0},{"$f":"+'2階 計算表'!J87-'2階 計算表'!F87","v":0},0]
[null,null,null,null,null,null,{"$f":"+例!V20-例!R20","v":0},{"$f":"+例!X20-例!T20","v":0},0,null,null,null,{"$f":"+'2階 計算表'!H88-'2階 計算表'!D88","v":0},{"$f":"+'2階 計算表'!J88-'2階 計算表'!F88","v":0},0]
[null,null,null,null,null,null,{"$f":"+例!V21-例!R21","v":0},{"$f":"+例!X21-例!T21","v":0},0]
[null,null,null,null,null,null,{"$f":"+例!V22-例!R22","v":0},{"$f":"+例!X22-例!T22","v":0},0]
[null,null,null,null,null,null,{"$f":"+例!V23-例!R23","v":0},{"$f":"+例!X23-例!T23","v":0},0]
[null,null,null,null,null,null,{"$f":"+例!V24-例!R24","v":0},{"$f":"+例!X24-例!T24","v":0},0]
[null,null,null,null,null,null,{"$f":"+例!V25-例!R25","v":0},{"$f":"+例!X25-例!T25","v":0},0]
[null,null,null,null,null,null,{"$f":"+例!V26-例!R26","v":0},{"$f":"+例!X26-例!T26","v":0},0]
[null,null,null,null,null,null,{"$f":"+例!V27-例!R27","v":0},{"$f":"+例!X27-例!T27","v":0},0]
[null,null,null,null,null,null,{"$f":"+例!V28-例!R28","v":0},{"$f":"+例!X28-例!T28","v":0},0]
[null,null,null,null,null,null,{"$f":"+例!V29-例!R29","v":0},{"$f":"+例!X29-例!T29","v":0},0]
[null,null,null,null,null,null,{"$f":"+例!V30-例!R30","v":0},{"$f":"+例!X30-例!T30","v":0},0]
[null,null,null,null,null,null,{"$f":"+例!V31-例!R31","v":0},{"$f":"+例!X31-例!T31","v":0},0]
[null,null,null,null,null,null,{"$f":"+例!V32-例!R32","v":0},{"$f":"+例!X32-例!T32","v":0},0]
[null,null,null,null,null,null,{"$f":"+例!V33-例!R33","v":0},{"$f":"+例!X33-例!T33","v":0},0]
[null,null,null,null,null,null,{"$f":"+例!V34-例!R34","v":0},{"$f":"+例!X34-例!T34","v":0},0]
[null,null,null,null,null,null,{"$f":"+例!V35-例!R35","v":0},{"$f":"+例!X35-例!T35","v":0},0]
[null,null,null,null,null,null,{"$f":"+例!V36-例!R36","v":0},{"$f":"+例!X36-例!T36","v":0},0]
[null,null,null,null,null,null,{"$f":"+例!V37-例!R37","v":0},{"$f":"+例!X37-例!T37","v":0},0]
[null,null,null,null,null,null,{"$f":"+例!V38-例!R38","v":0},{"$f":"+例!X38-例!T38","v":0},0]
[null,null,null,null,null,null,{"$f":"+例!V39-例!R39","v":0},{"$f":"+例!X39-例!T39","v":0},0]
[null,null,null,null,null,null,{"$f":"+例!V40-例!R40","v":0},{"$f":"+例!X40-例!T40","v":0},0]

{"sheet":"Sheet6","index":4,"n_rows":33,"n_cols":33,"rows_kept":33,"cut":false,"hidden":true,"merged":[]}
["隠岐島文化会館"]
[]
[{"$f":"+'1階 計算表'!A7","v":"大ホール"},{"$f":"IF(+'1階 計算表'!B7=\"\",\"\",'1階 計算表'!B7)","v":"１時間単位"},{"$f":"IF(+'1階 計算表'!C7=\"\",\"\",'1階 計算表'!C7)","v":"　8：30～22：00"},{"$f":"IF(+'1階 計算表'!D7=\"\",\"\",'1階 計算表'!D7)","v":""},{"$f":"IF(+'1階 計算表'!E7=\"\",\"\",'1階 計算表'!E7)","v":"："},{"$f":"IF(+'1階 計算表'!F7=\"\",\"\",'1階 計算表'!F7)","v":""},{"$f":"IF(+'1階 計算表'!G7=\"\",\"\",'1階 計算表'!G7)","v":"～"},{"$f":"IF(+'1階 計算表'!H7=\"\",\"\",'1階 計算表'!H7)","v":""},{"$f":"IF(+'1階 計算表'!I7=\"\",\"\",'1階 計算表'!I7)","v":"："},{"$f":"IF(+'1階 計算表'!J7=\"\",\"\",'1階 計算表'!J7)","v":""},{"$f":"IF(+'1階 計算表'!K7=\"\",\"\",'1階 計算表'!K7)","v":0},{"$f":"IF(+'1階 計算表'!L7=\"\",\"\",'1階 計算表'!L7)","v":4810},{"$f":"IF(+'1階 計算表'!M7=\"\",\"\",'1階 計算表'!M7)","v":0},{"$f":"+IF(M3=0,0,1)","v":0},{"$f":"+N3","v":0},null,{"$f":"+'2階 計算表'!A7","v":"集会室"},{"$f":"IF('2階 計算表'!B7=\"\",\"\",'2階 計算表'!B7)","v":"１時間単位"},{"$f":"IF('2階 計算表'!C7=\"\",\"\",'2階 計算表'!C7)","v":"　8：30～22：00"},{"$f":"IF('2階 計算表'!D7=\"\",\"\",'2階 計算表'!D7)","v":""},{"$f":"IF('2階 計算表'!E7=\"\",\"\",'2階 計算表'!E7)","v":"："},{"$f":"IF('2階 計算表'!F7=\"\",\"\",'2階 計算表'!F7)","v":""},{"$f":"IF('2階 計算表'!G7=\"\",\"\",'2階 計算表'!G7)","v":"～"},{"$f":"IF('2階 計算表'!H7=\"\",\"\",'2階 計算表'!H7)","v":""},{"$f":"IF('2階 計算表'!I7=\"\",\"\",'2階 計算表'!I7)","v":"："},{"$f":"IF('2階 計算表'!J7=\"\",\"\",'2階 計算表'!J7)","v":""},{"$f":"IF('2階 計算表'!K7=\"\",\"\",'2階 計算表'!K7)","v":0},{"$f":"IF('2階 計算表'!L7=\"\",\"\",'2階 計算表'!L7)","v":1570},{"$f":"IF('2階 計算表'!M7=\"\",\"\",'2階 計算表'!M7)","v":0},{"$f":"+IF(AC3=0,0,1)","v":0},{"$f":"+AD3","v":0},null,{"$f":"IF(AE3=0,0,IF(AF2=0,0,2))","v":0}]
[{"$f":"+'1階 計算表'!A8","v":"ステージのみ利用"},{"$f":"IF(+'1階 計算表'!B8=\"\",\"\",'1階 計算表'!B8)","v":"１時間単位"},{"$f":"IF(+'1階 計算表'!C8=\"\",\"\",'1階 計算表'!C8)","v":"8：30～22：00"},{"$f":"IF(+'1階 計算表'!D8=\"\",\"\",'1階 計算表'!D8)","v":""},{"$f":"IF(+'1階 計算表'!E8=\"\",\"\",'1階 計算表'!E8)","v":"："},{"$f":"IF(+'1階 計算表'!F8=\"\",\"\",'1階 計算表'!F8)","v":""},{"$f":"IF(+'1階 計算表'!G8=\"\",\"\",'1階 計算表'!G8)","v":"～"},{"$f":"IF(+'1階 計算表'!H8=\"\",\"\",'1階 計算表'!H8)","v":""},{"$f":"IF(+'1階 計算表'!I8=\"\",\"\",'1階 計算表'!I8)","v":"："},{"$f":"IF(+'1階 計算表'!J8=\"\",\"\",'1階 計算表'!J8)","v":""},{"$f":"IF(+'1階 計算表'!K8=\"\",\"\",'1階 計算表'!K8)","v":0},{"$f":"IF(+'1階 計算表'!L8=\"\",\"\",'1階 計算表'!L8)","v":1360},{"$f":"IF(+'1階 計算表'!M8=\"\",\"\",'1階 計算表'!M8)","v":0},{"$f":"+IF(M4=0,0,1)","v":0},{"$f":"+N4","v":0},{"$f":"IF(N4=0,0,IF(#REF!=0,\"\",2))","v":0},null,{"$f":"IF('2階 計算表'!B8=\"\",\"\",'2階 計算表'!B8)","v":""},{"$f":"IF('2階 計算表'!C8=\"\",\"\",'2階 計算表'!C8)","v":""},{"$f":"IF('2階 計算表'!D8=\"\",\"\",'2階 計算表'!D8)","v":""},{"$f":"IF('2階 計算表'!E8=\"\",\"\",'2階 計算表'!E8)","v":""},{"$f":"IF('2階 計算表'!F8=\"\",\"\",'2階 計算表'!F8)","v":""},{"$f":"IF('2階 計算表'!G8=\"\",\"\",'2階 計算表'!G8)","v":""},{"$f":"IF('2階 計算表'!H8=\"\",\"\",'2階 計算表'!H8)","v":""},{"$f":"IF('2階 計算表'!I8=\"\",\"\",'2階 計算表'!I8)","v":""},{"$f":"IF('2階 計算表'!J8=\"\",\"\",'2階 計算表'!J8)","v":""},{"$f":"IF('2階 計算表'!K8=\"\",\"\",'2階 計算表'!K8)","v":""},{"$f":"IF('2階 計算表'!L8=\"\",\"\",'2階 計算表'!L8)","v":""},{"$f":"IF('2階 計算表'!M8=\"\",\"\",'2階 計算表'!M8)","v":""}]
[{"$f":"+'1階 計算表'!A9","v":"大ホール空調"},{"$f":"IF(+'1階 計算表'!B9=\"\",\"\",'1階 計算表'!B9)","v":"１時間単位"},{"$f":"IF(+'1階 計算表'!C9=\"\",\"\",'1階 計算表'!C9)","v":"8：30～22：00"},{"$f":"IF(+'1階 計算表'!D9=\"\",\"\",'1階 計算表'!D9)","v":""},{"$f":"IF(+'1階 計算表'!E9=\"\",\"\",'1階 計算表'!E9)","v":"："},{"$f":"IF(+'1階 計算表'!F9=\"\",\"\",'1階 計算表'!F9)","v":""},{"$f":"IF(+'1階 計算表'!G9=\"\",\"\",'1階 計算表'!G9)","v":"～"},{"$f":"IF(+'1階 計算表'!H9=\"\",\"\",'1階 計算表'!H9)","v":""},{"$f":"IF(+'1階 計算表'!I9=\"\",\"\",'1階 計算表'!I9)","v":"："},{"$f":"IF(+'1階 計算表'!J9=\"\",\"\",'1階 計算表'!J9)","v":""},{"$f":"IF(+'1階 計算表'!K9=\"\",\"\",'1階 計算表'!K9)","v":0},{"$f":"IF(+'1階 計算表'!L9=\"\",\"\",'1階 計算表'!L9)","v":1360},{"$f":"IF(+'1階 計算表'!M9=\"\",\"\",'1階 計算表'!M9)","v":0},0,0,{"$f":"IF(N5=0,0,IF(O4=0,\"\",2))","v":0},{"$f":"+'2階 計算表'!A9","v":"調理室"},{"$f":"IF('2階 計算表'!B9=\"\",\"\",'2階 計算表'!B9)","v":"１時間単位"},{"$f":"IF('2階 計算表'!C9=\"\",\"\",'2階 計算表'!C9)","v":"8：30～22：00"},{"$f":"IF('2階 計算表'!D9=\"\",\"\",'2階 計算表'!D9)","v":""},{"$f":"IF('2階 計算表'!E9=\"\",\"\",'2階 計算表'!E9)","v":"："},{"$f":"IF('2階 計算表'!F9=\"\",\"\",'2階 計算表'!F9)","v":""},{"$f":"IF('2階 計算表'!G9=\"\",\"\",'2階 計算表'!G9)","v":"～"},{"$f":"IF('2階 計算表'!H9=\"\",\"\",'2階 計算表'!H9)","v":""},{"$f":"IF('2階 計算表'!I9=\"\",\"\",'2階 計算表'!I9)","v":"："},{"$f":"IF('2階 計算表'!J9=\"\",\"\",'2階 計算表'!J9)","v":""},{"$f":"IF('2階 計算表'!K9=\"\",\"\",'2階 計算表'!K9)","v":0},{"$f":"IF('2階 計算表'!L9=\"\",\"\",'2階 計算表'!L9)","v":470},{"$f":"IF('2階 計算表'!M9=\"\",\"\",'2階 計算表'!M9)","v":0},{"$f":"+IF(AC5=0,0,1)","v":0},{"$f":"+AD5","v":0}]
[null,{"$f":"IF(+'1階 計算表'!B10=\"\",\"\",'1階 計算表'!B10)","v":""},{"$f":"IF(+'1階 計算表'!C10=\"\",\"\",'1階 計算表'!C10)","v":""},{"$f":"IF(+'1階 計算表'!D10=\"\",\"\",'1階 計算表'!D10)","v":""},{"$f":"IF(+'1階 計算表'!E10=\"\",\"\",'1階 計算表'!E10)","v":""},{"$f":"IF(+'1階 計算表'!F10=\"\",\"\",'1階 計算表'!F10)","v":""},{"$f":"IF(+'1階 計算表'!G10=\"\",\"\",'1階 計算表'!G10)","v":""},{"$f":"IF(+'1階 計算表'!H10=\"\",\"\",'1階 計算表'!H10)","v":""},{"$f":"IF(+'1階 計算表'!I10=\"\",\"\",'1階 計算表'!I10)","v":""},{"$f":"IF(+'1階 計算表'!J10=\"\",\"\",'1階 計算表'!J10)","v":""},{"$f":"IF(+'1階 計算表'!K10=\"\",\"\",'1階 計算表'!K10)","v":""},{"$f":"IF(+'1階 計算表'!L10=\"\",\"\",'1階 計算表'!L10)","v":""},{"$f":"IF(+'1階 計算表'!M10=\"\",\"\",'1階 計算表'!M10)","v":""},null,null,null,null,{"$f":"IF('2階 計算表'!B10=\"\",\"\",'2階 計算表'!B10)","v":""},{"$f":"IF('2階 計算表'!C10=\"\",\"\",'2階 計算表'!C10)","v":""},{"$f":"IF('2階 計算表'!D10=\"\",\"\",'2階 計算表'!D10)","v":""},{"$f":"IF('2階 計算表'!E10=\"\",\"\",'2階 計算表'!E10)","v":""},{"$f":"IF('2階 計算表'!F10=\"\",\"\",'2階 計算表'!F10)","v":""},{"$f":"IF('2階 計算表'!G10=\"\",\"\",'2階 計算表'!G10)","v":""},{"$f":"IF('2階 計算表'!H10=\"\",\"\",'2階 計算表'!H10)","v":""},{"$f":"IF('2階 計算表'!I10=\"\",\"\",'2階 計算表'!I10)","v":""},{"$f":"IF('2階 計算表'!J10=\"\",\"\",'2階 計算表'!J10)","v":""},{"$f":"IF('2階 計算表'!K10=\"\",\"\",'2階 計算表'!K10)","v":""},{"$f":"IF('2階 計算表'!L10=\"\",\"\",'2階 計算表'!L10)","v":""},{"$f":"IF('2階 計算表'!M10=\"\",\"\",'2階 計算表'!M10)","v":""}]
[{"$f":"+'1階 計算表'!A11","v":"保養室"},{"$f":"IF(+'1階 計算表'!B11=\"\",\"\",'1階 計算表'!B11)","v":"１時間単位"},{"$f":"IF(+'1階 計算表'!C11=\"\",\"\",'1階 計算表'!C11)","v":"　8：30～22：00"},{"$f":"IF(+'1階 計算表'!D11=\"\",\"\",'1階 計算表'!D11)","v":""},{"$f":"IF(+'1階 計算表'!E11=\"\",\"\",'1階 計算表'!E11)","v":"："},{"$f":"IF(+'1階 計算表'!F11=\"\",\"\",'1階 計算表'!F11)","v":""},{"$f":"IF(+'1階 計算表'!G11=\"\",\"\",'1階 計算表'!G11)","v":"～"},{"$f":"IF(+'1階 計算表'!H11=\"\",\"\",'1階 計算表'!H11)","v":""},{"$f":"IF(+'1階 計算表'!I11=\"\",\"\",'1階 計算表'!I11)","v":"："},{"$f":"IF(+'1階 計算表'!J11=\"\",\"\",'1階 計算表'!J11)","v":""},{"$f":"IF(+'1階 計算表'!K11=\"\",\"\",'1階 計算表'!K11)","v":0},{"$f":"IF(+'1階 計算表'!L11=\"\",\"\",'1階 計算表'!L11)","v":470},{"$f":"IF(+'1階 計算表'!M11=\"\",\"\",'1階 計算表'!M11)","v":0},{"$f":"+IF(M7=0,0,1)","v":0},{"$f":"+N7","v":0},null,{"$f":"+'2階 計算表'!A11","v":"青年研修室"},{"$f":"IF('2階 計算表'!B11=\"\",\"\",'2階 計算表'!B11)","v":"１時間単位"},{"$f":"IF('2階 計算表'!C11=\"\",\"\",'2階 計算表'!C11)","v":"　8：30～22：00"},{"$f":"IF('2階 計算表'!D11=\"\",\"\",'2階 計算表'!D11)","v":""},{"$f":"IF('2階 計算表'!E11=\"\",\"\",'2階 計算表'!E11)","v":"："},{"$f":"IF('2階 計算表'!F11=\"\",\"\",'2階 計算表'!F11)","v":""},{"$f":"IF('2階 計算表'!G11=\"\",\"\",'2階 計算表'!G11)","v":"～"},{"$f":"IF('2階 計算表'!H11=\"\",\"\",'2階 計算表'!H11)","v":""},{"$f":"IF('2階 計算表'!I11=\"\",\"\",'2階 計算表'!I11)","v":"："},{"$f":"IF('2階 計算表'!J11=\"\",\"\",'2階 計算表'!J11)","v":""},{"$f":"IF('2階 計算表'!K11=\"\",\"\",'2階 計算表'!K11)","v":0},{"$f":"IF('2階 計算表'!L11=\"\",\"\",'2階 計算表'!L11)","v":470},{"$f":"IF('2階 計算表'!M11=\"\",\"\",'2階 計算表'!M11)","v":0},{"$f":"+IF(AC7=0,0,1)","v":0},{"$f":"+AD7","v":0}]
[null,{"$f":"IF(+'1階 計算表'!B12=\"\",\"\",'1階 計算表'!B12)","v":""},{"$f":"IF(+'1階 計算表'!C12=\"\",\"\",'1階 計算表'!C12)","v":""},{"$f":"IF(+'1階 計算表'!D12=\"\",\"\",'1階 計算表'!D12)","v":""},{"$f":"IF(+'1階 計算表'!E12=\"\",\"\",'1階 計算表'!E12)","v":""},{"$f":"IF(+'1階 計算表'!F12=\"\",\"\",'1階 計算表'!F12)","v":""},{"$f":"IF(+'1階 計算表'!G12=\"\",\"\",'1階 計算表'!G12)","v":""},{"$f":"IF(+'1階 計算表'!H12=\"\",\"\",'1階 計算表'!H12)","v":""},{"$f":"IF(+'1階 計算表'!I12=\"\",\"\",'1階 計算表'!I12)","v":""},{"$f":"IF(+'1階 計算表'!J12=\"\",\"\",'1階 計算表'!J12)","v":""},{"$f":"IF(+'1階 計算表'!K12=\"\",\"\",'1階 計算表'!K12)","v":""},{"$f":"IF(+'1階 計算表'!L12=\"\",\"\",'1階 計算表'!L12)","v":""},{"$f":"IF(+'1階 計算表'!M12=\"\",\"\",'1階 計算表'!M12)","v":""},null,null,null,null,{"$f":"IF('2階 計算表'!B12=\"\",\"\",'2階 計算表'!B12)","v":""},{"$f":"IF('2階 計算表'!C12=\"\",\"\",'2階 計算表'!C12)","v":""},{"$f":"IF('2階 計算表'!D12=\"\",\"\",'2階 計算表'!D12)","v":""},{"$f":"IF('2階 計算表'!E12=\"\",\"\",'2階 計算表'!E12)","v":""},{"$f":"IF('2階 計算表'!F12=\"\",\"\",'2階 計算表'!F12)","v":""},{"$f":"IF('2階 計算表'!G12=\"\",\"\",'2階 計算表'!G12)","v":""},{"$f":"IF('2階 計算表'!H12=\"\",\"\",'2階 計算表'!H12)","v":""},{"$f":"IF('2階 計算表'!I12=\"\",\"\",'2階 計算表'!I12)","v":""},{"$f":"IF('2階 計算表'!J12=\"\",\"\",'2階 計算表'!J12)","v":""},{"$f":"IF('2階 計算表'!K12=\"\",\"\",'2階 計算表'!K12)","v":""},{"$f":"IF('2階 計算表'!L12=\"\",\"\",'2階 計算表'!L12)","v":""},{"$f":"IF('2階 計算表'!M12=\"\",\"\",'2階 計算表'!M12)","v":""}]
[{"$f":"+'1階 計算表'!A13","v":"娯楽室"},{"$f":"IF(+'1階 計算表'!B13=\"\",\"\",'1階 計算表'!B13)","v":"１時間単位"},{"$f":"IF(+'1階 計算表'!C13=\"\",\"\",'1階 計算表'!C13)","v":"　8：30～22：00"},{"$f":"IF(+'1階 計算表'!D13=\"\",\"\",'1階 計算表'!D13)","v":""},{"$f":"IF(+'1階 計算表'!E13=\"\",\"\",'1階 計算表'!E13)","v":"："},{"$f":"IF(+'1階 計算表'!F13=\"\",\"\",'1階 計算表'!F13)","v":""},{"$f":"IF(+'1階 計算表'!G13=\"\",\"\",'1階 計算表'!G13)","v":"～"},{"$f":"IF(+'1階 計算表'!H13=\"\",\"\",'1階 計算表'!H13)","v":""},{"$f":"IF(+'1階 計算表'!I13=\"\",\"\",'1階 計算表'!I13)","v":"："},{"$f":"IF(+'1階 計算表'!J13=\"\",\"\",'1階 計算表'!J13)","v":""},{"$f":"IF(+'1階 計算表'!K13=\"\",\"\",'1階 計算表'!K13)","v":0},{"$f":"IF(+'1階 計算表'!L13=\"\",\"\",'1階 計算表'!L13)","v":470},{"$f":"IF(+'1階 計算表'!M13=\"\",\"\",'1階 計算表'!M13)","v":0},{"$f":"+IF(M9=0,0,1)","v":0},{"$f":"+N9","v":0},null,{"$f":"+'2階 計算表'!A13","v":"展示ホール"},{"$f":"IF('2階 計算表'!B13=\"\",\"\",'2階 計算表'!B13)","v":"１時間単位"},{"$f":"IF('2階 計算表'!C13=\"\",\"\",'2階 計算表'!C13)","v":"　8：30～22：00"},{"$f":"IF('2階 計算表'!D13=\"\",\"\",'2階 計算表'!D13)","v":""},{"$f":"IF('2階 計算表'!E13=\"\",\"\",'2階 計算表'!E13)","v":"："},{"$f":"IF('2階 計算表'!F13=\"\",\"\",'2階 計算表'!F13)","v":""},{"$f":"IF('2階 計算表'!G13=\"\",\"\",'2階 計算表'!G13)","v":"～"},{"$f":"IF('2階 計算表'!H13=\"\",\"\",'2階 計算表'!H13)","v":""},{"$f":"IF('2階 計算表'!I13=\"\",\"\",'2階 計算表'!I13)","v":"："},{"$f":"IF('2階 計算表'!J13=\"\",\"\",'2階 計算表'!J13)","v":""},{"$f":"IF('2階 計算表'!K13=\"\",\"\",'2階 計算表'!K13)","v":0},{"$f":"IF('2階 計算表'!L13=\"\",\"\",'2階 計算表'!L13)","v":470},{"$f":"IF('2階 計算表'!M13=\"\",\"\",'2階 計算表'!M13)","v":0},{"$f":"+IF(AC9=0,0,1)","v":0},{"$f":"+AD9","v":0}]
[null,{"$f":"IF(+'1階 計算表'!B14=\"\",\"\",'1階 計算表'!B14)","v":""},{"$f":"IF(+'1階 計算表'!C14=\"\",\"\",'1階 計算表'!C14)","v":""},{"$f":"IF(+'1階 計算表'!D14=\"\",\"\",'1階 計算表'!D14)","v":""},{"$f":"IF(+'1階 計算表'!E14=\"\",\"\",'1階 計算表'!E14)","v":""},{"$f":"IF(+'1階 計算表'!F14=\"\",\"\",'1階 計算表'!F14)","v":""},{"$f":"IF(+'1階 計算表'!G14=\"\",\"\",'1階 計算表'!G14)","v":""},{"$f":"IF(+'1階 計算表'!H14=\"\",\"\",'1階 計算表'!H14)","v":""},{"$f":"IF(+'1階 計算表'!I14=\"\",\"\",'1階 計算表'!I14)","v":""},{"$f":"IF(+'1階 計算表'!J14=\"\",\"\",'1階 計算表'!J14)","v":""},{"$f":"IF(+'1階 計算表'!K14=\"\",\"\",'1階 計算表'!K14)","v":""},{"$f":"IF(+'1階 計算表'!L14=\"\",\"\",'1階 計算表'!L14)","v":""},{"$f":"IF(+'1階 計算表'!M14=\"\",\"\",'1階 計算表'!M14)","v":""},null,null,null,null,{"$f":"IF('2階 計算表'!B14=\"\",\"\",'2階 計算表'!B14)","v":""},{"$f":"IF('2階 計算表'!C14=\"\",\"\",'2階 計算表'!C14)","v":""},{"$f":"IF('2階 計算表'!D14=\"\",\"\",'2階 計算表'!D14)","v":""},{"$f":"IF('2階 計算表'!E14=\"\",\"\",'2階 計算表'!E14)","v":""},{"$f":"IF('2階 計算表'!F14=\"\",\"\",'2階 計算表'!F14)","v":""},{"$f":"IF('2階 計算表'!G14=\"\",\"\",'2階 計算表'!G14)","v":""},{"$f":"IF('2階 計算表'!H14=\"\",\"\",'2階 計算表'!H14)","v":""},{"$f":"IF('2階 計算表'!I14=\"\",\"\",'2階 計算表'!I14)","v":""},{"$f":"IF('2階 計算表'!J14=\"\",\"\",'2階 計算表'!J14)","v":""},{"$f":"IF('2階 計算表'!K14=\"\",\"\",'2階 計算表'!K14)","v":""},{"$f":"IF('2階 計算表'!L14=\"\",\"\",'2階 計算表'!L14)","v":""},{"$f":"IF('2階 計算表'!M14=\"\",\"\",'2階 計算表'!M14)","v":""}]
[{"$f":"+'1階 計算表'!A15","v":"研修室"},{"$f":"IF(+'1階 計算表'!B15=\"\",\"\",'1階 計算表'!B15)","v":"１時間単位"},{"$f":"IF(+'1階 計算表'!C15=\"\",\"\",'1階 計算表'!C15)","v":"　8：30～22：00"},{"$f":"IF(+'1階 計算表'!D15=\"\",\"\",'1階 計算表'!D15)","v":""},{"$f":"IF(+'1階 計算表'!E15=\"\",\"\",'1階 計算表'!E15)","v":"："},{"$f":"IF(+'1階 計算表'!F15=\"\",\"\",'1階 計算表'!F15)","v":""},{"$f":"IF(+'1階 計算表'!G15=\"\",\"\",'1階 計算表'!G15)","v":"～"},{"$f":"IF(+'1階 計算表'!H15=\"\",\"\",'1階 計算表'!H15)","v":""},{"$f":"IF(+'1階 計算表'!I15=\"\",\"\",'1階 計算表'!I15)","v":"："},{"$f":"IF(+'1階 計算表'!J15=\"\",\"\",'1階 計算表'!J15)","v":""},{"$f":"IF(+'1階 計算表'!K15=\"\",\"\",'1階 計算表'!K15)","v":0},{"$f":"IF(+'1階 計算表'!L15=\"\",\"\",'1階 計算表'!L15)","v":470},{"$f":"IF(+'1階 計算表'!M15=\"\",\"\",'1階 計算表'!M15)","v":0},{"$f":"+IF(M11=0,0,1)","v":0},{"$f":"+N11","v":0},null,{"$f":"+'2階 計算表'!A15","v":"会議室"},{"$f":"IF('2階 計算表'!B15=\"\",\"\",'2階 計算表'!B15)","v":"１時間単位"},{"$f":"IF('2階 計算表'!C15=\"\",\"\",'2階 計算表'!C15)","v":"　8：30～22：00"},{"$f":"IF('2階 計算表'!D15=\"\",\"\",'2階 計算表'!D15)","v":""},{"$f":"IF('2階 計算表'!E15=\"\",\"\",'2階 計算表'!E15)","v":"："},{"$f":"IF('2階 計算表'!F15=\"\",\"\",'2階 計算表'!F15)","v":""},{"$f":"IF('2階 計算表'!G15=\"\",\"\",'2階 計算表'!G15)","v":"～"},{"$f":"IF('2階 計算表'!H15=\"\",\"\",'2階 計算表'!H15)","v":""},{"$f":"IF('2階 計算表'!I15=\"\",\"\",'2階 計算表'!I15)","v":"："},{"$f":"IF('2階 計算表'!J15=\"\",\"\",'2階 計算表'!J15)","v":""},{"$f":"IF('2階 計算表'!K15=\"\",\"\",'2階 計算表'!K15)","v":0},{"$f":"IF('2階 計算表'!L15=\"\",\"\",'2階 計算表'!L15)","v":310},{"$f":"IF('2階 計算表'!M15=\"\",\"\",'2階 計算表'!M15)","v":0},{"$f":"+IF(AC11=0,0,1)","v":0},{"$f":"+AD11","v":0}]
[null,{"$f":"IF(+'1階 計算表'!B16=\"\",\"\",'1階 計算表'!B16)","v":""},{"$f":"IF(+'1階 計算表'!C16=\"\",\"\",'1階 計算表'!C16)","v":""},{"$f":"IF(+'1階 計算表'!D16=\"\",\"\",'1階 計算表'!D16)","v":""},{"$f":"IF(+'1階 計算表'!E16=\"\",\"\",'1階 計算表'!E16)","v":""},{"$f":"IF(+'1階 計算表'!F16=\"\",\"\",'1階 計算表'!F16)","v":""},{"$f":"IF(+'1階 計算表'!G16=\"\",\"\",'1階 計算表'!G16)","v":""},{"$f":"IF(+'1階 計算表'!H16=\"\",\"\",'1階 計算表'!H16)","v":""},{"$f":"IF(+'1階 計算表'!I16=\"\",\"\",'1階 計算表'!I16)","v":""},{"$f":"IF(+'1階 計算表'!J16=\"\",\"\",'1階 計算表'!J16)","v":""},{"$f":"IF(+'1階 計算表'!K16=\"\",\"\",'1階 計算表'!K16)","v":""},{"$f":"IF(+'1階 計算表'!L16=\"\",\"\",'1階 計算表'!L16)","v":""},{"$f":"IF(+'1階 計算表'!M16=\"\",\"\",'1階 計算表'!M16)","v":""},null,null,null,null,{"$f":"IF('2階 計算表'!B16=\"\",\"\",'2階 計算表'!B16)","v":""},{"$f":"IF('2階 計算表'!C16=\"\",\"\",'2階 計算表'!C16)","v":""},{"$f":"IF('2階 計算表'!D16=\"\",\"\",'2階 計算表'!D16)","v":""},{"$f":"IF('2階 計算表'!E16=\"\",\"\",'2階 計算表'!E16)","v":""},{"$f":"IF('2階 計算表'!F16=\"\",\"\",'2階 計算表'!F16)","v":""},{"$f":"IF('2階 計算表'!G16=\"\",\"\",'2階 計算表'!G16)","v":""},{"$f":"IF('2階 計算表'!H16=\"\",\"\",'2階 計算表'!H16)","v":""},{"$f":"IF('2階 計算表'!I16=\"\",\"\",'2階 計算表'!I16)","v":""},{"$f":"IF('2階 計算表'!J16=\"\",\"\",'2階 計算表'!J16)","v":""},{"$f":"IF('2階 計算表'!K16=\"\",\"\",'2階 計算表'!K16)","v":""},{"$f":"IF('2階 計算表'!L16=\"\",\"\",'2階 計算表'!L16)","v":""},{"$f":"IF('2階 計算表'!M16=\"\",\"\",'2階 計算表'!M16)","v":""}]
[{"$f":"+'1階 計算表'!A17","v":"ホワイエ"},{"$f":"IF(+'1階 計算表'!B17=\"\",\"\",'1階 計算表'!B17)","v":"１時間単位"},{"$f":"IF(+'1階 計算表'!C17=\"\",\"\",'1階 計算表'!C17)","v":"　8：30～22：00"},{"$f":"IF(+'1階 計算表'!D17=\"\",\"\",'1階 計算表'!D17)","v":""},{"$f":"IF(+'1階 計算表'!E17=\"\",\"\",'1階 計算表'!E17)","v":"："},{"$f":"IF(+'1階 計算表'!F17=\"\",\"\",'1階 計算表'!F17)","v":""},{"$f":"IF(+'1階 計算表'!G17=\"\",\"\",'1階 計算表'!G17)","v":"～"},{"$f":"IF(+'1階 計算表'!H17=\"\",\"\",'1階 計算表'!H17)","v":""},{"$f":"IF(+'1階 計算表'!I17=\"\",\"\",'1階 計算表'!I17)","v":"："},{"$f":"IF(+'1階 計算表'!J17=\"\",\"\",'1階 計算表'!J17)","v":""},{"$f":"IF(+'1階 計算表'!K17=\"\",\"\",'1階 計算表'!K17)","v":0},{"$f":"IF(+'1階 計算表'!L17=\"\",\"\",'1階 計算表'!L17)","v":470},{"$f":"IF(+'1階 計算表'!M17=\"\",\"\",'1階 計算表'!M17)","v":0},{"$f":"+IF(M13=0,0,1)","v":0},{"$f":"+N13","v":0},null,{"$f":"+'2階 計算表'!A17","v":"産業研修室"},{"$f":"IF('2階 計算表'!B17=\"\",\"\",'2階 計算表'!B17)","v":"１時間単位"},{"$f":"IF('2階 計算表'!C17=\"\",\"\",'2階 計算表'!C17)","v":"　8：30～22：00"},{"$f":"IF('2階 計算表'!D17=\"\",\"\",'2階 計算表'!D17)","v":""},{"$f":"IF('2階 計算表'!E17=\"\",\"\",'2階 計算表'!E17)","v":"："},{"$f":"IF('2階 計算表'!F17=\"\",\"\",'2階 計算表'!F17)","v":""},{"$f":"IF('2階 計算表'!G17=\"\",\"\",'2階 計算表'!G17)","v":"～"},{"$f":"IF('2階 計算表'!H17=\"\",\"\",'2階 計算表'!H17)","v":""},{"$f":"IF('2階 計算表'!I17=\"\",\"\",'2階 計算表'!I17)","v":"："},{"$f":"IF('2階 計算表'!J17=\"\",\"\",'2階 計算表'!J17)","v":""},{"$f":"IF('2階 計算表'!K17=\"\",\"\",'2階 計算表'!K17)","v":0},{"$f":"IF('2階 計算表'!L17=\"\",\"\",'2階 計算表'!L17)","v":310},{"$f":"IF('2階 計算表'!M17=\"\",\"\",'2階 計算表'!M17)","v":0},{"$f":"+IF(AC13=0,0,1)","v":0},{"$f":"+AD13","v":0}]
[null,{"$f":"IF(+'1階 計算表'!B18=\"\",\"\",'1階 計算表'!B18)","v":""},{"$f":"IF(+'1階 計算表'!C18=\"\",\"\",'1階 計算表'!C18)","v":""},{"$f":"IF(+'1階 計算表'!D18=\"\",\"\",'1階 計算表'!D18)","v":""},{"$f":"IF(+'1階 計算表'!E18=\"\",\"\",'1階 計算表'!E18)","v":""},{"$f":"IF(+'1階 計算表'!F18=\"\",\"\",'1階 計算表'!F18)","v":""},{"$f":"IF(+'1階 計算表'!G18=\"\",\"\",'1階 計算表'!G18)","v":""},{"$f":"IF(+'1階 計算表'!H18=\"\",\"\",'1階 計算表'!H18)","v":""},{"$f":"IF(+'1階 計算表'!I18=\"\",\"\",'1階 計算表'!I18)","v":""},{"$f":"IF(+'1階 計算表'!J18=\"\",\"\",'1階 計算表'!J18)","v":""},{"$f":"IF(+'1階 計算表'!K18=\"\",\"\",'1階 計算表'!K18)","v":""},{"$f":"IF(+'1階 計算表'!L18=\"\",\"\",'1階 計算表'!L18)","v":""},{"$f":"IF(+'1階 計算表'!M18=\"\",\"\",'1階 計算表'!M18)","v":""},null,null,null,null,{"$f":"IF('2階 計算表'!B18=\"\",\"\",'2階 計算表'!B18)","v":""},{"$f":"IF('2階 計算表'!C18=\"\",\"\",'2階 計算表'!C18)","v":""},{"$f":"IF('2階 計算表'!D18=\"\",\"\",'2階 計算表'!D18)","v":""},{"$f":"IF('2階 計算表'!E18=\"\",\"\",'2階 計算表'!E18)","v":""},{"$f":"IF('2階 計算表'!F18=\"\",\"\",'2階 計算表'!F18)","v":""},{"$f":"IF('2階 計算表'!G18=\"\",\"\",'2階 計算表'!G18)","v":""},{"$f":"IF('2階 計算表'!H18=\"\",\"\",'2階 計算表'!H18)","v":""},{"$f":"IF('2階 計算表'!I18=\"\",\"\",'2階 計算表'!I18)","v":""},{"$f":"IF('2階 計算表'!J18=\"\",\"\",'2階 計算表'!J18)","v":""},{"$f":"IF('2階 計算表'!K18=\"\",\"\",'2階 計算表'!K18)","v":""},{"$f":"IF('2階 計算表'!L18=\"\",\"\",'2階 計算表'!L18)","v":""},{"$f":"IF('2階 計算表'!M18=\"\",\"\",'2階 計算表'!M18)","v":""}]
[{"$f":"+'1階 計算表'!A19","v":"コミュニケーションホール"},{"$f":"IF(+'1階 計算表'!B19=\"\",\"\",'1階 計算表'!B19)","v":"１時間単位"},{"$f":"IF(+'1階 計算表'!C19=\"\",\"\",'1階 計算表'!C19)","v":"　8：30～22：00"},{"$f":"IF(+'1階 計算表'!D19=\"\",\"\",'1階 計算表'!D19)","v":""},{"$f":"IF(+'1階 計算表'!E19=\"\",\"\",'1階 計算表'!E19)","v":"："},{"$f":"IF(+'1階 計算表'!F19=\"\",\"\",'1階 計算表'!F19)","v":""},{"$f":"IF(+'1階 計算表'!G19=\"\",\"\",'1階 計算表'!G19)","v":"～"},{"$f":"IF(+'1階 計算表'!H19=\"\",\"\",'1階 計算表'!H19)","v":""},{"$f":"IF(+'1階 計算表'!I19=\"\",\"\",'1階 計算表'!I19)","v":"："},{"$f":"IF(+'1階 計算表'!J19=\"\",\"\",'1階 計算表'!J19)","v":""},{"$f":"IF(+'1階 計算表'!K19=\"\",\"\",'1階 計算表'!K19)","v":0},{"$f":"IF(+'1階 計算表'!L19=\"\",\"\",'1階 計算表'!L19)","v":470},{"$f":"IF(+'1階 計算表'!M19=\"\",\"\",'1階 計算表'!M19)","v":0},{"$f":"+IF(M15=0,0,1)","v":0},{"$f":"+N15","v":0},null,null,{"$f":"IF('2階 計算表'!B19=\"\",\"\",'2階 計算表'!B19)","v":""},{"$f":"IF('2階 計算表'!C19=\"\",\"\",'2階 計算表'!C19)","v":""},{"$f":"IF('2階 計算表'!D19=\"\",\"\",'2階 計算表'!D19)","v":""},{"$f":"IF('2階 計算表'!E19=\"\",\"\",'2階 計算表'!E19)","v":""},{"$f":"IF('2階 計算表'!F19=\"\",\"\",'2階 計算表'!F19)","v":""},{"$f":"IF('2階 計算表'!G19=\"\",\"\",'2階 計算表'!G19)","v":""},{"$f":"IF('2階 計算表'!H19=\"\",\"\",'2階 計算表'!H19)","v":""},{"$f":"IF('2階 計算表'!I19=\"\",\"\",'2階 計算表'!I19)","v":""},{"$f":"IF('2階 計算表'!J19=\"\",\"\",'2階 計算表'!J19)","v":""},{"$f":"IF('2階 計算表'!K19=\"\",\"\",'2階 計算表'!K19)","v":"２階合計"},{"$f":"IF('2階 計算表'!L19=\"\",\"\",'2階 計算表'!L19)","v":""},{"$f":"IF('2階 計算表'!M19=\"\",\"\",'2階 計算表'!M19)","v":0}]
[null,{"$f":"IF(+'1階 計算表'!B20=\"\",\"\",'1階 計算表'!B20)","v":""},{"$f":"IF(+'1階 計算表'!C20=\"\",\"\",'1階 計算表'!C20)","v":""},{"$f":"IF(+'1階 計算表'!D20=\"\",\"\",'1階 計算表'!D20)","v":""},{"$f":"IF(+'1階 計算表'!E20=\"\",\"\",'1階 計算表'!E20)","v":""},{"$f":"IF(+'1階 計算表'!F20=\"\",\"\",'1階 計算表'!F20)","v":""},{"$f":"IF(+'1階 計算表'!G20=\"\",\"\",'1階 計算表'!G20)","v":""},{"$f":"IF(+'1階 計算表'!H20=\"\",\"\",'1階 計算表'!H20)","v":""},{"$f":"IF(+'1階 計算表'!I20=\"\",\"\",'1階 計算表'!I20)","v":""},{"$f":"IF(+'1階 計算表'!J20=\"\",\"\",'1階 計算表'!J20)","v":""},{"$f":"IF(+'1階 計算表'!K20=\"\",\"\",'1階 計算表'!K20)","v":""},{"$f":"IF(+'1階 計算表'!L20=\"\",\"\",'1階 計算表'!L20)","v":""},{"$f":"IF(+'1階 計算表'!M20=\"\",\"\",'1階 計算表'!M20)","v":""}]
[{"$f":"+'1階 計算表'!A21","v":"控室"},{"$f":"IF(+'1階 計算表'!B21=\"\",\"\",'1階 計算表'!B21)","v":"１時間単位"},{"$f":"IF(+'1階 計算表'!C21=\"\",\"\",'1階 計算表'!C21)","v":"　8：30～22：00"},{"$f":"IF(+'1階 計算表'!D21=\"\",\"\",'1階 計算表'!D21)","v":""},{"$f":"IF(+'1階 計算表'!E21=\"\",\"\",'1階 計算表'!E21)","v":"："},{"$f":"IF(+'1階 計算表'!F21=\"\",\"\",'1階 計算表'!F21)","v":""},{"$f":"IF(+'1階 計算表'!G21=\"\",\"\",'1階 計算表'!G21)","v":"～"},{"$f":"IF(+'1階 計算表'!H21=\"\",\"\",'1階 計算表'!H21)","v":""},{"$f":"IF(+'1階 計算表'!I21=\"\",\"\",'1階 計算表'!I21)","v":"："},{"$f":"IF(+'1階 計算表'!J21=\"\",\"\",'1階 計算表'!J21)","v":""},{"$f":"IF(+'1階 計算表'!K21=\"\",\"\",'1階 計算表'!K21)","v":0},{"$f":"IF(+'1階 計算表'!L21=\"\",\"\",'1階 計算表'!L21)","v":310},{"$f":"IF(+'1階 計算表'!M21=\"\",\"\",'1階 計算表'!M21)","v":0},{"$f":"+IF(M17=0,0,1)","v":0},{"$f":"+N17","v":0},null,null,null,null,null,null,null,null,null,null,null,null,null,null,{"$f":"+IF(AC17=0,\"\",1)","v":""}]
[null,{"$f":"IF(+'1階 計算表'!B22=\"\",\"\",'1階 計算表'!B22)","v":""},{"$f":"IF(+'1階 計算表'!C22=\"\",\"\",'1階 計算表'!C22)","v":""},{"$f":"IF(+'1階 計算表'!D22=\"\",\"\",'1階 計算表'!D22)","v":""},{"$f":"IF(+'1階 計算表'!E22=\"\",\"\",'1階 計算表'!E22)","v":""},{"$f":"IF(+'1階 計算表'!F22=\"\",\"\",'1階 計算表'!F22)","v":""},{"$f":"IF(+'1階 計算表'!G22=\"\",\"\",'1階 計算表'!G22)","v":""},{"$f":"IF(+'1階 計算表'!H22=\"\",\"\",'1階 計算表'!H22)","v":""},{"$f":"IF(+'1階 計算表'!I22=\"\",\"\",'1階 計算表'!I22)","v":""},{"$f":"IF(+'1階 計算表'!J22=\"\",\"\",'1階 計算表'!J22)","v":""},{"$f":"IF(+'1階 計算表'!K22=\"\",\"\",'1階 計算表'!K22)","v":""},{"$f":"IF(+'1階 計算表'!L22=\"\",\"\",'1階 計算表'!L22)","v":""},{"$f":"IF(+'1階 計算表'!M22=\"\",\"\",'1階 計算表'!M22)","v":""},null,null,null,null,null,null,null,null,null,null,null,null,null,null,null,null,""]
[{"$f":"+'1階 計算表'!A23","v":"小会議室"},{"$f":"IF(+'1階 計算表'!B23=\"\",\"\",'1階 計算表'!B23)","v":"１時間単位"},{"$f":"IF(+'1階 計算表'!C23=\"\",\"\",'1階 計算表'!C23)","v":"　8：30～22：00"},{"$f":"IF(+'1階 計算表'!D23=\"\",\"\",'1階 計算表'!D23)","v":""},{"$f":"IF(+'1階 計算表'!E23=\"\",\"\",'1階 計算表'!E23)","v":"："},{"$f":"IF(+'1階 計算表'!F23=\"\",\"\",'1階 計算表'!F23)","v":""},{"$f":"IF(+'1階 計算表'!G23=\"\",\"\",'1階 計算表'!G23)","v":"～"},{"$f":"IF(+'1階 計算表'!H23=\"\",\"\",'1階 計算表'!H23)","v":""},{"$f":"IF(+'1階 計算表'!I23=\"\",\"\",'1階 計算表'!I23)","v":"："},{"$f":"IF(+'1階 計算表'!J23=\"\",\"\",'1階 計算表'!J23)","v":""},{"$f":"IF(+'1階 計算表'!K23=\"\",\"\",'1階 計算表'!K23)","v":0},{"$f":"IF(+'1階 計算表'!L23=\"\",\"\",'1階 計算表'!L23)","v":310},{"$f":"IF(+'1階 計算表'!M23=\"\",\"\",'1階 計算表'!M23)","v":0},{"$f":"+IF(M19=0,0,1)","v":0},{"$f":"+N19","v":0},null,null,null,null,null,null,null,null,null,null,null,null,null,null,""]
[null,{"$f":"IF(+'1階 計算表'!B24=\"\",\"\",'1階 計算表'!B24)","v":""},{"$f":"IF(+'1階 計算表'!C24=\"\",\"\",'1階 計算表'!C24)","v":""},{"$f":"IF(+'1階 計算表'!D24=\"\",\"\",'1階 計算表'!D24)","v":""},{"$f":"IF(+'1階 計算表'!E24=\"\",\"\",'1階 計算表'!E24)","v":""},{"$f":"IF(+'1階 計算表'!F24=\"\",\"\",'1階 計算表'!F24)","v":""},{"$f":"IF(+'1階 計算表'!G24=\"\",\"\",'1階 計算表'!G24)","v":""},{"$f":"IF(+'1階 計算表'!H24=\"\",\"\",'1階 計算表'!H24)","v":""},{"$f":"IF(+'1階 計算表'!I24=\"\",\"\",'1階 計算表'!I24)","v":""},{"$f":"IF(+'1階 計算表'!J24=\"\",\"\",'1階 計算表'!J24)","v":""},{"$f":"IF(+'1階 計算表'!K24=\"\",\"\",'1階 計算表'!K24)","v":""},{"$f":"IF(+'1階 計算表'!L24=\"\",\"\",'1階 計算表'!L24)","v":""},{"$f":"IF(+'1階 計算表'!M24=\"\",\"\",'1階 計算表'!M24)","v":""},null,null,null,null,null,null,null,null,null,null,null,null,null,null,null,null,""]
[{"$f":"+'1階 計算表'!A25","v":"住民相談室"},{"$f":"IF(+'1階 計算表'!B25=\"\",\"\",'1階 計算表'!B25)","v":"１時間単位"},{"$f":"IF(+'1階 計算表'!C25=\"\",\"\",'1階 計算表'!C25)","v":"　8：30～22：00"},{"$f":"IF(+'1階 計算表'!D25=\"\",\"\",'1階 計算表'!D25)","v":""},{"$f":"IF(+'1階 計算表'!E25=\"\",\"\",'1階 計算表'!E25)","v":"："},{"$f":"IF(+'1階 計算表'!F25=\"\",\"\",'1階 計算表'!F25)","v":""},{"$f":"IF(+'1階 計算表'!G25=\"\",\"\",'1階 計算表'!G25)","v":"～"},{"$f":"IF(+'1階 計算表'!H25=\"\",\"\",'1階 計算表'!H25)","v":""},{"$f":"IF(+'1階 計算表'!I25=\"\",\"\",'1階 計算表'!I25)","v":"："},{"$f":"IF(+'1階 計算表'!J25=\"\",\"\",'1階 計算表'!J25)","v":""},{"$f":"IF(+'1階 計算表'!K25=\"\",\"\",'1階 計算表'!K25)","v":0},{"$f":"IF(+'1階 計算表'!L25=\"\",\"\",'1階 計算表'!L25)","v":310},{"$f":"IF(+'1階 計算表'!M25=\"\",\"\",'1階 計算表'!M25)","v":0},{"$f":"+IF(M21=0,0,1)","v":0},{"$f":"+N21","v":0},null,null,null,null,null,null,null,null,null,null,null,null,null,null,""]
[null,{"$f":"IF(+'1階 計算表'!B26=\"\",\"\",'1階 計算表'!B26)","v":""},{"$f":"IF(+'1階 計算表'!C26=\"\",\"\",'1階 計算表'!C26)","v":""},{"$f":"IF(+'1階 計算表'!D26=\"\",\"\",'1階 計算表'!D26)","v":""},{"$f":"IF(+'1階 計算表'!E26=\"\",\"\",'1階 計算表'!E26)","v":""},{"$f":"IF(+'1階 計算表'!F26=\"\",\"\",'1階 計算表'!F26)","v":""},{"$f":"IF(+'1階 計算表'!G26=\"\",\"\",'1階 計算表'!G26)","v":""},{"$f":"IF(+'1階 計算表'!H26=\"\",\"\",'1階 計算表'!H26)","v":""},{"$f":"IF(+'1階 計算表'!I26=\"\",\"\",'1階 計算表'!I26)","v":""},{"$f":"IF(+'1階 計算表'!J26=\"\",\"\",'1階 計算表'!J26)","v":""},{"$f":"IF(+'1階 計算表'!K26=\"\",\"\",'1階 計算表'!K26)","v":""},{"$f":"IF(+'1階 計算表'!L26=\"\",\"\",'1階 計算表'!L26)","v":""},{"$f":"IF(+'1階 計算表'!M26=\"\",\"\",'1階 計算表'!M26)","v":""}]
[null,{"$f":"IF(+'1階 計算表'!B27=\"\",\"\",'1階 計算表'!B27)","v":""},{"$f":"IF(+'1階 計算表'!C27=\"\",\"\",'1階 計算表'!C27)","v":""},{"$f":"IF(+'1階 計算表'!D27=\"\",\"\",'1階 計算表'!D27)","v":""},{"$f":"IF(+'1階 計算表'!E27=\"\",\"\",'1階 計算表'!E27)","v":""},{"$f":"IF(+'1階 計算表'!F27=\"\",\"\",'1階 計算表'!F27)","v":""},{"$f":"IF(+'1階 計算表'!G27=\"\",\"\",'1階 計算表'!G27)","v":""},{"$f":"IF(+'1階 計算表'!H27=\"\",\"\",'1階 計算表'!H27)","v":""},{"$f":"IF(+'1階 計算表'!I27=\"\",\"\",'1階 計算表'!I27)","v":""},{"$f":"IF(+'1階 計算表'!J27=\"\",\"\",'1階 計算表'!J27)","v":""},{"$f":"IF(+'1階 計算表'!K27=\"\",\"\",'1階 計算表'!K27)","v":"１階合計"},{"$f":"IF(+'1階 計算表'!L27=\"\",\"\",'1階 計算表'!L27)","v":""},{"$f":"IF(+'1階 計算表'!M27=\"\",\"\",'1階 計算表'!M27)","v":0},null,null,null,null,null,null,null,null,null,null,null,null,null,null,null,null,""]
[null,null,null,null,null,null,null,null,null,null,null,null,null,null,null,null,null,null,null,null,null,null,null,null,null,null,null,null,null,""]
[null,null,null,null,null,null,null,null,null,null,null,null,null,null,null,null,null,null,null,null,null,null,null,null,null,null,null,null,null,""]
[null,null,null,null,null,null,null,null,null,null,null,null,null,null,null,null,null,null,null,null,null,null,null,null,null,null,null,null,null,""]
[null,null,null,null,null,null,null,null,null,null,null,null,null,null,null,null,null,null,null,null,null,null,null,null,null,null,null,null,null,""]
[]
[null,null,null,null,null,null,null,null,null,null,null,null,null,null,null,null,null,null,null,null,null,null,null,null,null,null,null,null,null,""]
[null,null,null,null,null,null,null,null,null,null,null,null,null,null,null,null,null,null,null,null,null,null,null,null,null,null,null,null,null,""]
[null,null,null,null,null,null,null,null,null,null,null,null,null,null,null,null,null,null,null,null,null,null,null,null,null,null,null,null,null,""]
[null,null,null,null,null,null,null,null,null,null,null,null,null,null,null,null,null,null,null,null,null,null,null,null,null,null,null,null,null,""]
[null,null,null,null,null,null,null,null,null,null,null,null,null,null,null,null,null,null,null,null,null,null,null,null,null,null,null,null,null,""]

{"sheet":"使用会場印刷用","index":5,"n_rows":28,"n_cols":14,"rows_kept":28,"cut":false,"hidden":false,"merged":[[3,3,3,11],[18,3,18,11],[0,12,0,13]]}
["隠岐島文化会館",null,null,null,null,null,null,null,null,null,null,null,"年　　　月　　　日"]
[]
[{"$f":"IF('1階 計算表'!F3=\"\",\"\",\"営利目的\")","v":""}]
["１階",null,"区分","使用時間",null,null,null,null,null,null,null,null,"単価","料金"]
[{"$f":"+'1階 計算表'!A7","v":"大ホール"},{"$f":"IF('1階 計算表'!$D7=\"\",\"\",'1階 計算表'!B7)","v":""},{"$f":"IF('1階 計算表'!$D7=\"\",\"\",'1階 計算表'!C7)","v":""},{"$f":"IF('1階 計算表'!$D7=\"\",\"\",'1階 計算表'!D7)","v":""},{"$f":"IF('1階 計算表'!$D7=\"\",\"\",'1階 計算表'!E7)","v":""},{"$f":"IF('1階 計算表'!$D7=\"\",\"\",'1階 計算表'!F7)","v":""},{"$f":"IF('1階 計算表'!$D7=\"\",\"\",'1階 計算表'!G7)","v":""},{"$f":"IF('1階 計算表'!$D7=\"\",\"\",'1階 計算表'!H7)","v":""},{"$f":"IF('1階 計算表'!$D7=\"\",\"\",'1階 計算表'!I7)","v":""},{"$f":"IF('1階 計算表'!$D7=\"\",\"\",'1階 計算表'!J7)","v":""},{"$f":"IF('1階 計算表'!$D7=\"\",\"\",'1階 計算表'!K7)","v":""},{"$f":"IF('1階 計算表'!$D7=\"\",\"\",\"時間\")","v":""},{"$f":"IF('1階 計算表'!$D7=\"\",\"\",'1階 計算表'!M7)","v":""},{"$f":"IF('1階 計算表'!$D7=\"\",\"\",'1階 計算表'!M7)","v":""}]
[{"$f":"+'1階 計算表'!A8","v":"ステージのみ利用"},{"$f":"IF('1階 計算表'!$D8=\"\",\"\",'1階 計算表'!B8)","v":""},{"$f":"IF('1階 計算表'!$D8=\"\",\"\",'1階 計算表'!C8)","v":""},{"$f":"IF('1階 計算表'!$D8=\"\",\"\",'1階 計算表'!D8)","v":""},{"$f":"IF('1階 計算表'!$D8=\"\",\"\",'1階 計算表'!E8)","v":""},{"$f":"IF('1階 計算表'!$D8=\"\",\"\",'1階 計算表'!F8)","v":""},{"$f":"IF('1階 計算表'!$D8=\"\",\"\",'1階 計算表'!G8)","v":""},{"$f":"IF('1階 計算表'!$D8=\"\",\"\",'1階 計算表'!H8)","v":""},{"$f":"IF('1階 計算表'!$D8=\"\",\"\",'1階 計算表'!I8)","v":""},{"$f":"IF('1階 計算表'!$D8=\"\",\"\",'1階 計算表'!J8)","v":""},{"$f":"IF('1階 計算表'!$D8=\"\",\"\",'1階 計算表'!K8)","v":""},{"$f":"IF('1階 計算表'!$D8=\"\",\"\",\"時間\")","v":""},{"$f":"IF('1階 計算表'!$D8=\"\",\"\",'1階 計算表'!M8)","v":""},{"$f":"IF('1階 計算表'!$D8=\"\",\"\",'1階 計算表'!M8)","v":""}]
[{"$f":"+'1階 計算表'!A9","v":"大ホール空調"},{"$f":"IF('1階 計算表'!$D9=\"\",\"\",'1階 計算表'!B9)","v":""},{"$f":"IF('1階 計算表'!$D9=\"\",\"\",'1階 計算表'!C9)","v":""},{"$f":"IF('1階 計算表'!$D9=\"\",\"\",'1階 計算表'!D9)","v":""},{"$f":"IF('1階 計算表'!$D9=\"\",\"\",'1階 計算表'!E9)","v":""},{"$f":"IF('1階 計算表'!$D9=\"\",\"\",'1階 計算表'!F9)","v":""},{"$f":"IF('1階 計算表'!$D9=\"\",\"\",'1階 計算表'!G9)","v":""},{"$f":"IF('1階 計算表'!$D9=\"\",\"\",'1階 計算表'!H9)","v":""},{"$f":"IF('1階 計算表'!$D9=\"\",\"\",'1階 計算表'!I9)","v":""},{"$f":"IF('1階 計算表'!$D9=\"\",\"\",'1階 計算表'!J9)","v":""},{"$f":"IF('1階 計算表'!$D9=\"\",\"\",'1階 計算表'!K9)","v":""},{"$f":"IF('1階 計算表'!$D9=\"\",\"\",\"時間\")","v":""},{"$f":"IF('1階 計算表'!$D9=\"\",\"\",'1階 計算表'!M9)","v":""},{"$f":"IF('1階 計算表'!$D9=\"\",\"\",'1階 計算表'!M9)","v":""}]
[{"$f":"+'1階 計算表'!A11","v":"保養室"},{"$f":"IF('1階 計算表'!$D11=\"\",\"\",'1階 計算表'!B11)","v":""},{"$f":"IF('1階 計算表'!$D11=\"\",\"\",'1階 計算表'!C13)","v":""},{"$f":"IF('1階 計算表'!$D11=\"\",\"\",'1階 計算表'!D11)","v":""},{"$f":"IF('1階 計算表'!$D11=\"\",\"\",'1階 計算表'!E13)","v":""},{"$f":"IF('1階 計算表'!$D11=\"\",\"\",'1階 計算表'!F11)","v":""},{"$f":"IF('1階 計算表'!$D11=\"\",\"\",'1階 計算表'!G13)","v":""},{"$f":"IF('1階 計算表'!$D11=\"\",\"\",'1階 計算表'!H11)","v":""},{"$f":"IF('1階 計算表'!$D11=\"\",\"\",'1階 計算表'!I13)","v":""},{"$f":"IF('1階 計算表'!$D11=\"\",\"\",'1階 計算表'!J11)","v":""},{"$f":"IF('1階 計算表'!$D11=\"\",\"\",'1階 計算表'!K11)","v":""},{"$f":"IF('1階 計算表'!$D11=\"\",\"\",\"時間\")","v":""},{"$f":"IF('1階 計算表'!$D11=\"\",\"\",'1階 計算表'!M13)","v":""},{"$f":"IF('1階 計算表'!$D11=\"\",\"\",'1階 計算表'!M11)","v":""}]
[{"$f":"+'1階 計算表'!A13","v":"娯楽室"},{"$f":"IF('1階 計算表'!$D13=\"\",\"\",'1階 計算表'!B13)","v":""},{"$f":"IF('1階 計算表'!$D13=\"\",\"\",'1階 計算表'!C13)","v":""},{"$f":"IF('1階 計算表'!$D13=\"\",\"\",'1階 計算表'!D13)","v":""},{"$f":"IF('1階 計算表'!$D13=\"\",\"\",'1階 計算表'!E13)","v":""},{"$f":"IF('1階 計算表'!$D13=\"\",\"\",'1階 計算表'!F13)","v":""},{"$f":"IF('1階 計算表'!$D13=\"\",\"\",'1階 計算表'!G13)","v":""},{"$f":"IF('1階 計算表'!$D13=\"\",\"\",'1階 計算表'!H13)","v":""},{"$f":"IF('1階 計算表'!$D13=\"\",\"\",'1階 計算表'!I13)","v":""},{"$f":"IF('1階 計算表'!$D13=\"\",\"\",'1階 計算表'!J13)","v":""},{"$f":"IF('1階 計算表'!$D13=\"\",\"\",'1階 計算表'!K13)","v":""},{"$f":"IF('1階 計算表'!$D13=\"\",\"\",\"時間\")","v":""},{"$f":"IF('1階 計算表'!$D13=\"\",\"\",'1階 計算表'!M13)","v":""},{"$f":"IF('1階 計算表'!$D13=\"\",\"\",'1階 計算表'!M13)","v":""}]
[{"$f":"+'1階 計算表'!A15","v":"研修室"},{"$f":"IF('1階 計算表'!$D15=\"\",\"\",'1階 計算表'!B15)","v":""},{"$f":"IF('1階 計算表'!$D15=\"\",\"\",'1階 計算表'!C15)","v":""},{"$f":"IF('1階 計算表'!$D15=\"\",\"\",'1階 計算表'!D15)","v":""},{"$f":"IF('1階 計算表'!$D15=\"\",\"\",'1階 計算表'!E15)","v":""},{"$f":"IF('1階 計算表'!$D15=\"\",\"\",'1階 計算表'!F15)","v":""},{"$f":"IF('1階 計算表'!$D15=\"\",\"\",'1階 計算表'!G15)","v":""},{"$f":"IF('1階 計算表'!$D15=\"\",\"\",'1階 計算表'!H15)","v":""},{"$f":"IF('1階 計算表'!$D15=\"\",\"\",'1階 計算表'!I15)","v":""},{"$f":"IF('1階 計算表'!$D15=\"\",\"\",'1階 計算表'!J15)","v":""},{"$f":"IF('1階 計算表'!$D15=\"\",\"\",'1階 計算表'!K15)","v":""},{"$f":"IF('1階 計算表'!$D15=\"\",\"\",\"時間\")","v":""},{"$f":"IF('1階 計算表'!$D15=\"\",\"\",'1階 計算表'!M15)","v":""},{"$f":"IF('1階 計算表'!$D15=\"\",\"\",'1階 計算表'!M15)","v":""}]
[{"$f":"+'1階 計算表'!A17","v":"ホワイエ"},{"$f":"IF('1階 計算表'!$D17=\"\",\"\",'1階 計算表'!B17)","v":""},{"$f":"IF('1階 計算表'!$D17=\"\",\"\",'1階 計算表'!C17)","v":""},{"$f":"IF('1階 計算表'!$D17=\"\",\"\",'1階 計算表'!D17)","v":""},{"$f":"IF('1階 計算表'!$D17=\"\",\"\",'1階 計算表'!E17)","v":""},{"$f":"IF('1階 計算表'!$D17=\"\",\"\",'1階 計算表'!F17)","v":""},{"$f":"IF('1階 計算表'!$D17=\"\",\"\",'1階 計算表'!G17)","v":""},{"$f":"IF('1階 計算表'!$D17=\"\",\"\",'1階 計算表'!H17)","v":""},{"$f":"IF('1階 計算表'!$D17=\"\",\"\",'1階 計算表'!I17)","v":""},{"$f":"IF('1階 計算表'!$D17=\"\",\"\",'1階 計算表'!J17)","v":""},{"$f":"IF('1階 計算表'!$D17=\"\",\"\",'1階 計算表'!K17)","v":""},{"$f":"IF('1階 計算表'!$D17=\"\",\"\",\"時間\")","v":""},{"$f":"IF('1階 計算表'!$D17=\"\",\"\",'1階 計算表'!M17)","v":""},{"$f":"IF('1階 計算表'!$D17=\"\",\"\",'1階 計算表'!M17)","v":""}]
[{"$f":"+'1階 計算表'!A19","v":"コミュニケーションホール"},{"$f":"IF('1階 計算表'!$D19=\"\",\"\",'1階 計算表'!B19)","v":""},{"$f":"IF('1階 計算表'!$D19=\"\",\"\",'1階 計算表'!C19)","v":""},{"$f":"IF('1階 計算表'!$D19=\"\",\"\",'1階 計算表'!D19)","v":""},{"$f":"IF('1階 計算表'!$D19=\"\",\"\",'1階 計算表'!E19)","v":""},{"$f":"IF('1階 計算表'!$D19=\"\",\"\",'1階 計算表'!F19)","v":""},{"$f":"IF('1階 計算表'!$D19=\"\",\"\",'1階 計算表'!G19)","v":""},{"$f":"IF('1階 計算表'!$D19=\"\",\"\",'1階 計算表'!H19)","v":""},{"$f":"IF('1階 計算表'!$D19=\"\",\"\",'1階 計算表'!I19)","v":""},{"$f":"IF('1階 計算表'!$D19=\"\",\"\",'1階 計算表'!J19)","v":""},{"$f":"IF('1階 計算表'!$D19=\"\",\"\",'1階 計算表'!K19)","v":""},{"$f":"IF('1階 計算表'!$D19=\"\",\"\",\"時間\")","v":""},{"$f":"IF('1階 計算表'!$D19=\"\",\"\",'1階 計算表'!M19)","v":""},{"$f":"IF('1階 計算表'!$D19=\"\",\"\",'1階 計算表'!M19)","v":""}]
[{"$f":"+'1階 計算表'!A21","v":"控室"},{"$f":"IF('1階 計算表'!$D21=\"\",\"\",'1階 計算表'!B21)","v":""},{"$f":"IF('1階 計算表'!$D21=\"\",\"\",'1階 計算表'!C21)","v":""},{"$f":"IF('1階 計算表'!$D21=\"\",\"\",'1階 計算表'!D21)","v":""},{"$f":"IF('1階 計算表'!$D21=\"\",\"\",'1階 計算表'!E21)","v":""},{"$f":"IF('1階 計算表'!$D21=\"\",\"\",'1階 計算表'!F21)","v":""},{"$f":"IF('1階 計算表'!$D21=\"\",\"\",'1階 計算表'!G21)","v":""},{"$f":"IF('1階 計算表'!$D21=\"\",\"\",'1階 計算表'!H21)","v":""},{"$f":"IF('1階 計算表'!$D21=\"\",\"\",'1階 計算表'!I21)","v":""},{"$f":"IF('1階 計算表'!$D21=\"\",\"\",'1階 計算表'!J21)","v":""},{"$f":"IF('1階 計算表'!$D21=\"\",\"\",'1階 計算表'!K21)","v":""},{"$f":"IF('1階 計算表'!$D21=\"\",\"\",\"時間\")","v":""},{"$f":"IF('1階 計算表'!$D21=\"\",\"\",'1階 計算表'!M21)","v":""},{"$f":"IF('1階 計算表'!$D21=\"\",\"\",'1階 計算表'!M21)","v":""}]
[{"$f":"+'1階 計算表'!A23","v":"小会議室"},{"$f":"IF('1階 計算表'!$D23=\"\",\"\",'1階 計算表'!B23)","v":""},{"$f":"IF('1階 計算表'!$D23=\"\",\"\",'1階 計算表'!C23)","v":""},{"$f":"IF('1階 計算表'!$D23=\"\",\"\",'1階 計算表'!D23)","v":""},{"$f":"IF('1階 計算表'!$D23=\"\",\"\",'1階 計算表'!E23)","v":""},{"$f":"IF('1階 計算表'!$D23=\"\",\"\",'1階 計算表'!F23)","v":""},{"$f":"IF('1階 計算表'!$D23=\"\",\"\",'1階 計算表'!G23)","v":""},{"$f":"IF('1階 計算表'!$D23=\"\",\"\",'1階 計算表'!H23)","v":""},{"$f":"IF('1階 計算表'!$D23=\"\",\"\",'1階 計算表'!I23)","v":""},{"$f":"IF('1階 計算表'!$D23=\"\",\"\",'1階 計算表'!J23)","v":""},{"$f":"IF('1階 計算表'!$D23=\"\",\"\",'1階 計算表'!K23)","v":""},{"$f":"IF('1階 計算表'!$D23=\"\",\"\",\"時間\")","v":""},{"$f":"IF('1階 計算表'!$D23=\"\",\"\",'1階 計算表'!M23)","v":""},{"$f":"IF('1階 計算表'!$D23=\"\",\"\",'1階 計算表'!M23)","v":""}]
[{"$f":"+'1階 計算表'!A25","v":"住民相談室"},{"$f":"IF('1階 計算表'!$D25=\"\",\"\",'1階 計算表'!B25)","v":""},{"$f":"IF('1階 計算表'!$D25=\"\",\"\",'1階 計算表'!C25)","v":""},{"$f":"IF('1階 計算表'!$D25=\"\",\"\",'1階 計算表'!D25)","v":""},{"$f":"IF('1階 計算表'!$D25=\"\",\"\",'1階 計算表'!E25)","v":""},{"$f":"IF('1階 計算表'!$D25=\"\",\"\",'1階 計算表'!F25)","v":""},{"$f":"IF('1階 計算表'!$D25=\"\",\"\",'1階 計算表'!G25)","v":""},{"$f":"IF('1階 計算表'!$D25=\"\",\"\",'1階 計算表'!H25)","v":""},{"$f":"IF('1階 計算表'!$D25=\"\",\"\",'1階 計算表'!I25)","v":""},{"$f":"IF('1階 計算表'!$D25=\"\",\"\",'1階 計算表'!J25)","v":""},{"$f":"IF('1階 計算表'!$D25=\"\",\"\",'1階 計算表'!K25)","v":""},{"$f":"IF('1階 計算表'!$D25=\"\",\"\",\"時間\")","v":""},{"$f":"IF('1階 計算表'!$D25=\"\",\"\",'1階 計算表'!M25)","v":""},{"$f":"IF('1階 計算表'!$D25=\"\",\"\",'1階 計算表'!M25)","v":""}]
[null,null,null,null,null,null,null,null,null,null,null,"１階","合計",{"$f":"SUM(N5:N15)","v":0}]
[]
[{"$f":"IF('2階 計算表'!F3=\"\",\"\",\"営利目的\")","v":""},null,null,null,null,null,null,null,null,null,null,{"$f":"IF(B18=\"\",\"\",IF(B18=\"午前午後\",\"\",IF(B18=\"午後夜間\",\"\",IF(B18=\"終日\",\"\",\"時間\"))))","v":""}]
["２階",null,"区分","使用時間",null,null,null,null,null,null,null,null,"単価","料金"]
[{"$f":"+'2階 計算表'!A7","v":"集会室"},{"$f":"IF('2階 計算表'!$D7=\"\",\"\",'2階 計算表'!B7)","v":""},{"$f":"IF('2階 計算表'!$D7=\"\",\"\",'2階 計算表'!C7)","v":""},{"$f":"IF('2階 計算表'!$D7=\"\",\"\",'2階 計算表'!D7)","v":""},{"$f":"IF('2階 計算表'!$D7=\"\",\"\",'2階 計算表'!E7)","v":""},{"$f":"IF('2階 計算表'!$D7=\"\",\"\",'2階 計算表'!F7)","v":""},{"$f":"IF('2階 計算表'!$D7=\"\",\"\",'2階 計算表'!G7)","v":""},{"$f":"IF('2階 計算表'!$D7=\"\",\"\",'2階 計算表'!H7)","v":""},{"$f":"IF('2階 計算表'!$D7=\"\",\"\",'2階 計算表'!I7)","v":""},{"$f":"IF('2階 計算表'!$D7=\"\",\"\",'2階 計算表'!J7)","v":""},{"$f":"IF('2階 計算表'!$D7=\"\",\"\",'2階 計算表'!K7)","v":""},{"$f":"IF('2階 計算表'!$D7=\"\",\"\",\"時間\")","v":""},{"$f":"IF('2階 計算表'!$D7=\"\",\"\",'2階 計算表'!M7)","v":""},{"$f":"IF('2階 計算表'!$D7=\"\",\"\",'2階 計算表'!M7)","v":""}]
[{"$f":"+'2階 計算表'!A9","v":"調理室"},{"$f":"IF('2階 計算表'!$D9=\"\",\"\",'2階 計算表'!B9)","v":""},{"$f":"IF('2階 計算表'!$D9=\"\",\"\",'2階 計算表'!C9)","v":""},{"$f":"IF('2階 計算表'!$D9=\"\",\"\",'2階 計算表'!D9)","v":""},{"$f":"IF('2階 計算表'!$D9=\"\",\"\",'2階 計算表'!E9)","v":""},{"$f":"IF('2階 計算表'!$D9=\"\",\"\",'2階 計算表'!F9)","v":""},{"$f":"IF('2階 計算表'!$D9=\"\",\"\",'2階 計算表'!G9)","v":""},{"$f":"IF('2階 計算表'!$D9=\"\",\"\",'2階 計算表'!H9)","v":""},{"$f":"IF('2階 計算表'!$D9=\"\",\"\",'2階 計算表'!I9)","v":""},{"$f":"IF('2階 計算表'!$D9=\"\",\"\",'2階 計算表'!J9)","v":""},{"$f":"IF('2階 計算表'!$D9=\"\",\"\",'2階 計算表'!K9)","v":""},{"$f":"IF('2階 計算表'!$D9=\"\",\"\",\"時間\")","v":""},{"$f":"IF('2階 計算表'!$D9=\"\",\"\",'2階 計算表'!M9)","v":""},{"$f":"IF('2階 計算表'!$D9=\"\",\"\",'2階 計算表'!M9)","v":""}]
[{"$f":"+'2階 計算表'!A11","v":"青年研修室"},{"$f":"IF('2階 計算表'!$D11=\"\",\"\",'2階 計算表'!B11)","v":""},{"$f":"IF('2階 計算表'!$D11=\"\",\"\",'2階 計算表'!C11)","v":""},{"$f":"IF('2階 計算表'!$D11=\"\",\"\",'2階 計算表'!D11)","v":""},{"$f":"IF('2階 計算表'!$D11=\"\",\"\",'2階 計算表'!E11)","v":""},{"$f":"IF('2階 計算表'!$D11=\"\",\"\",'2階 計算表'!F11)","v":""},{"$f":"IF('2階 計算表'!$D11=\"\",\"\",'2階 計算表'!G11)","v":""},{"$f":"IF('2階 計算表'!$D11=\"\",\"\",'2階 計算表'!H11)","v":""},{"$f":"IF('2階 計算表'!$D11=\"\",\"\",'2階 計算表'!I11)","v":""},{"$f":"IF('2階 計算表'!$D11=\"\",\"\",'2階 計算表'!J11)","v":""},{"$f":"IF('2階 計算表'!$D11=\"\",\"\",'2階 計算表'!K11)","v":""},{"$f":"IF('2階 計算表'!$D11=\"\",\"\",\"時間\")","v":""},{"$f":"IF('2階 計算表'!$D11=\"\",\"\",'2階 計算表'!M11)","v":""},{"$f":"IF('2階 計算表'!$D11=\"\",\"\",'2階 計算表'!M11)","v":""}]
[{"$f":"+'2階 計算表'!A13","v":"展示ホール"},{"$f":"IF('2階 計算表'!$D13=\"\",\"\",'2階 計算表'!B13)","v":""},{"$f":"IF('2階 計算表'!$D13=\"\",\"\",'2階 計算表'!C13)","v":""},{"$f":"IF('2階 計算表'!$D13=\"\",\"\",'2階 計算表'!D13)","v":""},{"$f":"IF('2階 計算表'!$D13=\"\",\"\",'2階 計算表'!E13)","v":""},{"$f":"IF('2階 計算表'!$D13=\"\",\"\",'2階 計算表'!F13)","v":""},{"$f":"IF('2階 計算表'!$D13=\"\",\"\",'2階 計算表'!G13)","v":""},{"$f":"IF('2階 計算表'!$D13=\"\",\"\",'2階 計算表'!H13)","v":""},{"$f":"IF('2階 計算表'!$D13=\"\",\"\",'2階 計算表'!I13)","v":""},{"$f":"IF('2階 計算表'!$D13=\"\",\"\",'2階 計算表'!J13)","v":""},{"$f":"IF('2階 計算表'!$D13=\"\",\"\",'2階 計算表'!K13)","v":""},{"$f":"IF('2階 計算表'!$D13=\"\",\"\",\"時間\")","v":""},{"$f":"IF('2階 計算表'!$D13=\"\",\"\",'2階 計算表'!M13)","v":""},{"$f":"IF('2階 計算表'!$D13=\"\",\"\",'2階 計算表'!M13)","v":""}]
[{"$f":"+'2階 計算表'!A15","v":"会議室"},{"$f":"IF('2階 計算表'!$D15=\"\",\"\",'2階 計算表'!B15)","v":""},{"$f":"IF('2階 計算表'!$D15=\"\",\"\",'2階 計算表'!C15)","v":""},{"$f":"IF('2階 計算表'!$D15=\"\",\"\",'2階 計算表'!D15)","v":""},{"$f":"IF('2階 計算表'!$D15=\"\",\"\",'2階 計算表'!E15)","v":""},{"$f":"IF('2階 計算表'!$D15=\"\",\"\",'2階 計算表'!F15)","v":""},{"$f":"IF('2階 計算表'!$D15=\"\",\"\",'2階 計算表'!G15)","v":""},{"$f":"IF('2階 計算表'!$D15=\"\",\"\",'2階 計算表'!H15)","v":""},{"$f":"IF('2階 計算表'!$D15=\"\",\"\",'2階 計算表'!I15)","v":""},{"$f":"IF('2階 計算表'!$D15=\"\",\"\",'2階 計算表'!J15)","v":""},{"$f":"IF('2階 計算表'!$D15=\"\",\"\",'2階 計算表'!K15)","v":""},{"$f":"IF('2階 計算表'!$D15=\"\",\"\",\"時間\")","v":""},{"$f":"IF('2階 計算表'!$D15=\"\",\"\",'2階 計算表'!M15)","v":""},{"$f":"IF('2階 計算表'!$D15=\"\",\"\",'2階 計算表'!M15)","v":""}]
[{"$f":"+'2階 計算表'!A17","v":"産業研修室"},{"$f":"IF('2階 計算表'!$D17=\"\",\"\",'2階 計算表'!B17)","v":""},{"$f":"IF('2階 計算表'!$D17=\"\",\"\",'2階 計算表'!C17)","v":""},{"$f":"IF('2階 計算表'!$D17=\"\",\"\",'2階 計算表'!D17)","v":""},{"$f":"IF('2階 計算表'!$D17=\"\",\"\",'2階 計算表'!E17)","v":""},{"$f":"IF('2階 計算表'!$D17=\"\",\"\",'2階 計算表'!F17)","v":""},{"$f":"IF('2階 計算表'!$D17=\"\",\"\",'2階 計算表'!G17)","v":""},{"$f":"IF('2階 計算表'!$D17=\"\",\"\",'2階 計算表'!H17)","v":""},{"$f":"IF('2階 計算表'!$D17=\"\",\"\",'2階 計算表'!I17)","v":""},{"$f":"IF('2階 計算表'!$D17=\"\",\"\",'2階 計算表'!J17)","v":""},{"$f":"IF('2階 計算表'!$D17=\"\",\"\",'2階 計算表'!K17)","v":""},{"$f":"IF('2階 計算表'!$D17=\"\",\"\",\"時間\")","v":""},{"$f":"IF('2階 計算表'!$D17=\"\",\"\",'2階 計算表'!M17)","v":""},{"$f":"IF('2階 計算表'!$D17=\"\",\"\",'2階 計算表'!M17)","v":""}]
[null,null,null,null,null,null,null,null,null,null,null,"２階","合計",{"$f":"SUM(N20:N25)","v":0}]
[]
[null,null,null,null,null,null,null,null,null,null,null,"使用料合計",null,{"$f":"+N26+N16","v":0}]