{"text_format":"1","workbook":"xlsx","n_sheets":6,"sheets":["例","1階 計算表","2階 計算表","Sheet3","Sheet6","使用会場印刷用"],"not_rendered":{"charts":0,"images":0,"macros":0,"external_links":0,"defined_names":0,"comments":0,"pivot_tables":0},"unopened":[],"bounds":{"document_bytes":16777216,"sheet_cells":100000,"rows_first":2000,"rows_last":500,"rows_between":2000,"halvings":0,"cell_chars":16384,"cell_head_chars":4096},"cells_cut":0,"cells_raw":0,"read":"whole","date_system":"1900"}

{"sheet":"例","index":0,"n_rows":63,"n_cols":27,"rows_kept":63,"cut":false,"hidden":false,"merged":[[16,3,16,9],[15,17,15,23],[4,3,4,9],[4,17,4,23],[7,3,7,9],[7,17,7,23],[8,3,8,9],[8,17,8,23],[9,3,9,9],[9,17,9,23],[13,17,13,23],[15,3,15,9],[14,17,14,23],[17,3,17,9],[19,17,19,23],[21,3,21,9],[20,17,20,23],[22,3,22,9],[21,17,21,23],[23,3,23,9],[25,17,25,23],[27,3,27,9],[26,17,26,23],[28,3,28,9],[27,17,27,23],[29,3,29,9],[31,17,31,23],[33,3,33,9],[32,17,32,23],[34,3,34,9],[33,17,33,23],[35,3,35,9],[37,17,37,23],[39,3,39,9],[38,17,38,23],[40,3,40,9],[39,17,39,23],[53,3,53,9],[57,3,57,9],[58,3,58,9],[59,3,59,9],[41,3,41,9],[45,3,45,9],[46,3,46,9],[47,3,47,9],[51,3,51,9],[52,3,52,9]]}
["隠岐島文化会館　料金計算表",null,null,null,null,null,null,null,null,null,null,null,null,null,"隠岐島文化会館　料金計算表"]
["※黄色の枠に時間もしくは、1を入力して下さい。",null,null,null,null,null,null,null,null,null,null,null,null,null,"※黄色の枠に時間もしくは、1を入力して下さい。"]
["※営利目的の場合は、1を入力して下さい。　→　　",null,null,1,null,null,null,null,null,null,null,null,null,null,"※営利目的の場合は、1を入力して下さい。　→　　",null,null,1]
[]
["１階",null,null,"使用時間",null,null,null,null,null,null,"使用時間","単価","金額",null,"２階",null,null,"使用時間",null,null,null,null,null,null,"使用時間","単価","金額"]
["大ホール","１時間単位","　8：30～17：00",13,"：",0,"～",17,"：",0,{"$f":"+Sheet3!I3","v":4},4731,{"$f":"+IF(K6=0,0,IF($D$3=\"\",K6*L6,K6*L6*3))","v":56772},null,"集会室","１時間単位","　8：30～17：00",null,"：",null,"～",null,"：",null,{"$f":"+Sheet3!I50","v":0},1543,{"$f":"+IF(Y6=0,0,IF($D$3=\"\",Y6*Z6,Y6*Z6*3))","v":0}]
[null,"１時間単位","17：00～22：00",17,"：",0,"～",19,"：",0,{"$f":"+Sheet3!I4","v":2},5863,{"$f":"+IF(K7=0,0,IF($D$3=\"\",K7*L7,K7*L7*3))","v":35178},null,null,"１時間単位","17：00～22：00",null,"：",null,"～",null,"：",null,{"$f":"+Sheet3!I51","v":0},1954,{"$f":"+IF(Y7=0,0,IF($D$3=\"\",Y7*Z7,Y7*Z7*3))","v":0}]
[null,"午前午後","　8：30～17：00","使用の場合は、数字の1を入力　→",null,null,null,null,null,null,null,26228,0,null,null,"午前午後","　8：30～17：00","使用の場合は、数字の1を入力　→",null,null,null,null,null,null,null,8537,0]
[null,"午後夜間","13：00～22：00","使用の場合は、数字の1を入力　→",null,null,null,null,null,null,null,35691,0,null,null,"午後夜間","13：00～22：00","使用の場合は、数字の1を入力　→",null,null,null,null,null,null,null,11622,0]
[null,"　終　　日","8：30～22：00","使用の場合は、数字の1を入力　→",null,null,null,null,null,null,null,45052,0,null,null,"　終　　日","8：30～22：00","使用の場合は、数字の1を入力　→",null,null,null,null,null,null,null,14812,0]
["ステージのみ利用","１時間単位","8：30～22：00",8,"：",30,"～",12,"：",0,{"$f":"+Sheet3!I8","v":4},1338,16056]
["大ホール空調","１時間単位","8：30～22：00",null,"：",null,"～",null,"：",null,{"$f":"+Sheet3!I9","v":0},1338,0,null,"調理室","１時間単位","　8：30～17：00",null,"：",null,"～",null,"：",null,{"$f":"+Sheet3!I56","v":0},463,0]
[null,null,null,null,null,null,null,null,null,null,null,null,null,null,null,"１時間単位","17：00～22：00",null,"：",null,"～",null,"：",null,{"$f":"+Sheet3!I57","v":0},565,0]
["保養室","１時間単位","　8：30～17：00",null,"：",null,"～",null,"：",null,{"$f":"+Sheet3!I10","v":0},463,0,null,null,"午前午後","　8：30～17：00","使用の場合は、数字の1を入力　→",null,null,null,null,null,null,null,2366,0]
[null,"１時間単位","17：00～22：00",null,"：",null,"～",null,"：",null,{"$f":"+Sheet3!I11","v":0},565,0,null,null,"午後夜間","13：00～22：00","使用の場合は、数字の1を入力　→",null,null,null,null,null,null,1,3394,10182]
[null,"午前午後","　8：30～17：00","使用の場合は、数字の1を入力　→",null,null,null,null,null,null,null,2366,0,null,null,"　終　　日","8：30～22：00","使用の場合は、数字の1を入力　→",null,null,null,null,null,null,null,4320,0]
[null,"午後夜間","13：00～22：00","使用の場合は、数字の1を入力　→",null,null,null,null,null,null,null,3394,0]
[null,"　終　　日","8：30～22：00","使用の場合は、数字の1を入力　→",null,null,null,null,null,null,null,4320,0,null,"青年研修室","１時間単位","　8：30～17：00",null,"：",null,"～",null,"：",null,{"$f":"+Sheet3!I62","v":0},463,0]
[null,null,null,null,null,null,null,null,null,null,null,null,null,null,null,"１時間単位","17：00～22：00",null,"：",null,"～",null,"：",null,{"$f":"+Sheet3!I63","v":0},565,0]
["娯楽室","１時間単位","　8：30～17：00",null,"：",null,"～",null,"：",null,{"$f":"+Sheet3!I15","v":0},463,0,null,null,"午前午後","　8：30～17：00","使用の場合は、数字の1を入力　→",null,null,null,null,null,null,null,2366,0]
[null,"１時間単位","17：00～22：00",null,"：",null,"～",null,"：",null,{"$f":"+Sheet3!I16","v":0},565,0,null,null,"午後夜間","13：00～22：00","使用の場合は、数字の1を入力　→",null,null,null,null,null,null,null,3394,0]
[null,"午前午後","　8：30～17：00","使用の場合は、数字の1を入力　→",null,null,null,null,null,null,null,2366,0,null,null,"　終　　日","8：30～22：00","使用の場合は、数字の1を入力　→",null,null,null,null,null,null,null,4320,0]
[null,"午後夜間","13：00～22：00","使用の場合は、数字の1を入力　→",null,null,null,null,null,null,null,3394,0]
[null,"　終　　日","8：30～22：00","使用の場合は、数字の1を入力　→",null,null,null,null,null,null,null,4320,0,null,"展示ホール","１時間単位","　8：30～17：00",null,"：",null,"～",null,"：",null,{"$f":"+Sheet3!I68","v":0},463,0]
[null,null,null,null,null,null,null,null,null,null,null,null,null,null,null,"１時間単位","17：00～22：00",null,"：",null,"～",null,"：",null,{"$f":"+Sheet3!I69","v":0},565,0]
["研修室","１時間単位","　8：30～17：00",null,"：",null,"～",null,"：",null,{"$f":"+Sheet3!I20","v":0},463,0,null,null,"午前午後","　8：30～17：00","使用の場合は、数字の1を入力　→",null,null,null,null,null,null,null,2366,0]
[null,"１時間単位","17：00～22：00",null,"：",null,"～",null,"：",null,{"$f":"+Sheet3!I21","v":0},565,0,null,null,"午後夜間","13：00～22：00","使用の場合は、数字の1を入力　→",null,null,null,null,null,null,null,3394,0]
[null,"午前午後","　8：30～17：00","使用の場合は、数字の1を入力　→",null,null,null,null,null,null,null,2366,0,null,null,"　終　　日","8：30～22：00","使用の場合は、数字の1を入力　→",null,null,null,null,null,null,null,4320,0]
[null,"午後夜間","13：00～22：00","使用の場合は、数字の1を入力　→",null,null,null,null,null,null,null,3394,0]
[null,"　終　　日","8：30～22：00","使用の場合は、数字の1を入力　→",null,null,null,null,null,null,null,4320,0,null,"会議室","１時間単位","　8：30～17：00",null,"：",null,"～",null,"：",null,{"$f":"+Sheet3!I74","v":0},308,0]
[null,null,null,null,null,null,null,null,null,null,null,null,null,null,null,"１時間単位","17：00～22：00",null,"：",null,"～",null,"：",null,{"$f":"+Sheet3!I75","v":0},390,0]
["ホワイエ","１時間単位","　8：30～17：00",null,"：",null,"～",null,"：",null,{"$f":"+Sheet3!I25","v":0},463,0,null,null,"午前午後","　8：30～17：00","使用の場合は、数字の1を入力　→",null,null,null,null,null,null,1,1645,4935]
[null,"１時間単位","17：00～22：00",null,"：",null,"～",null,"：",null,{"$f":"+Sheet3!I26","v":0},565,0,null,null,"午後夜間","13：00～22：00","使用の場合は、数字の1を入力　→",null,null,null,null,null,null,null,2263,0]
[null,"午前午後","　8：30～17：00","使用の場合は、数字の1を入力　→",null,null,null,null,null,null,null,2366,0,null,null,"　終　　日","8：30～22：00","使用の場合は、数字の1を入力　→",null,null,null,null,null,null,null,2880,0]
[null,"午後夜間","13：00～22：00","使用の場合は、数字の1を入力　→",null,null,null,null,null,null,1,3394,10182]
[null,"　終　　日","8：30～22：00","使用の場合は、数字の1を入力　→",null,null,null,null,null,null,null,4320,0,null,"産業研修室","１時間単位","　8：30～17：00",8,"：",30,"～",12,"：",0,{"$f":"+Sheet3!I80","v":4},308,3696]
[null,null,null,null,null,null,null,null,null,null,null,null,null,null,null,"１時間単位","17：00～22：00",null,"：",null,"～",null,"：",null,{"$f":"+Sheet3!I81","v":0},390,0]
["コミュニケーションホール","１時間単位","　8：30～17：00",null,"：",null,"～",null,"：",null,{"$f":"+Sheet3!I30","v":0},463,0,null,null,"午前午後","　8：30～17：00","使用の場合は、数字の1を入力　→",null,null,null,null,null,null,null,1645,0]
[null,"１時間単位","17：00～22：00",null,"：",null,"～",null,"：",null,{"$f":"+Sheet3!I31","v":0},565,0,null,null,"午後夜間","13：00～22：00","使用の場合は、数字の1を入力　→",null,null,null,null,null,null,null,2263,0]
[null,"午前午後","　8：30～17：00","使用の場合は、数字の1を入力　→",null,null,null,null,null,null,null,2366,0,null,null,"　終　　日","8：30～22：00","使用の場合は、数字の1を入力　→",null,null,null,null,null,null,null,2880,0]
[null,"午後夜間","13：00～22：00","使用の場合は、数字の1を入力　→",null,null,null,null,null,null,null,3394,0]
[null,"　終　　日","8：30～22：00","使用の場合は、数字の1を入力　→",null,null,null,null,null,null,null,4320,0]
[]
["控室","１時間単位","　8：30～17：00",null,"：",null,"～",null,"：",null,{"$f":"+Sheet3!I35","v":0},308,0]
[null,"１時間単位","17：00～22：00",null,"：",null,"～",null,"：",null,{"$f":"+Sheet3!I36","v":0},390,0]
[null,"午前午後","　8：30～17：00","使用の場合は、数字の1を入力　→",null,null,null,null,null,null,null,1645,0]
[null,"午後夜間","13：00～22：00","使用の場合は、数字の1を入力　→",null,null,null,null,null,null,null,2263,0]
[null,"　終　　日","8：30～22：00","使用の場合は、数字の1を入力　→",null,null,null,null,null,null,null,2880,0]
[]
["小会議室","１時間単位","　8：30～17：00",null,"：",null,"～",null,"：",null,{"$f":"+Sheet3!I40","v":0},308,0]
[null,"１時間単位","17：00～22：00",null,"：",null,"～",null,"：",null,{"$f":"+Sheet3!I41","v":0},390,0]
[null,"午前午後","　8：30～17：00","使用の場合は、数字の1を入力　→",null,null,null,null,null,null,null,1645,0]
[null,"午後夜間","13：00～22：00","使用の場合は、数字の1を入力　→",null,null,null,null,null,null,null,2263,0]
[null,"　終　　日","8：30～22：00","使用の場合は、数字の1を入力　→",null,null,null,null,null,null,null,2880,0]
[]
["住民相談室","１時間単位","　8：30～17：00",null,"：",null,"～",null,"：",null,{"$f":"+Sheet3!I45","v":0},308,0]
[null,"１時間単位","17：00～22：00",null,"：",null,"～",null,"：",null,{"$f":"+Sheet3!I46","v":0},390,0]
[null,"午前午後","　8：30～17：00","使用の場合は、数字の1を入力　→",null,null,null,null,null,null,null,1645,0]
[null,"午後夜間","13：00～22：00","使用の場合は、数字の1を入力　→",null,null,null,null,null,null,null,2263,0]
[null,"　終　　日","8：30～22：00","使用の場合は、数字の1を入力　→",null,null,null,null,null,null,null,2880,0]
[]
[null,null,null,null,null,null,null,null,null,null,"１階合計",null,{"$f":"SUM(M6:M61)","v":118188},null,null,null,null,null,null,null,null,null,null,null,"２階合計",null,{"$f":"SUM(AA6:AA60)","v":18813}]
[null,null,null,null,null,null,null,null,null,null,null,null,null,null,null,null,null,null,null,null,null,null,null,null,"合計",null,{"$f":"+AA62+M62","v":137001}]

{"sheet":"1階 計算表","index":1,"n_rows":63,"n_cols":13,"rows_kept":63,"cut":false,"hidden":false,"merged":[[42,3,42,9],[46,3,46,9],[47,3,47,9],[48,3,48,9],[30,3,30,9],[34,3,34,9],[35,3,35,9],[36,3,36,9],[40,3,40,9],[41,3,41,9],[54,3,54,9],[58,3,58,9],[59,3,59,9],[60,3,60,9],[52,3,52,9],[53,3,53,9],[17,3,17,9],[5,3,5,9],[8,3,8,9],[10,3,10,9],[9,3,9,9],[16,3,16,9],[29,3,29,9],[18,3,18,9],[22,3,22,9],[23,3,23,9],[24,3,24,9],[28,3,28,9]]}
["隠岐島文化会館　料金計算表"]
["※黄色の枠に時間もしくは、1を入力して下さい。"]
["※営利目的の場合は、1を入力して下さい。　→　　"]
["※町内高等学校の場合は、1を入力して下さい。　→　　"]
[]
["１階",null,null,"使用時間",null,null,null,null,null,null,"使用時間","単価","金額"]
["大ホール","１時間単位","　8：30～17：00",null,"：",null,"～",null,"：",null,{"$f":"IF(D7<8,0,IF(H7>17,0,+Sheet3!D3))","v":0},4731,{"$f":"IF($F$3=1,K7*L7*3,IF($F$4=1,K7*L7/2,K7*L7))","v":0}]
[null,"１時間単位","17：00～22：00",null,"：",null,"～",null,"：",null,{"$f":"IF(D8<8,0,IF(D8<17,0,+Sheet3!D4))","v":0},5863,{"$f":"IF($F$3=1,K8*L8*3,IF($F$4=1,K8*L8/2,K8*L8))","v":0}]
[null,"午前午後","　8：30～17：00","使用の場合は、数字の1を入力　→",null,null,null,null,null,null,null,26228,0]
[null,"午後夜間","13：00～22：00","使用の場合は、数字の1を入力　→",null,null,null,null,null,null,null,35691,0]
[null,"終　　日","8：30～22：00","使用の場合は、数字の1を入力　→",null,null,null,null,null,null,null,45052,0]
["ステージのみ利用","１時間単位","8：30～22：00",null,"：",null,"～",null,"：",null,{"$f":"IF(D12<7,0,IF(H12>22,0,+Sheet3!D8))","v":0},1338,0]
["大ホール空調","１時間単位","8：30～22：00",null,"：",null,"～",null,"：",null,{"$f":"IF(D13<7,0,IF(H13>22,0,+Sheet3!D9))","v":0},1338,0]
[]
["保養室","１時間単位","　8：30～17：00",null,"：",null,"～",null,"：",null,{"$f":"IF(D15<8,0,IF(H15>17,0,+Sheet3!D11))","v":0},463,{"$f":"IF($F$3=1,K15*L15*3,IF($F$4=1,K15*L15/2,K15*L15))","v":0}]
[null,"１時間単位","17：00～22：00",null,"：",null,"～",null,"：",null,{"$f":"IF(D16<8,0,IF(D16<17,0,+Sheet3!D12))","v":0},565,{"$f":"IF($F$3=1,K16*L16*3,IF($F$4=1,K16*L16/2,K16*L16))","v":0}]
[null,"午前午後","　8：30～17：00","使用の場合は、数字の1を入力　→",null,null,null,null,null,null,null,2366,0]
[null,"午後夜間","13：00～22：00","使用の場合は、数字の1を入力　→",null,null,null,null,null,null,null,3394,0]
[null,"終　　日","8：30～22：00","使用の場合は、数字の1を入力　→",null,null,null,null,null,null,null,4320,0]
[]
["娯楽室","１時間単位","　8：30～17：00",null,"：",null,"～",null,"：",null,{"$f":"IF(D21<8,0,IF(H21>17,0,+Sheet3!D17))","v":0},463,{"$f":"IF($F$3=1,K21*L21*3,IF($F$4=1,K21*L21/2,K21*L21))","v":0}]
[null,"１時間単位","17：00～22：00",null,"：",null,"～",null,"：",null,{"$f":"IF(D22<8,0,IF(D22<17,0,+Sheet3!D18))","v":0},565,{"$f":"IF($F$3=1,K22*L22*3,IF($F$4=1,K22*L22/2,K22*L22))","v":0}]
[null,"午前午後","　8：30～17：00","使用の場合は、数字の1を入力　→",null,null,null,null,null,null,null,2366,0]
[null,"午後夜間","13：00～22：00","使用の場合は、数字の1を入力　→",null,null,null,null,null,null,null,3394,0]
[null,"終　　日","8：30～22：00","使用の場合は、数字の1を入力　→",null,null,null,null,null,null,null,4320,0]
[]
["研修室","１時間単位","　8：30～17：00",null,"：",null,"～",null,"：",null,{"$f":"IF(D27<8,0,IF(H27>17,0,+Sheet3!D23))","v":0},463,{"$f":"IF($F$3=1,K27*L27*3,IF($F$4=1,K27*L27/2,K27*L27))","v":0}]
[null,"１時間単位","17：00～22：00",null,"：",null,"～",null,"：",null,{"$f":"IF(D28<8,0,IF(D28<17,0,+Sheet3!D24))","v":0},565,{"$f":"IF($F$3=1,K28*L28*3,IF($F$4=1,K28*L28/2,K28*L28))","v":0}]
[null,"午前午後","　8：30～17：00","使用の場合は、数字の1を入力　→",null,null,null,null,null,null,null,2366,0]
[null,"午後夜間","13：00～22：00","使用の場合は、数字の1を入力　→",null,null,null,null,null,null,null,3394,0]
[null,"終　　日","8：30～22：00","使用の場合は、数字の1を入力　→",null,null,null,null,null,null,null,4320,0]
[]
["ホワイエ","１時間単位","　8：30～17：00",null,"：",null,"～",null,"：",null,{"$f":"IF(D33<8,0,IF(H33>17,0,+Sheet3!D29))","v":0},463,{"$f":"IF($F$3=1,K33*L33*3,IF($F$4=1,K33*L33/2,K33*L33))","v":0}]
[null,"１時間単位","17：00～22：00",null,"：",null,"～",null,"：",null,{"$f":"IF(D34<8,0,IF(D34<17,0,+Sheet3!D30))","v":0},565,{"$f":"IF($F$3=1,K34*L34*3,IF($F$4=1,K34*L34/2,K34*L34))","v":0}]
[null,"午前午後","　8：30～17：00","使用の場合は、数字の1を入力　→",null,null,null,null,null,null,null,2366,0]
[null,"午後夜間","13：00～22：00","使用の場合は、数字の1を入力　→",null,null,null,null,null,null,null,3394,0]
[null,"終　　日","8：30～22：00","使用の場合は、数字の1を入力　→",null,null,null,null,null,null,null,4320,0]
[]
["コミュニケーションホール","１時間単位","　8：30～17：00",null,"：",null,"～",null,"：",null,{"$f":"IF(D39<8,0,IF(H39>17,0,+Sheet3!D35))","v":0},463,{"$f":"IF($F$3=1,K39*L39*3,IF($F$4=1,K39*L39/2,K39*L39))","v":0}]
[null,"１時間単位","17：00～22：00",null,"：",null,"～",null,"：",null,{"$f":"IF(D40<8,0,IF(D40<17,0,+Sheet3!D36))","v":0},565,{"$f":"IF($F$3=1,K40*L40*3,IF($F$4=1,K40*L40/2,K40*L40))","v":0}]
[null,"午前午後","　8：30～17：00","使用の場合は、数字の1を入力　→",null,null,null,null,null,null,null,2366,0]
[null,"午後夜間","13：00～22：00","使用の場合は、数字の1を入力　→",null,null,null,null,null,null,null,3394,0]
[null,"終　　日","8：30～22：00","使用の場合は、数字の1を入力　→",null,null,null,null,null,null,null,4320,0]
[]
["控室","１時間単位","　8：30～17：00",null,"：",null,"～",null,"：",null,{"$f":"IF(D45<8,0,IF(H45>17,0,+Sheet3!D41))","v":0},308,{"$f":"IF($F$3=1,K45*L45*3,IF($F$4=1,K45*L45/2,K45*L45))","v":0}]
[null,"１時間単位","17：00～22：00",null,"：",null,"～",null,"：",null,{"$f":"IF(D46<8,0,IF(D46<17,0,+Sheet3!D42))","v":0},390,{"$f":"IF($F$3=1,K46*L46*3,IF($F$4=1,K46*L46/2,K46*L46))","v":0}]
[null,"午前午後","　8：30～17：00","使用の場合は、数字の1を入力　→",null,null,null,null,null,null,null,1645,0]
[null,"午後夜間","13：00～22：00","使用の場合は、数字の1を入力　→",null,null,null,null,null,null,null,2263,0]
[null,"終　　日","8：30～22：00","使用の場合は、数字の1を入力　→",null,null,null,null,null,null,null,2880,0]
[]
["小会議室","１時間単位","　8：30～17：00",null,"：",null,"～",null,"：",null,{"$f":"IF(D51<8,0,IF(H51>17,0,+Sheet3!D47))","v":0},308,{"$f":"IF($F$3=1,K51*L51*3,IF($F$4=1,K51*L51/2,K51*L51))","v":0}]
[null,"１時間単位","17：00～22：00",null,"：",null,"～",null,"：",null,{"$f":"IF(D52<8,0,IF(D52<17,0,+Sheet3!D48))","v":0},390,{"$f":"IF($F$3=1,K52*L52*3,IF($F$4=1,K52*L52/2,K52*L52))","v":0}]
[null,"午前午後","　8：30～17：00","使用の場合は、数字の1を入力　→",null,null,null,null,null,null,null,1645,0]
[null,"午後夜間","13：00～22：00","使用の場合は、数字の1を入力　→",null,null,null,null,null,null,null,2263,0]
[null,"終　　日","8：30～22：00","使用の場合は、数字の1を入力　→",null,null,null,null,null,null,null,2880,0]
[]
["住民相談室","１時間単位","　8：30～17：00",null,"：",null,"～",null,"：",null,{"$f":"IF(D57<8,0,IF(H57>17,0,+Sheet3!D53))","v":0},308,{"$f":"IF($F$3=1,K57*L57*3,IF($F$4=1,K57*L57/2,K57*L57))","v":0}]
[null,"１時間単位","17：00～22：00",null,"：",null,"～",null,"：",null,{"$f":"IF(D58<8,0,IF(D58<17,0,+Sheet3!D54))","v":0},390,{"$f":"IF($F$3=1,K58*L58*3,IF($F$4=1,K58*L58/2,K58*L58))","v":0}]
[null,"午前午後","　8：30～17：00","使用の場合は、数字の1を入力　→",null,null,null,null,null,null,null,1645,0]
[null,"午後夜間","13：00～22：00","使用の場合は、数字の1を入力　→",null,null,null,null,null,null,null,2263,0]
[null,"終　　日","8：30～22：00","使用の場合は、数字の1を入力　→",null,null,null,null,null,null,null,2880,0]
[]
[null,null,null,null,null,null,null,null,null,null,"１階合計",null,{"$f":"SUM(M7:M62)","v":0}]

{"sheet":"2階 計算表","index":2,"n_rows":63,"n_cols":13,"rows_kept":63,"cut":false,"hidden":false,"merged":[[10,3,10,9],[14,3,14,9],[15,3,15,9],[16,3,16,9],[5,3,5,9],[8,3,8,9],[9,3,9,9],[26,3,26,9],[27,3,27,9],[28,3,28,9],[20,3,20,9],[21,3,21,9],[22,3,22,9],[38,3,38,9],[39,3,39,9],[40,3,40,9],[32,3,32,9],[33,3,33,9],[34,3,34,9]]}
["隠岐島文化会館　料金計算表"]
["※黄色の枠に時間もしくは、1を入力して下さい。"]
["※営利目的の場合は、1を入力して下さい。　→　　"]
["※町内高等学校の場合は、1を入力して下さい。　→　　"]
[]
["２階",null,null,"使用時間",null,null,null,null,null,null,"使用時間","単価","金額"]
["集会室","１時間単位","　8：30～17：00",null,"：",null,"～",null,"：",null,{"$f":"IF(D7<8,0,IF(H7>17,0,+Sheet3!O3))","v":0},1543,{"$f":"IF($F$3=1,K7*L7*3,IF($F$4=1,K7*L7/2,K7*L7))","v":0}]
[null,"１時間単位","17：00～22：00",null,"：",null,"～",null,"：",null,{"$f":"IF(D8<8,0,IF(D8<17,0,+Sheet3!O4))","v":0},1954,{"$f":"IF($F$3=1,K8*L8*3,IF($F$4=1,K8*L8/2,K8*L8))","v":0}]
[null,"午前午後","　8：30～17：00","使用の場合は、数字の1を入力　→",null,null,null,null,null,null,null,8537,{"$f":"IF($F$3=1,K9*L9*3,IF($F$4=1,K9*L9/2,K9*L9))","v":0}]
[null,"午後夜間","13：00～22：00","使用の場合は、数字の1を入力　→",null,null,null,null,null,null,null,11622,0]
[null,"終　　日","8：30～22：00","使用の場合は、数字の1を入力　→",null,null,null,null,null,null,null,14812,0]
[]
["調理室","１時間単位","　8：30～17：00",null,"：",null,"～",null,"：",null,{"$f":"IF(D13<8,0,IF(H13>17,0,+Sheet3!O9))","v":0},463,{"$f":"+IF(K13=0,0,IF(D10=1,K13*L13*3,K13*L13))","v":0}]
[null,"１時間単位","17：00～22：00",null,"：",null,"～",null,"：",null,{"$f":"IF(D14<8,0,IF(D14<17,0,+Sheet3!O10))","v":0},565,{"$f":"+IF(K14=0,0,IF($F$3=1,K14*L14*3,K14*L14))","v":0}]
[null,"午前午後","　8：30～17：00","使用の場合は、数字の1を入力　→",null,null,null,null,null,null,null,2366,{"$f":"IF(D13>1,0,+IF(K15=1,IF($F$3=1,L15*3,L15),0))","v":0}]
[null,"午後夜間","13：00～22：00","使用の場合は、数字の1を入力　→",null,null,null,null,null,null,null,3394,{"$f":"IF(D14>1,0,+IF(K16=1,IF($F$3=1,L16*3,L16),0))","v":0}]
[null,"終　　日","8：30～22：00","使用の場合は、数字の1を入力　→",null,null,null,null,null,null,null,4320,{"$f":"IF(SUM(M13:M16)>1,0,+IF(K17=1,IF($F$3=1,L17*3,L17),0))","v":0}]
[]
["青年研修室","１時間単位","　8：30～17：00",null,"：",null,"～",null,"：",null,{"$f":"IF(D19<8,0,IF(H19>17,0,+Sheet3!O15))","v":0},463,{"$f":"+IF(K19=0,0,IF(D16=1,K19*L19*3,K19*L19))","v":0}]
[null,"１時間単位","17：00～22：00",null,"：",null,"～",null,"：",null,{"$f":"IF(D20<8,0,IF(D20<17,0,+Sheet3!O16))","v":0},565,{"$f":"+IF(K20=0,0,IF($F$3=1,K20*L20*3,K20*L20))","v":0}]
[null,"午前午後","　8：30～17：00","使用の場合は、数字の1を入力　→",null,null,null,null,null,null,null,2366,{"$f":"IF(D19>1,0,+IF(K21=1,IF($F$3=1,L21*3,L21),0))","v":0}]
[null,"午後夜間","13：00～22：00","使用の場合は、数字の1を入力　→",null,null,null,null,null,null,null,3394,{"$f":"IF(D20>1,0,+IF(K22=1,IF($F$3=1,L22*3,L22),0))","v":0}]
[null,"終　　日","8：30～22：00","使用の場合は、数字の1を入力　→",null,null,null,null,null,null,null,4320,{"$f":"IF(SUM(M19:M22)>1,0,+IF(K23=1,IF($F$3=1,L23*3,L23),0))","v":0}]
[]
["展示ホール","１時間単位","　8：30～17：00",null,"：",null,"～",null,"：",null,{"$f":"IF(D25<8,0,IF(H25>17,0,+Sheet3!O21))","v":0},463,{"$f":"+IF(K25=0,0,IF(D22=1,K25*L25*3,K25*L25))","v":0}]
[null,"１時間単位","17：00～22：00",null,"：",null,"～",null,"：",null,{"$f":"IF(D26<8,0,IF(D26<17,0,+Sheet3!O22))","v":0},565,{"$f":"+IF(K26=0,0,IF($F$3=1,K26*L26*3,K26*L26))","v":0}]
[null,"午前午後","　8：30～17：00","使用の場合は、数字の1を入力　→",null,null,null,null,null,null,null,2366,{"$f":"IF(D25>1,0,+IF(K27=1,IF($F$3=1,L27*3,L27),0))","v":0}]
[null,"午後夜間","13：00～22：00","使用の場合は、数字の1を入力　→",null,null,null,null,null,null,null,3394,{"$f":"IF(D26>1,0,+IF(K28=1,IF($F$3=1,L28*3,L28),0))","v":0}]
[null,"終　　日","8：30～22：00","使用の場合は、数字の1を入力　→",null,null,null,null,null,null,null,4320,{"$f":"IF(SUM(M25:M28)>1,0,+IF(K29=1,IF($F$3=1,L29*3,L29),0))","v":0}]
[]
["会議室","１時間単位","　8：30～17：00",null,"：",null,"～",null,"：",null,{"$f":"IF(D31<8,0,IF(H31>17,0,+Sheet3!O27))","v":0},308,{"$f":"+IF(K31=0,0,IF(D28=1,K31*L31*3,K31*L31))","v":0}]
[null,"１時間単位","17：00～22：00",null,"：",null,"～",null,"：",null,{"$f":"IF(D32<8,0,IF(D32<17,0,+Sheet3!O28))","v":0},390,{"$f":"+IF(K32=0,0,IF($F$3=1,K32*L32*3,K32*L32))","v":0}]
[null,"午前午後","　8：30～17：00","使用の場合は、数字の1を入力　→",null,null,null,null,null,null,null,1645,{"$f":"IF(D31>1,0,+IF(K33=1,IF($F$3=1,L33*3,L33),0))","v":0}]
[null,"午後夜間","13：00～22：00","使用の場合は、数字の1を入力　→",null,null,null,null,null,null,null,2263,{"$f":"IF(D32>1,0,+IF(K34=1,IF($F$3=1,L34*3,L34),0))","v":0}]
[null,"終　　日","8：30～22：00","使用の場合は、数字の1を入力　→",null,null,null,null,null,null,null,2880,{"$f":"IF(SUM(M31:M34)>1,0,+IF(K35=1,IF($F$3=1,L35*3,L35),0))","v":0}]
[]
["産業研修室","１時間単位","　8：30～17：00",null,"：",null,"～",null,"：",null,{"$f":"IF(D37<8,0,IF(H37>17,0,+Sheet3!O33))","v":0},308,{"$f":"+IF(K37=0,0,IF(D34=1,K37*L37*3,K37*L37))","v":0}]
[null,"１時間単位","17：00～22：00",null,"：",null,"～",null,"：",null,{"$f":"IF(D38<8,0,IF(D38<17,0,+Sheet3!O34))","v":0},390,{"$f":"+IF(K38=0,0,IF($F$3=1,K38*L38*3,K38*L38))","v":0}]
[null,"午前午後","　8：30～17：00","使用の場合は、数字の1を入力　→",null,null,null,null,null,null,null,1645,{"$f":"IF(D37>1,0,+IF(K39=1,IF($F$3=1,L39*3,L39),0))","v":0}]
[null,"午後夜間","13：00～22：00","使用の場合は、数字の1を入力　→",null,null,null,null,null,null,null,2263,{"$f":"IF(D38>1,0,+IF(K40=1,IF($F$3=1,L40*3,L40),0))","v":0}]
[null,"終　　日","8：30～22：00","使用の場合は、数字の1を入力　→",null,null,null,null,null,null,null,2880,{"$f":"IF(SUM(M37:M40)>1,0,+IF(K41=1,IF($F$3=1,L41*3,L41),0))","v":0}]
[]
[null,null,null,null,null,null,null,null,null,null,"２階合計",null,{"$f":"SUM(M7:M42)","v":0}]
[]
[]
[]
[]
[]
[]
[]
[]
[]
[]
[]
[]
[]
[]
[]
[]
[]
[]
[]
[null,null,null,null,null,null,null,null,null,null,"２階合計",null,{"$f":"SUM(M7:M61)","v":0}]

{"sheet":"Sheet3","index":3,"n_rows":108,"n_cols":15,"rows_kept":108,"cut":false,"hidden":true,"merged":[]}
[]
[]
[{"$f":"+'1階 計算表'!A7","v":"大ホール"},{"$f":"+'1階 計算表'!H7-'1階 計算表'!D7","v":0},{"$f":"+'1階 計算表'!J7-'1階 計算表'!F7","v":0},{"$f":"IF(B3<0,0,+IF(C3>0,B3+1,B3))","v":0},null,null,{"$f":"+例!H6-例!D6","v":4},{"$f":"+例!J6-例!F6","v":0},{"$f":"+IF(H3>0,G3+1,G3)","v":4},null,null,{"$f":"++'2階 計算表'!A7","v":"集会室"},{"$f":"+'2階 計算表'!H7-'2階 計算表'!D7","v":0},{"$f":"+'2階 計算表'!J7-'2階 計算表'!F7","v":0},{"$f":"IF(M3<1,0,+IF(N3>0,M3+1,M3))","v":0}]
[{"$f":"+'1階 計算表'!A8","v":0},{"$f":"+'1階 計算表'!H8-'1階 計算表'!D8","v":0},{"$f":"+'1階 計算表'!J8-'1階 計算表'!F8","v":0},{"$f":"IF(B4<0,0,+IF(C4>0,B4+1,B4))","v":0},null,null,{"$f":"+例!H7-例!D7","v":2},{"$f":"+例!J7-例!F7","v":0},{"$f":"+IF(H4>0,G4+1,G4)","v":2},null,null,{"$f":"++'2階 計算表'!A8","v":0},{"$f":"+'2階 計算表'!H8-'2階 計算表'!D8","v":0},{"$f":"+'2階 計算表'!J8-'2階 計算表'!F8","v":0},{"$f":"IF(M4<1,0,+IF(N4>0,M4+1,M4))","v":0}]
[{"$f":"+'1階 計算表'!A9","v":0},{"$f":"+'1階 計算表'!H9-'1階 計算表'!D9","v":{"$error":"#VALUE!"}},{"$f":"+'1階 計算表'!J9-'1階 計算表'!F9","v":0},{"$error":"#VALUE!"},null,null,null,null,null,null,null,{"$f":"++'2階 計算表'!A9","v":0},{"$f":"+'2階 計算表'!H9-'2階 計算表'!D9","v":{"$error":"#VALUE!"}},{"$f":"+'2階 計算表'!J9-'2階 計算表'!F9","v":0},{"$f":"IF(M5<1,0,+IF(N5>0,M5+1,M5))","v":{"$error":"#VALUE!"}}]
[{"$f":"+'1階 計算表'!A10","v":0},{"$f":"+'1階 計算表'!H10-'1階 計算表'!D10","v":{"$error":"#VALUE!"}},{"$f":"+'1階 計算表'!J10-'1階 計算表'!F10","v":0},{"$error":"#VALUE!"},null,null,null,null,null,null,null,{"$f":"++'2階 計算表'!A10","v":0},{"$f":"+'2階 計算表'!H10-'2階 計算表'!D10","v":{"$error":"#VALUE!"}},{"$f":"+'2階 計算表'!J10-'2階 計算表'!F10","v":0},{"$error":"#VALUE!"}]
[{"$f":"+'1階 計算表'!A11","v":0},{"$f":"+'1階 計算表'!H11-'1階 計算表'!D11","v":{"$error":"#VALUE!"}},{"$f":"+'1階 計算表'!J11-'1階 計算表'!F11","v":0},{"$error":"#VALUE!"},null,null,null,null,null,null,null,{"$f":"++'2階 計算表'!A11","v":0},{"$f":"+'2階 計算表'!H11-'2階 計算表'!D11","v":{"$error":"#VALUE!"}},{"$f":"+'2階 計算表'!J11-'2階 計算表'!F11","v":0},{"$error":"#VALUE!"}]
[{"$f":"+'1階 計算表'!A12","v":"ステージのみ利用"},{"$f":"+'1階 計算表'!H12-'1階 計算表'!D12","v":0},{"$f":"+'1階 計算表'!J12-'1階 計算表'!F12","v":0},0,null,null,{"$f":"+例!H11-例!D11","v":4},{"$f":"+例!J11-例!F11","v":-30},{"$f":"+IF(H8>0,G8+1,G8)","v":4},null,null,{"$f":"++'2階 計算表'!A12","v":0},{"$f":"+'2階 計算表'!H12-'2階 計算表'!D12","v":0},{"$f":"+'2階 計算表'!J12-'2階 計算表'!F12","v":0},0]
[{"$f":"+'1階 計算表'!A13","v":"大ホール空調"},{"$f":"+'1階 計算表'!H13-'1階 計算表'!D13","v":0},{"$f":"+'1階 計算表'!J13-'1階 計算表'!F13","v":0},0,null,null,{"$f":"+例!H12-例!D12","v":0},{"$f":"+例!J12-例!F12","v":0},{"$f":"+IF(H9>0,G9+1,G9)","v":0},null,null,{"$f":"++'2階 計算表'!A13","v":"調理室"},{"$f":"+'2階 計算表'!H13-'2階 計算表'!D13","v":0},{"$f":"+'2階 計算表'!J13-'2階 計算表'!F13","v":0},0]
[{"$f":"+'1階 計算表'!A14","v":0},{"$f":"+'1階 計算表'!H14-'1階 計算表'!D14","v":0},{"$f":"+'1階 計算表'!J14-'1階 計算表'!F14","v":0},0,null,null,{"$f":"+例!H14-例!D14","v":0},{"$f":"+例!J14-例!F14","v":0},0,null,null,{"$f":"++'2階 計算表'!A14","v":0},{"$f":"+'2階 計算表'!H14-'2階 計算表'!D14","v":0},{"$f":"+'2階 計算表'!J14-'2階 計算表'!F14","v":0},0]
[{"$f":"+'1階 計算表'!A15","v":"保養室"},{"$f":"+'1階 計算表'!H15-'1階 計算表'!D15","v":0},{"$f":"+'1階 計算表'!J15-'1階 計算表'!F15","v":0},0,null,null,{"$f":"+例!H15-例!D15","v":0},{"$f":"+例!J15-例!F15","v":0},0,null,null,{"$f":"++'2階 計算表'!A15","v":0},{"$f":"+'2階 計算表'!H15-'2階 計算表'!D15","v":{"$error":"#VALUE!"}},{"$f":"+'2階 計算表'!J15-'2階 計算表'!F15","v":0},{"$error":"#VALUE!"}]
[{"$f":"+'1階 計算表'!A16","v":0},{"$f":"+'1階 計算表'!H16-'1階 計算表'!D16","v":0},{"$f":"+'1階 計算表'!J16-'1階 計算表'!F16","v":0},0,null,null,null,null,null,null,null,{"$f":"++'2階 計算表'!A16","v":0},{"$f":"+'2階 計算表'!H16-'2階 計算表'!D16","v":{"$error":"#VALUE!"}},{"$f":"+'2階 計算表'!J16-'2階 計算表'!F16","v":0},{"$error":"#VALUE!"}]
[{"$f":"+'1階 計算表'!A17","v":0},{"$f":"+'1階 計算表'!H17-'1階 計算表'!D17","v":{"$error":"#VALUE!"}},{"$f":"+'1階 計算表'!J17-'1階 計算表'!F17","v":0},{"$error":"#VALUE!"},null,null,null,null,null,null,null,{"$f":"++'2階 計算表'!A17","v":0},{"$f":"+'2階 計算表'!H17-'2階 計算表'!D17","v":{"$error":"#VALUE!"}},{"$f":"+'2階 計算表'!J17-'2階 計算表'!F17","v":0},{"$error":"#VALUE!"}]
[{"$f":"+'1階 計算表'!A18","v":0},{"$f":"+'1階 計算表'!H18-'1階 計算表'!D18","v":{"$error":"#VALUE!"}},{"$f":"+'1階 計算表'!J18-'1階 計算表'!F18","v":0},{"$error":"#VALUE!"},null,null,null,null,null,null,null,{"$f":"++'2階 計算表'!A18","v":0},{"$f":"+'2階 計算表'!H18-'2階 計算表'!D18","v":0},{"$f":"+'2階 計算表'!J18-'2階 計算表'!F18","v":0},0]
[{"$f":"+'1階 計算表'!A19","v":0},{"$f":"+'1階 計算表'!H19-'1階 計算表'!D19","v":{"$error":"#VALUE!"}},{"$f":"+'1階 計算表'!J19-'1階 計算表'!F19","v":0},{"$error":"#VALUE!"},null,null,{"$f":"+例!H20-例!D20","v":0},{"$f":"+例!J20-例!F20","v":0},{"$f":"+IF(H15>0,G15+1,G15)","v":0},null,null,{"$f":"++'2階 計算表'!A19","v":"青年研修室"},{"$f":"+'2階 計算表'!H19-'2階 計算表'!D19","v":0},{"$f":"+'2階 計算表'!J19-'2階 計算表'!F19","v":0},0]
[{"$f":"+'1階 計算表'!A20","v":0},{"$f":"+'1階 計算表'!H20-'1階 計算表'!D20","v":0},{"$f":"+'1階 計算表'!J20-'1階 計算表'!F20","v":0},0,null,null,{"$f":"+例!H21-例!D21","v":0},{"$f":"+例!J21-例!F21","v":0},0,null,null,{"$f":"++'2階 計算表'!A20","v":0},{"$f":"+'2階 計算表'!H20-'2階 計算表'!D20","v":0},{"$f":"+'2階 計算表'!J20-'2階 計算表'!F20","v":0},0]
[{"$f":"+'1階 計算表'!A21","v":"娯楽室"},{"$f":"+'1階 計算表'!H21-'1階 計算表'!D21","v":0},{"$f":"+'1階 計算表'!J21-'1階 計算表'!F21","v":0},0,null,null,null,null,null,null,null,{"$f":"++'2階 計算表'!A21","v":0},{"$f":"+'2階 計算表'!H21-'2階 計算表'!D21","v":{"$error":"#VALUE!"}},{"$f":"+'2階 計算表'!J21-'2階 計算表'!F21","v":0},{"$error":"#VALUE!"}]
[{"$f":"+'1階 計算表'!A22","v":0},{"$f":"+'1階 計算表'!H22-'1階 計算表'!D22","v":0},{"$f":"+'1階 計算表'!J22-'1階 計算表'!F22","v":0},0,null,null,null,null,null,null,null,{"$f":"++'2階 計算表'!A22","v":0},{"$f":"+'2階 計算表'!H22-'2階 計算表'!D22","v":{"$error":"#VALUE!"}},{"$f":"+'2階 計算表'!J22-'2階 計算表'!F22","v":0},{"$error":"#VALUE!"}]
[{"$f":"+'1階 計算表'!A23","v":0},{"$f":"+'1階 計算表'!H23-'1階 計算表'!D23","v":{"$error":"#VALUE!"}},{"$f":"+'1階 計算表'!J23-'1階 計算表'!F23","v":0},{"$error":"#VALUE!"},null,null,null,null,null,null,null,{"$f":"++'2階 計算表'!A23","v":0},{"$f":"+'2階 計算表'!H23-'2階 計算表'!D23","v":{"$error":"#VALUE!"}},{"$f":"+'2階 計算表'!J23-'2階 計算表'!F23","v":0},{"$error":"#VALUE!"}]
[{"$f":"+'1階 計算表'!A24","v":0},{"$f":"+'1階 計算表'!H24-'1階 計算表'!D24","v":{"$error":"#VALUE!"}},{"$f":"+'1階 計算表'!J24-'1階 計算表'!F24","v":0},{"$error":"#VALUE!"},null,null,{"$f":"+例!H26-例!D26","v":0},{"$f":"+例!J26-例!F26","v":0},{"$f":"+IF(H20>0,G20+1,G20)","v":0},null,null,{"$f":"++'2階 計算表'!A24","v":0},{"$f":"+'2階 計算表'!H24-'2階 計算表'!D24","v":0},{"$f":"+'2階 計算表'!J24-'2階 計算表'!F24","v":0},0]
[{"$f":"+'1階 計算表'!A25","v":0},{"$f":"+'1階 計算表'!H25-'1階 計算表'!D25","v":{"$error":"#VALUE!"}},{"$f":"+'1階 計算表'!J25-'1階 計算表'!F25","v":0},{"$error":"#VALUE!"},null,null,{"$f":"+例!H27-例!D27","v":0},{"$f":"+例!J27-例!F27","v":0},0,null,null,{"$f":"++'2階 計算表'!A25","v":"展示ホール"},{"$f":"+'2階 計算表'!H25-'2階 計算表'!D25","v":0},{"$f":"+'2階 計算表'!J25-'2階 計算表'!F25","v":0},0]
[{"$f":"+'1階 計算表'!A26","v":0},{"$f":"+'1階 計算表'!H26-'1階 計算表'!D26","v":0},{"$f":"+'1階 計算表'!J26-'1階 計算表'!F26","v":0},0,null,null,null,null,null,null,null,{"$f":"++'2階 計算表'!A26","v":0},{"$f":"+'2階 計算表'!H26-'2階 計算表'!D26","v":0},{"$f":"+'2階 計算表'!J26-'2階 計算表'!F26","v":0},0]
[{"$f":"+'1階 計算表'!A27","v":"研修室"},{"$f":"+'1階 計算表'!H27-'1階 計算表'!D27","v":0},{"$f":"+'1階 計算表'!J27-'1階 計算表'!F27","v":0},0,null,null,null,null,null,null,null,{"$f":"++'2階 計算表'!A27","v":0},{"$f":"+'2階 計算表'!H27-'2階 計算表'!D27","v":{"$error":"#VALUE!"}},{"$f":"+'2階 計算表'!J27-'2階 計算表'!F27","v":0},{"$error":"#VALUE!"}]
[{"$f":"+'1階 計算表'!A28","v":0},{"$f":"+'1階 計算表'!H28-'1階 計算表'!D28","v":0},{"$f":"+'1階 計算表'!J28-'1階 計算表'!F28","v":0},0,null,null,null,null,null,null,null,{"$f":"++'2階 計算表'!A28","v":0},{"$f":"+'2階 計算表'!H28-'2階 計算表'!D28","v":{"$error":"#VALUE!"}},{"$f":"+'2階 計算表'!J28-'2階 計算表'!F28","v":0},{"$error":"#VALUE!"}]
[{"$f":"+'1階 計算表'!A29","v":0},{"$f":"+'1階 計算表'!H29-'1階 計算表'!D29","v":{"$error":"#VALUE!"}},{"$f":"+'1階 計算表'!J29-'1階 計算表'!F29","v":0},{"$error":"#VALUE!"},null,null,{"$f":"+例!H32-例!D32","v":0},{"$f":"+例!J32-例!F32","v":0},{"$f":"+IF(H25>0,G25+1,G25)","v":0},null,null,{"$f":"++'2階 計算表'!A29","v":0},{"$f":"+'2階 計算表'!H29-'2階 計算表'!D29","v":{"$error":"#VALUE!"}},{"$f":"+'2階 計算表'!J29-'2階 計算表'!F29","v":0},{"$error":"#VALUE!"}]
[{"$f":"+'1階 計算表'!A30","v":0},{"$f":"+'1階 計算表'!H30-'1階 計算表'!D30","v":{"$error":"#VALUE!"}},{"$f":"+'1階 計算表'!J30-'1階 計算表'!F30","v":0},{"$error":"#VALUE!"},null,null,{"$f":"+例!H33-例!D33","v":0},{"$f":"+例!J33-例!F33","v":0},0,null,null,{"$f":"++'2階 計算表'!A30","v":0},{"$f":"+'2階 計算表'!H30-'2階 計算表'!D30","v":0},{"$f":"+'2階 計算表'!J30-'2階 計算表'!F30","v":0},0]
[{"$f":"+'1階 計算表'!A31","v":0},{"$f":"+'1階 計算表'!H31-'1階 計算表'!D31","v":{"$error":"#VALUE!"}},{"$f":"+'1階 計算表'!J31-'1階 計算表'!F31","v":0},{"$error":"#VALUE!"},null,null,null,null,null,null,null,{"$f":"++'2階 計算表'!A31","v":"会議室"},{"$f":"+'2階 計算表'!H31-'2階 計算表'!D31","v":0},{"$f":"+'2階 計算表'!J31-'2階 計算表'!F31","v":0},0]
[{"$f":"+'1階 計算表'!A32","v":0},{"$f":"+'1階 計算表'!H32-'1階 計算表'!D32","v":0},{"$f":"+'1階 計算表'!J32-'1階 計算表'!F32","v":0},0,null,null,null,null,null,null,null,{"$f":"++'2階 計算表'!A32","v":0},{"$f":"+'2階 計算表'!H32-'2階 計算表'!D32","v":0},{"$f":"+'2階 計算表'!J32-'2階 計算表'!F32","v":0},0]
[{"$f":"+'1階 計算表'!A33","v":"ホワイエ"},{"$f":"+'1階 計算表'!H33-'1階 計算表'!D33","v":0},{"$f":"+'1階 計算表'!J33-'1階 計算表'!F33","v":0},0,null,null,null,null,null,null,null,{"$f":"++'2階 計算表'!A33","v":0},{"$f":"+'2階 計算表'!H33-'2階 計算表'!D33","v":{"$error":"#VALUE!"}},{"$f":"+'2階 計算表'!J33-'2階 計算表'!F33","v":0},{"$error":"#VALUE!"}]
[{"$f":"+'1階 計算表'!A34","v":0},{"$f":"+'1階 計算表'!H34-'1階 計算表'!D34","v":0},{"$f":"+'1階 計算表'!J34-'1階 計算表'!F34","v":0},0,null,null,{"$f":"+例!H38-例!D38","v":0},{"$f":"+例!J38-例!F38","v":0},{"$f":"+IF(H30>0,G30+1,G30)","v":0},null,null,{"$f":"++'2階 計算表'!A34","v":0},{"$f":"+'2階 計算表'!H34-'2階 計算表'!D34","v":{"$error":"#VALUE!"}},{"$f":"+'2階 計算表'!J34-'2階 計算表'!F34","v":0},{"$error":"#VALUE!"}]
[{"$f":"+'1階 計算表'!A35","v":0},{"$f":"+'1階 計算表'!H35-'1階 計算表'!D35","v":{"$error":"#VALUE!"}},{"$f":"+'1階 計算表'!J35-'1階 計算表'!F35","v":0},{"$error":"#VALUE!"},null,null,{"$f":"+例!H39-例!D39","v":0},{"$f":"+例!J39-例!F39","v":0},0,null,null,{"$f":"++'2階 計算表'!A35","v":0},{"$f":"+'2階 計算表'!H35-'2階 計算表'!D35","v":{"$error":"#VALUE!"}},{"$f":"+'2階 計算表'!J35-'2階 計算表'!F35","v":0},{"$error":"#VALUE!"}]
[{"$f":"+'1階 計算表'!A36","v":0},{"$f":"+'1階 計算表'!H36-'1階 計算表'!D36","v":{"$error":"#VALUE!"}},{"$f":"+'1階 計算表'!J36-'1階 計算表'!F36","v":0},{"$error":"#VALUE!"},null,null,null,null,null,null,null,{"$f":"++'2階 計算表'!A36","v":0},{"$f":"+'2階 計算表'!H36-'2階 計算表'!D36","v":0},{"$f":"+'2階 計算表'!J36-'2階 計算表'!F36","v":0},0]
[{"$f":"+'1階 計算表'!A37","v":0},{"$f":"+'1階 計算表'!H37-'1階 計算表'!D37","v":{"$error":"#VALUE!"}},{"$f":"+'1階 計算表'!J37-'1階 計算表'!F37","v":0},{"$error":"#VALUE!"},null,null,null,null,null,null,null,{"$f":"++'2階 計算表'!A37","v":"産業研修室"},{"$f":"+'2階 計算表'!H37-'2階 計算表'!D37","v":0},{"$f":"+'2階 計算表'!J37-'2階 計算表'!F37","v":0},0]
[{"$f":"+'1階 計算表'!A38","v":0},{"$f":"+'1階 計算表'!H38-'1階 計算表'!D38","v":0},{"$f":"+'1階 計算表'!J38-'1階 計算表'!F38","v":0},0,null,null,null,null,null,null,null,{"$f":"++'2階 計算表'!A38","v":0},{"$f":"+'2階 計算表'!H38-'2階 計算表'!D38","v":0},{"$f":"+'2階 計算表'!J38-'2階 計算表'!F38","v":0},0]
[{"$f":"+'1階 計算表'!A39","v":"コミュニケーションホール"},{"$f":"+'1階 計算表'!H39-'1階 計算表'!D39","v":0},{"$f":"+'1階 計算表'!J39-'1階 計算表'!F39","v":0},0,null,null,{"$f":"+例!H44-例!D44","v":0},{"$f":"+例!J44-例!F44","v":0},{"$f":"+IF(H35>0,G35+1,G35)","v":0},null,null,{"$f":"++'2階 計算表'!A39","v":0},{"$f":"+'2階 計算表'!H39-'2階 計算表'!D39","v":{"$error":"#VALUE!"}},{"$f":"+'2階 計算表'!J39-'2階 計算表'!F39","v":0},{"$error":"#VALUE!"}]
[{"$f":"+'1階 計算表'!A40","v":0},{"$f":"+'1階 計算表'!H40-'1階 計算表'!D40","v":0},{"$f":"+'1階 計算表'!J40-'1階 計算表'!F40","v":0},0,null,null,{"$f":"+例!H45-例!D45","v":0},{"$f":"+例!J45-例!F45","v":0},0,null,null,{"$f":"++'2階 計算表'!A40","v":0},{"$f":"+'2階 計算表'!H40-'2階 計算表'!D40","v":{"$error":"#VALUE!"}},{"$f":"+'2階 計算表'!J40-'2階 計算表'!F40","v":0},{"$error":"#VALUE!"}]
[{"$f":"+'1階 計算表'!A41","v":0},{"$f":"+'1階 計算表'!H41-'1階 計算表'!D41","v":{"$error":"#VALUE!"}},{"$f":"+'1階 計算表'!J41-'1階 計算表'!F41","v":0},{"$error":"#VALUE!"},null,null,null,null,null,null,null,{"$f":"++'2階 計算表'!A41","v":0},{"$f":"+'2階 計算表'!H41-'2階 計算表'!D41","v":{"$error":"#VALUE!"}},{"$f":"+'2階 計算表'!J41-'2階 計算表'!F41","v":0},{"$error":"#VALUE!"}]
[{"$f":"+'1階 計算表'!A42","v":0},{"$f":"+'1階 計算表'!H42-'1階 計算表'!D42","v":{"$error":"#VALUE!"}},{"$f":"+'1階 計算表'!J42-'1階 計算表'!F42","v":0},{"$error":"#VALUE!"},null,null,null,null,null,null,null,{"$f":"++'2階 計算表'!A42","v":0},{"$f":"+'2階 計算表'!H42-'2階 計算表'!D42","v":0},{"$f":"+'2階 計算表'!J42-'2階 計算表'!F42","v":0},0]
[{"$f":"+'1階 計算表'!A43","v":0},{"$f":"+'1階 計算表'!H43-'1階 計算表'!D43","v":{"$error":"#VALUE!"}},{"$f":"+'1階 計算表'!J43-'1階 計算表'!F43","v":0},{"$error":"#VALUE!"},null,null,null,null,null,null,null,{"$f":"++'2階 計算表'!A43","v":0},{"$f":"+'2階 計算表'!H43-'2階 計算表'!D43","v":0},{"$f":"+'2階 計算表'!J43-'2階 計算表'!F43","v":0},0]
[{"$f":"+'1階 計算表'!A44","v":0},{"$f":"+'1階 計算表'!H44-'1階 計算表'!D44","v":0},{"$f":"+'1階 計算表'!J44-'1階 計算表'!F44","v":0},0,null,null,{"$f":"+例!H50-例!D50","v":0},{"$f":"+例!J50-例!F50","v":0},{"$f":"+IF(H40>0,G40+1,G40)","v":0},null,null,{"$f":"++'2階 計算表'!A44","v":0},{"$f":"+'2階 計算表'!H44-'2階 計算表'!D44","v":0},{"$f":"+'2階 計算表'!J44-'2階 計算表'!F44","v":0},0]
[{"$f":"+'1階 計算表'!A45","v":"控室"},{"$f":"+'1階 計算表'!H45-'1階 計算表'!D45","v":0},{"$f":"+'1階 計算表'!J45-'1階 計算表'!F45","v":0},0,null,null,{"$f":"+例!H51-例!D51","v":0},{"$f":"+例!J51-例!F51","v":0},0,null,null,{"$f":"++'2階 計算表'!A45","v":0},{"$f":"+'2階 計算表'!H45-'2階 計算表'!D45","v":0},{"$f":"+'2階 計算表'!J45-'2階 計算表'!F45","v":0},0]
[{"$f":"+'1階 計算表'!A46","v":0},{"$f":"+'1階 計算表'!H46-'1階 計算表'!D46","v":0},{"$f":"+'1階 計算表'!J46-'1階 計算表'!F46","v":0},0,null,null,null,null,null,null,null,{"$f":"++'2階 計算表'!A46","v":0},{"$f":"+'2階 計算表'!H46-'2階 計算表'!D46","v":0},{"$f":"+'2階 計算表'!J46-'2階 計算表'!F46","v":0},0]
[{"$f":"+'1階 計算表'!A47","v":0},{"$f":"+'1階 計算表'!H47-'1階 計算表'!D47","v":{"$error":"#VALUE!"}},{"$f":"+'1階 計算表'!J47-'1階 計算表'!F47","v":0},{"$error":"#VALUE!"},null,null,null,null,null,null,null,{"$f":"++'2階 計算表'!A47","v":0},{"$f":"+'2階 計算表'!H47-'2階 計算表'!D47","v":0},{"$f":"+'2階 計算表'!J47-'2階 計算表'!F47","v":0},0]
[{"$f":"+'1階 計算表'!A48","v":0},{"$f":"+'1階 計算表'!H48-'1階 計算表'!D48","v":{"$error":"#VALUE!"}},{"$f":"+'1階 計算表'!J48-'1階 計算表'!F48","v":0},{"$error":"#VALUE!"},null,null,null,null,null,null,null,{"$f":"++'2階 計算表'!A48","v":0},{"$f":"+'2階 計算表'!H48-'2階 計算表'!D48","v":0},{"$f":"+'2階 計算表'!J48-'2階 計算表'!F48","v":0},0]
[{"$f":"+'1階 計算表'!A49","v":0},{"$f":"+'1階 計算表'!H49-'1階 計算表'!D49","v":{"$error":"#VALUE!"}},{"$f":"+'1階 計算表'!J49-'1階 計算表'!F49","v":0},{"$error":"#VALUE!"},null,null,{"$f":"+例!H56-例!D56","v":0},{"$f":"+例!J56-例!F56","v":0},{"$f":"+IF(H45>0,G45+1,G45)","v":0},null,null,{"$f":"++'2階 計算表'!A49","v":0},{"$f":"+'2階 計算表'!H49-'2階 計算表'!D49","v":0},{"$f":"+'2階 計算表'!J49-'2階 計算表'!F49","v":0},0]
[{"$f":"+'1階 計算表'!A50","v":0},{"$f":"+'1階 計算表'!H50-'1階 計算表'!D50","v":0},{"$f":"+'1階 計算表'!J50-'1階 計算表'!F50","v":0},0,null,null,{"$f":"+例!H57-例!D57","v":0},{"$f":"+例!J57-例!F57","v":0},0,null,null,{"$f":"++'2階 計算表'!A50","v":0},{"$f":"+'2階 計算表'!H50-'2階 計算表'!D50","v":0},{"$f":"+'2階 計算表'!J50-'2階 計算表'!F50","v":0},0]
[{"$f":"+'1階 計算表'!A51","v":"小会議室"},{"$f":"+'1階 計算表'!H51-'1階 計算表'!D51","v":0},{"$f":"+'1階 計算表'!J51-'1階 計算表'!F51","v":0},0,null,null,null,null,null,null,null,{"$f":"++'2階 計算表'!A51","v":0},{"$f":"+'2階 計算表'!H51-'2階 計算表'!D51","v":0},{"$f":"+'2階 計算表'!J51-'2階 計算表'!F51","v":0},0]
[{"$f":"+'1階 計算表'!A52","v":0},{"$f":"+'1階 計算表'!H52-'1階 計算表'!D52","v":0},{"$f":"+'1階 計算表'!J52-'1階 計算表'!F52","v":0},0,null,null,null,null,null,null,null,{"$f":"++'2階 計算表'!A52","v":0},{"$f":"+'2階 計算表'!H52-'2階 計算表'!D52","v":0},{"$f":"+'2階 計算表'!J52-'2階 計算表'!F52","v":0},0]
[{"$f":"+'1階 計算表'!A53","v":0},{"$f":"+'1階 計算表'!H53-'1階 計算表'!D53","v":{"$error":"#VALUE!"}},{"$f":"+'1階 計算表'!J53-'1階 計算表'!F53","v":0},{"$error":"#VALUE!"},null,null,null,null,null,null,null,{"$f":"++'2階 計算表'!A53","v":0},{"$f":"+'2階 計算表'!H53-'2階 計算表'!D53","v":0},{"$f":"+'2階 計算表'!J53-'2階 計算表'!F53","v":0},0]
[{"$f":"+'1階 計算表'!A54","v":0},{"$f":"+'1階 計算表'!H54-'1階 計算表'!D54","v":{"$error":"#VALUE!"}},{"$f":"+'1階 計算表'!J54-'1階 計算表'!F54","v":0},{"$error":"#VALUE!"},null,null,{"$f":"+例!V6-例!R6","v":0},{"$f":"+例!X6-例!T6","v":0},{"$f":"+IF(H50>0,G50+1,G50)","v":0},null,null,{"$f":"++'2階 計算表'!A54","v":0},{"$f":"+'2階 計算表'!H54-'2階 計算表'!D54","v":0},{"$f":"+'2階 計算表'!J54-'2階 計算表'!F54","v":0},0]
[{"$f":"+'1階 計算表'!A55","v":0},{"$f":"+'1階 計算表'!H55-'1階 計算表'!D55","v":{"$error":"#VALUE!"}},{"$f":"+'1階 計算表'!J55-'1階 計算表'!F55","v":0},{"$error":"#VALUE!"},null,null,{"$f":"+例!V7-例!R7","v":0},{"$f":"+例!X7-例!T7","v":0},0,null,null,{"$f":"++'2階 計算表'!A55","v":0},{"$f":"+'2階 計算表'!H55-'2階 計算表'!D55","v":0},{"$f":"+'2階 計算表'!J55-'2階 計算表'!F55","v":0},0]
[{"$f":"+'1階 計算表'!A56","v":0},{"$f":"+'1階 計算表'!H56-'1階 計算表'!D56","v":0},{"$f":"+'1階 計算表'!J56-'1階 計算表'!F56","v":0},0,null,null,null,null,null,null,null,{"$f":"++'2階 計算表'!A56","v":0},{"$f":"+'2階 計算表'!H56-'2階 計算表'!D56","v":0},{"$f":"+'2階 計算表'!J56-'2階 計算表'!F56","v":0},0]
[{"$f":"+'1階 計算表'!A57","v":"住民相談室"},{"$f":"+'1階 計算表'!H57-'1階 計算表'!D57","v":0},{"$f":"+'1階 計算表'!J57-'1階 計算表'!F57","v":0},0,null,null,null,null,null,null,null,{"$f":"++'2階 計算表'!A57","v":0},{"$f":"+'2階 計算表'!H57-'2階 計算表'!D57","v":0},{"$f":"+'2階 計算表'!J57-'2階 計算表'!F57","v":0},0]
[{"$f":"+'1階 計算表'!A58","v":0},{"$f":"+'1階 計算表'!H58-'1階 計算表'!D58","v":0},{"$f":"+'1階 計算表'!J58-'1階 計算表'!F58","v":0},0,null,null,null,null,null,null,null,{"$f":"++'2階 計算表'!A58","v":0},{"$f":"+'2階 計算表'!H58-'2階 計算表'!D58","v":0},{"$f":"+'2階 計算表'!J58-'2階 計算表'!F58","v":0},0]
[{"$f":"+'1階 計算表'!A59","v":0},{"$f":"+'1階 計算表'!H59-'1階 計算表'!D59","v":{"$error":"#VALUE!"}},{"$f":"+'1階 計算表'!J59-'1階 計算表'!F59","v":0},{"$error":"#VALUE!"},null,null,null,null,null,null,null,{"$f":"++'2階 計算表'!A59","v":0},{"$f":"+'2階 計算表'!H59-'2階 計算表'!D59","v":0},{"$f":"+'2階 計算表'!J59-'2階 計算表'!F59","v":0},0]
[{"$f":"+'1階 計算表'!A60","v":0},{"$f":"+'1階 計算表'!H60-'1階 計算表'!D60","v":{"$error":"#VALUE!"}},{"$f":"+'1階 計算表'!J60-'1階 計算表'!F60","v":0},{"$error":"#VALUE!"},null,null,{"$f":"+例!V12-例!R12","v":0},{"$f":"+例!X12-例!T12","v":0},{"$f":"+IF(H56>0,G56+1,G56)","v":0},null,null,{"$f":"++'2階 計算表'!A60","v":0},{"$f":"+'2階 計算表'!H60-'2階 計算表'!D60","v":0},{"$f":"+'2階 計算表'!J60-'2階 計算表'!F60","v":0},0]
[{"$f":"+'1階 計算表'!A61","v":0},{"$f":"+'1階 計算表'!H61-'1階 計算表'!D61","v":{"$error":"#VALUE!"}},{"$f":"+'1階 計算表'!J61-'1階 計算表'!F61","v":0},{"$error":"#VALUE!"},null,null,{"$f":"+例!V13-例!R13","v":0},{"$f":"+例!X13-例!T13","v":0},0,null,null,{"$f":"++'2階 計算表'!A61","v":0},{"$f":"+'2階 計算表'!H61-'2階 計算表'!D61","v":0},{"$f":"+'2階 計算表'!J61-'2階 計算表'!F61","v":0},0]
[{"$f":"+'1階 計算表'!A62","v":0},{"$f":"+'1階 計算表'!H62-'1階 計算表'!D62","v":0},{"$f":"+'1階 計算表'!J62-'1階 計算表'!F62","v":0},0,null,null,null,null,null,null,null,{"$f":"++'2階 計算表'!A62","v":0},{"$f":"+'2階 計算表'!H62-'2階 計算表'!D62","v":0},{"$f":"+'2階 計算表'!J62-'2階 計算表'!F62","v":0},0]
[{"$f":"+'1階 計算表'!A63","v":0},{"$f":"+'1階 計算表'!H63-'1階 計算表'!D63","v":0},{"$f":"+'1階 計算表'!J63-'1階 計算表'!F63","v":0},0,null,null,null,null,null,null,null,{"$f":"++'2階 計算表'!A63","v":0},{"$f":"+'2階 計算表'!H63-'2階 計算表'!D63","v":0},{"$f":"+'2階 計算表'!J63-'2階 計算表'!F63","v":0},0]
[{"$f":"+'1階 計算表'!A64","v":0},{"$f":"+'1階 計算表'!H64-'1階 計算表'!D64","v":0},{"$f":"+'1階 計算表'!J64-'1階 計算表'!F64","v":0},0,null,null,null,null,null,null,null,{"$f":"++'2階 計算表'!A64","v":0},{"$f":"+'2階 計算表'!H64-'2階 計算表'!D64","v":0},{"$f":"+'2階 計算表'!J64-'2階 計算表'!F64","v":0},0]
[{"$f":"+'1階 計算表'!A65","v":0},{"$f":"+'1階 計算表'!H65-'1階 計算表'!D65","v":0},{"$f":"+'1階 計算表'!J65-'1階 計算表'!F65","v":0},0,null,null,null,null,null,null,null,{"$f":"++'2階 計算表'!A65","v":0},{"$f":"+'2階 計算表'!H65-'2階 計算表'!D65","v":0},{"$f":"+'2階 計算表'!J65-'2階 計算表'!F65","v":0},0]
[{"$f":"+'1階 計算表'!A66","v":0},{"$f":"+'1階 計算表'!H66-'1階 計算表'!D66","v":0},{"$f":"+'1階 計算表'!J66-'1階 計算表'!F66","v":0},0,null,null,{"$f":"+例!V18-例!R18","v":0},{"$f":"+例!X18-例!T18","v":0},{"$f":"+IF(H62>0,G62+1,G62)","v":0},null,null,{"$f":"++'2階 計算表'!A66","v":0},{"$f":"+'2階 計算表'!H66-'2階 計算表'!D66","v":0},{"$f":"+'2階 計算表'!J66-'2階 計算表'!F66","v":0},0]
[{"$f":"+'1階 計算表'!A67","v":0},{"$f":"+'1階 計算表'!H67-'1階 計算表'!D67","v":0},{"$f":"+'1階 計算表'!J67-'1階 計算表'!F67","v":0},0,null,null,{"$f":"+例!V19-例!R19","v":0},{"$f":"+例!X19-例!T19","v":0},0,null,null,{"$f":"++'2階 計算表'!A67","v":0},{"$f":"+'2階 計算表'!H67-'2階 計算表'!D67","v":0},{"$f":"+'2階 計算表'!J67-'2階 計算表'!F67","v":0},0]
[{"$f":"+'1階 計算表'!A68","v":0},{"$f":"+'1階 計算表'!H68-'1階 計算表'!D68","v":0},{"$f":"+'1階 計算表'!J68-'1階 計算表'!F68","v":0},0,null,null,null,null,null,null,null,{"$f":"++'2階 計算表'!A68","v":0},{"$f":"+'2階 計算表'!H68-'2階 計算表'!D68","v":0},{"$f":"+'2階 計算表'!J68-'2階 計算表'!F68","v":0},0]
[{"$f":"+'1階 計算表'!A69","v":0},{"$f":"+'1階 計算表'!H69-'1階 計算表'!D69","v":0},{"$f":"+'1階 計算表'!J69-'1階 計算表'!F69","v":0},0,null,null,null,null,null,null,null,{"$f":"++'2階 計算表'!A69","v":0},{"$f":"+'2階 計算表'!H69-'2階 計算表'!D69","v":0},{"$f":"+'2階 計算表'!J69-'2階 計算表'!F69","v":0},0]
[{"$f":"+'1階 計算表'!A70","v":0},{"$f":"+'1階 計算表'!H70-'1階 計算表'!D70","v":0},{"$f":"+'1階 計算表'!J70-'1階 計算表'!F70","v":0},0,null,null,null,null,null,null,null,{"$f":"++'2階 計算表'!A70","v":0},{"$f":"+'2階 計算表'!H70-'2階 計算表'!D70","v":0},{"$f":"+'2階 計算表'!J70-'2階 計算表'!F70","v":0},0]
[{"$f":"+'1階 計算表'!A71","v":0},{"$f":"+'1階 計算表'!H71-'1階 計算表'!D71","v":0},{"$f":"+'1階 計算表'!J71-'1階 計算表'!F71","v":0},0,null,null,null,null,null,null,null,{"$f":"++'2階 計算表'!A71","v":0},{"$f":"+'2階 計算表'!H71-'2階 計算表'!D71","v":0},{"$f":"+'2階 計算表'!J71-'2階 計算表'!F71","v":0},0]
[{"$f":"+'1階 計算表'!A72","v":0},{"$f":"+'1階 計算表'!H72-'1階 計算表'!D72","v":0},{"$f":"+'1階 計算表'!J72-'1階 計算表'!F72","v":0},{"$f":"IF(B68<0,0,+IF(C68>0,B68+1,B68))","v":0},null,null,{"$f":"+例!V24-例!R24","v":0},{"$f":"+例!X24-例!T24","v":0},{"$f":"+IF(H68>0,G68+1,G68)","v":0},null,null,{"$f":"++'2階 計算表'!A72","v":0},{"$f":"+'2階 計算表'!H72-'2階 計算表'!D72","v":0},{"$f":"+'2階 計算表'!J72-'2階 計算表'!F72","v":0},0]
[{"$f":"+'1階 計算表'!A73","v":0},{"$f":"+'1階 計算表'!H73-'1階 計算表'!D73","v":0},{"$f":"+'1階 計算表'!J73-'1階 計算表'!F73","v":0},0,null,null,{"$f":"+例!V25-例!R25","v":0},{"$f":"+例!X25-例!T25","v":0},0,null,null,{"$f":"++'2階 計算表'!A73","v":0},{"$f":"+'2階 計算表'!H73-'2階 計算表'!D73","v":0},{"$f":"+'2階 計算表'!J73-'2階 計算表'!F73","v":0},{"$f":"IF(M69<1,0,+IF(N69>0,M69+1,M69))","v":0}]
[{"$f":"+'1階 計算表'!A74","v":0},{"$f":"+'1階 計算表'!H74-'1階 計算表'!D74","v":0},{"$f":"+'1階 計算表'!J74-'1階 計算表'!F74","v":0},0,null,null,null,null,null,null,null,{"$f":"++'2階 計算表'!A74","v":0},{"$f":"+'2階 計算表'!H74-'2階 計算表'!D74","v":0},{"$f":"+'2階 計算表'!J74-'2階 計算表'!F74","v":0},0]
[{"$f":"+'1階 計算表'!A75","v":0},{"$f":"+'1階 計算表'!H75-'1階 計算表'!D75","v":0},{"$f":"+'1階 計算表'!J75-'1階 計算表'!F75","v":0},0,null,null,null,null,null,null,null,{"$f":"++'2階 計算表'!A75","v":0},{"$f":"+'2階 計算表'!H75-'2階 計算表'!D75","v":0},{"$f":"+'2階 計算表'!J75-'2階 計算表'!F75","v":0},0]
[{"$f":"+'1階 計算表'!A76","v":0},{"$f":"+'1階 計算表'!H76-'1階 計算表'!D76","v":0},{"$f":"+'1階 計算表'!J76-'1階 計算表'!F76","v":0},0,null,null,null,null,null,null,null,{"$f":"++'2階 計算表'!A76","v":0},{"$f":"+'2階 計算表'!H76-'2階 計算表'!D76","v":0},{"$f":"+'2階 計算表'!J76-'2階 計算表'!F76","v":0},0]
[{"$f":"+'1階 計算表'!A77","v":0},{"$f":"+'1階 計算表'!H77-'1階 計算表'!D77","v":0},{"$f":"+'1階 計算表'!J77-'1階 計算表'!F77","v":0},0,null,null,null,null,null,null,null,{"$f":"++'2階 計算表'!A77","v":0},{"$f":"+'2階 計算表'!H77-'2階 計算表'!D77","v":0},{"$f":"+'2階 計算表'!J77-'2階 計算表'!F77","v":0},0]
[{"$f":"+'1階 計算表'!A78","v":0},{"$f":"+'1階 計算表'!H78-'1階 計算表'!D78","v":0},{"$f":"+'1階 計算表'!J78-'1階 計算表'!F78","v":0},0,null,null,{"$f":"+例!V30-例!R30","v":0},{"$f":"+例!X30-例!T30","v":0},{"$f":"+IF(H74>0,G74+1,G74)","v":0},null,null,{"$f":"++'2階 計算表'!A78","v":0},{"$f":"+'2階 計算表'!H78-'2階 計算表'!D78","v":0},{"$f":"+'2階 計算表'!J78-'2階 計算表'!F78","v":0},0]
[{"$f":"+'1階 計算表'!A79","v":0},{"$f":"+'1階 計算表'!H79-'1階 計算表'!D79","v":0},{"$f":"+'1階 計算表'!J79-'1階 計算表'!F79","v":0},0,null,null,{"$f":"+例!V31-例!R31","v":0},{"$f":"+例!X31-例!T31","v":0},0,null,null,{"$f":"++'2階 計算表'!A79","v":0},{"$f":"+'2階 計算表'!H79-'2階 計算表'!D79","v":0},{"$f":"+'2階 計算表'!J79-'2階 計算表'!F79","v":0},0]
[{"$f":"+'1階 計算表'!A80","v":0},{"$f":"+'1階 計算表'!H80-'1階 計算表'!D80","v":0},{"$f":"+'1階 計算表'!J80-'1階 計算表'!F80","v":0},0,null,null,null,null,null,null,null,null,{"$f":"+'2階 計算表'!H80-'2階 計算表'!D80","v":0},{"$f":"+'2階 計算表'!J80-'2階 計算表'!F80","v":0},0]
[{"$f":"+'1階 計算表'!A81","v":0},{"$f":"+'1階 計算表'!H81-'1階 計算表'!D81","v":0},{"$f":"+'1階 計算表'!J81-'1階 計算表'!F81","v":0},0,null,null,null,null,null,null,null,null,{"$f":"+'2階 計算表'!H81-'2階 計算表'!D81","v":0},{"$f":"+'2階 計算表'!J81-'2階 計算表'!F81","v":0},0]
[{"$f":"+'1階 計算表'!A82","v":0},{"$f":"+'1階 計算表'!H82-'1階 計算表'!D82","v":0},{"$f":"+'1階 計算表'!J82-'1階 計算表'!F82","v":0},0,null,null,null,null,null,null,null,null,{"$f":"+'2階 計算表'!H82-'2階 計算表'!D82","v":0},{"$f":"+'2階 計算表'!J82-'2階 計算表'!F82","v":0},0]
[{"$f":"+'1階 計算表'!A83","v":0},{"$f":"+'1階 計算表'!H83-'1階 計算表'!D83","v":0},{"$f":"+'1階 計算表'!J83-'1階 計算表'!F83","v":0},0,null,null,null,null,null,null,null,null,{"$f":"+'2階 計算表'!H83-'2階 計算表'!D83","v":0},{"$f":"+'2階 計算表'!J83-'2階 計算表'!F83","v":0},0]
[{"$f":"+'1階 計算表'!A84","v":0},{"$f":"+'1階 計算表'!H84-'1階 計算表'!D84","v":0},{"$f":"+'1階 計算表'!J84-'1階 計算表'!F84","v":0},0,null,null,{"$f":"+例!V36-例!R36","v":4},{"$f":"+例!X36-例!T36","v":-30},{"$f":"+IF(H80>0,G80+1,G80)","v":4},null,null,null,{"$f":"+'2階 計算表'!H84-'2階 計算表'!D84","v":0},{"$f":"+'2階 計算表'!J84-'2階 計算表'!F84","v":0},0]
[{"$f":"+'1階 計算表'!A85","v":0},{"$f":"+'1階 計算表'!H85-'1階 計算表'!D85","v":0},{"$f":"+'1階 計算表'!J85-'1階 計算表'!F85","v":0},0,null,null,{"$f":"+例!V37-例!R37","v":0},{"$f":"+例!X37-例!T37","v":0},{"$f":"+IF(H81>0,G81+1,G81)","v":0},null,null,null,{"$f":"+'2階 計算表'!H85-'2階 計算表'!D85","v":0},{"$f":"+'2階 計算表'!J85-'2階 計算表'!F85","v":0},0]
[{"$f":"+'1階 計算表'!A86","v":0},{"$f":"+'1階 計算表'!H86-'1階 計算表'!D86","v":0},{"$f":"+'1階 計算表'!J86-'1階 計算表'!F86","v":0},0,null,null,{"$f":"+例!V38-例!R38","v":{"$error":"#VALUE!"}},{"$f":"+例!X38-例!T38","v":0},{"$error":"#VALUE!"},null,null,null,{"$f":"+'2階 計算表'!H86-'2階 計算表'!D86","v":0},{"$f":"+'2階 計算表'!J86-'2階 計算表'!F86","v":0},0]
[{"$f":"+'1階 計算表'!A87","v":0},{"$f":"+'1階 計算表'!H87-'1階 計算表'!D87","v":0},{"$f":"+'1階 計算表'!J87-'1階 計算表'!F87","v":0},0,null,null,{"$f":"+例!V39-例!R39","v":{"$error":"#VALUE!"}},{"$f":"+例!X39-例!T39","v":0},{"$error":"#VALUE!"},null,null,null,{"$f":"+'2階 計算表'!H87-'2階 計算表'!D87","v":0},{"$f":"+'2階 計算表'!J87-'2階 計算表'!F87","v":0},0]
[{"$f":"+'1階 計算表'!A88","v":0},{"$f":"+'1階 計算表'!H88-'1階 計算表'!D88","v":0},{"$f":"+'1階 計算表'!J88-'1階 計算表'!F88","v":0},0,null,null,{"$f":"+例!V40-例!R40","v":{"$error":"#VALUE!"}},{"$f":"+例!X40-例!T40","v":0},{"$error":"#VALUE!"},null,null,null,{"$f":"+'2階 計算表'!H88-'2階 計算表'!D88","v":0},{"$f":"+'2階 計算表'!J88-'2階 計算表'!F88","v":0},0]
[{"$f":"+'1階 計算表'!A89","v":0},{"$f":"+'1階 計算表'!H89-'1階 計算表'!D89","v":0},{"$f":"+'1階 計算表'!J89-'1階 計算表'!F89","v":0},0,null,null,{"$f":"+例!V41-例!R41","v":0},{"$f":"+例!X41-例!T41","v":0},0,null,null,null,{"$f":"+'2階 計算表'!H89-'2階 計算表'!D89","v":0},{"$f":"+'2階 計算表'!J89-'2階 計算表'!F89","v":0},0]
[{"$f":"+'1階 計算表'!A90","v":0},{"$f":"+'1階 計算表'!H90-'1階 計算表'!D90","v":0},{"$f":"+'1階 計算表'!J90-'1階 計算表'!F90","v":0},0,null,null,{"$f":"+例!V42-例!R42","v":0},{"$f":"+例!X42-例!T42","v":0},0,null,null,null,{"$f":"+'2階 計算表'!H90-'2階 計算表'!D90","v":0},{"$f":"+'2階 計算表'!J90-'2階 計算表'!F90","v":0},0]
[{"$f":"+'1階 計算表'!A91","v":0},{"$f":"+'1階 計算表'!H91-'1階 計算表'!D91","v":0},{"$f":"+'1階 計算表'!J91-'1階 計算表'!F91","v":0},0,null,null,{"$f":"+例!V43-例!R43","v":0},{"$f":"+例!X43-例!T43","v":0},0,null,null,null,{"$f":"+'2階 計算表'!H91-'2階 計算表'!D91","v":0},{"$f":"+'2階 計算表'!J91-'2階 計算表'!F91","v":0},0]
[{"$f":"+'1階 計算表'!A92","v":0},{"$f":"+'1階 計算表'!H92-'1階 計算表'!D92","v":0},{"$f":"+'1階 計算表'!J92-'1階 計算表'!F92","v":0},0,null,null,{"$f":"+例!V44-例!R44","v":0},{"$f":"+例!X44-例!T44","v":0},0,null,null,null,{"$f":"+'2階 計算表'!H92-'2階 計算表'!D92","v":0},{"$f":"+'2階 計算表'!J92-'2階 計算表'!F92","v":0},0]
[{"$f":"+'1階 計算表'!A93","v":0},{"$f":"+'1階 計算表'!H93-'1階 計算表'!D93","v":0},{"$f":"+'1階 計算表'!J93-'1階 計算表'!F93","v":0},0,null,null,{"$f":"+例!V45-例!R45","v":0},{"$f":"+例!X45-例!T45","v":0},0,null,null,null,{"$f":"+'2階 計算表'!H93-'2階 計算表'!D93","v":0},{"$f":"+'2階 計算表'!J93-'2階 計算表'!F93","v":0},0]
[{"$f":"+'1階 計算表'!A94","v":0},{"$f":"+'1階 計算表'!H94-'1階 計算表'!D94","v":0},{"$f":"+'1階 計算表'!J94-'1階 計算表'!F94","v":0},0,null,null,{"$f":"+例!V46-例!R46","v":0},{"$f":"+例!X46-例!T46","v":0},0,null,null,null,{"$f":"+'2階 計算表'!H94-'2階 計算表'!D94","v":0},{"$f":"+'2階 計算表'!J94-'2階 計算表'!F94","v":0},0]
[{"$f":"+'1階 計算表'!A95","v":0},{"$f":"+'1階 計算表'!H95-'1階 計算表'!D95","v":0},{"$f":"+'1階 計算表'!J95-'1階 計算表'!F95","v":0},0,null,null,{"$f":"+例!V47-例!R47","v":0},{"$f":"+例!X47-例!T47","v":0},0,null,null,null,{"$f":"+'2階 計算表'!H95-'2階 計算表'!D95","v":0},{"$f":"+'2階 計算表'!J95-'2階 計算表'!F95","v":0},0]
[{"$f":"+'1階 計算表'!A96","v":0},{"$f":"+'1階 計算表'!H96-'1階 計算表'!D96","v":0},{"$f":"+'1階 計算表'!J96-'1階 計算表'!F96","v":0},0,null,null,{"$f":"+例!V48-例!R48","v":0},{"$f":"+例!X48-例!T48","v":0},0,null,null,null,{"$f":"+'2階 計算表'!H96-'2階 計算表'!D96","v":0},{"$f":"+'2階 計算表'!J96-'2階 計算表'!F96","v":0},0]
[{"$f":"+'1階 計算表'!A97","v":0},{"$f":"+'1階 計算表'!H97-'1階 計算表'!D97","v":0},{"$f":"+'1階 計算表'!J97-'1階 計算表'!F97","v":0},0,null,null,{"$f":"+例!V49-例!R49","v":0},{"$f":"+例!X49-例!T49","v":0},0,null,null,null,{"$f":"+'2階 計算表'!H97-'2階 計算表'!D97","v":0},{"$f":"+'2階 計算表'!J97-'2階 計算表'!F97","v":0},0]
[{"$f":"+'1階 計算表'!A98","v":0},{"$f":"+'1階 計算表'!H98-'1階 計算表'!D98","v":0},{"$f":"+'1階 計算表'!J98-'1階 計算表'!F98","v":0},0,null,null,{"$f":"+例!V50-例!R50","v":0},{"$f":"+例!X50-例!T50","v":0},0,null,null,null,{"$f":"+'2階 計算表'!H98-'2階 計算表'!D98","v":0},{"$f":"+'2階 計算表'!J98-'2階 計算表'!F98","v":0},0]
[{"$f":"+'1階 計算表'!A99","v":0},{"$f":"+'1階 計算表'!H99-'1階 計算表'!D99","v":0},{"$f":"+'1階 計算表'!J99-'1階 計算表'!F99","v":0},0,null,null,{"$f":"+例!V51-例!R51","v":0},{"$f":"+例!X51-例!T51","v":0},0,null,null,null,{"$f":"+'2階 計算表'!H99-'2階 計算表'!D99","v":0},{"$f":"+'2階 計算表'!J99-'2階 計算表'!F99","v":0},0]
[{"$f":"+'1階 計算表'!A100","v":0},{"$f":"+'1階 計算表'!H100-'1階 計算表'!D100","v":0},{"$f":"+'1階 計算表'!J100-'1階 計算表'!F100","v":0},0,null,null,{"$f":"+例!V52-例!R52","v":0},{"$f":"+例!X52-例!T52","v":0},0,null,null,null,{"$f":"+'2階 計算表'!H100-'2階 計算表'!D100","v":0},{"$f":"+'2階 計算表'!J100-'2階 計算表'!F100","v":0},0]
[{"$f":"+'1階 計算表'!A101","v":0},{"$f":"+'1階 計算表'!H101-'1階 計算表'!D101","v":0},{"$f":"+'1階 計算表'!J101-'1階 計算表'!F101","v":0},0,null,null,{"$f":"+例!V53-例!R53","v":0},{"$f":"+例!X53-例!T53","v":0},0,null,null,null,{"$f":"+'2階 計算表'!H101-'2階 計算表'!D101","v":0},{"$f":"+'2階 計算表'!J101-'2階 計算表'!F101","v":0},0]
[{"$f":"+'1階 計算表'!A102","v":0},{"$f":"+'1階 計算表'!H102-'1階 計算表'!D102","v":0},{"$f":"+'1階 計算表'!J102-'1階 計算表'!F102","v":0},0,null,null,{"$f":"+例!V54-例!R54","v":0},{"$f":"+例!X54-例!T54","v":0},0,null,null,null,{"$f":"+'2階 計算表'!H102-'2階 計算表'!D102","v":0},{"$f":"+'2階 計算表'!J102-'2階 計算表'!F102","v":0},0]
[{"$f":"+'1階 計算表'!A103","v":0},{"$f":"+'1階 計算表'!H103-'1階 計算表'!D103","v":0},{"$f":"+'1階 計算表'!J103-'1階 計算表'!F103","v":0},0,null,null,{"$f":"+例!V55-例!R55","v":0},{"$f":"+例!X55-例!T55","v":0},0,null,null,null,{"$f":"+'2階 計算表'!H103-'2階 計算表'!D103","v":0},{"$f":"+'2階 計算表'!J103-'2階 計算表'!F103","v":0},0]
[{"$f":"+'1階 計算表'!A104","v":0},{"$f":"+'1階 計算表'!H104-'1階 計算表'!D104","v":0},{"$f":"+'1階 計算表'!J104-'1階 計算表'!F104","v":0},0,null,null,{"$f":"+例!V56-例!R56","v":0},{"$f":"+例!X56-例!T56","v":0},0,null,null,null,{"$f":"+'2階 計算表'!H104-'2階 計算表'!D104","v":0},{"$f":"+'2階 計算表'!J104-'2階 計算表'!F104","v":0},0]
[{"$f":"+'1階 計算表'!A105","v":0},{"$f":"+'1階 計算表'!H105-'1階 計算表'!D105","v":0},{"$f":"+'1階 計算表'!J105-'1階 計算表'!F105","v":0},0,null,null,{"$f":"+例!V57-例!R57","v":0},{"$f":"+例!X57-例!T57","v":0},0,null,null,null,{"$f":"+'2階 計算表'!H105-'2階 計算表'!D105","v":0},{"$f":"+'2階 計算表'!J105-'2階 計算表'!F105","v":0},0]
[{"$f":"+'1階 計算表'!A106","v":0},{"$f":"+'1階 計算表'!H106-'1階 計算表'!D106","v":0},{"$f":"+'1階 計算表'!J106-'1階 計算表'!F106","v":0},0,null,null,{"$f":"+例!V58-例!R58","v":0},{"$f":"+例!X58-例!T58","v":0},0,null,null,null,{"$f":"+'2階 計算表'!H106-'2階 計算表'!D106","v":0},{"$f":"+'2階 計算表'!J106-'2階 計算表'!F106","v":0},0]
[{"$f":"+'1階 計算表'!A107","v":0},{"$f":"+'1階 計算表'!H107-'1階 計算表'!D107","v":0},{"$f":"+'1階 計算表'!J107-'1階 計算表'!F107","v":0},0,null,null,{"$f":"+例!V59-例!R59","v":0},{"$f":"+例!X59-例!T59","v":0},0,null,null,null,{"$f":"+'2階 計算表'!H107-'2階 計算表'!D107","v":0},{"$f":"+'2階 計算表'!J107-'2階 計算表'!F107","v":0},0]
[{"$f":"+'1階 計算表'!A108","v":0},{"$f":"+'1階 計算表'!H108-'1階 計算表'!D108","v":0},{"$f":"+'1階 計算表'!J108-'1階 計算表'!F108","v":0},0,null,null,{"$f":"+例!V60-例!R60","v":0},{"$f":"+例!X60-例!T60","v":0},0,null,null,null,{"$f":"+'2階 計算表'!H108-'2階 計算表'!D108","v":0},{"$f":"+'2階 計算表'!J108-'2階 計算表'!F108","v":0},0]
[{"$f":"+'1階 計算表'!A109","v":0},{"$f":"+'1階 計算表'!H109-'1階 計算表'!D109","v":0},{"$f":"+'1階 計算表'!J109-'1階 計算表'!F109","v":0},0,null,null,{"$f":"+例!V61-例!R61","v":0},{"$f":"+例!X61-例!T61","v":0},0,null,null,null,{"$f":"+'2階 計算表'!H109-'2階 計算表'!D109","v":0},{"$f":"+'2階 計算表'!J109-'2階 計算表'!F109","v":0},0]
[{"$f":"+'1階 計算表'!A110","v":0},{"$f":"+'1階 計算表'!H110-'1階 計算表'!D110","v":0},{"$f":"+'1階 計算表'!J110-'1階 計算表'!F110","v":0},0,null,null,{"$f":"+例!V62-例!R62","v":0},{"$f":"+例!X62-例!T62","v":0},0,null,null,null,{"$f":"+'2階 計算表'!H110-'2階 計算表'!D110","v":0},{"$f":"+'2階 計算表'!J110-'2階 計算表'!F110","v":0},0]
[{"$f":"+'1階 計算表'!A111","v":0},{"$f":"+'1階 計算表'!H111-'1階 計算表'!D111","v":0},{"$f":"+'1階 計算表'!J111-'1階 計算表'!F111","v":0},0,null,null,{"$f":"+例!V63-例!R63","v":0},{"$f":"+例!X63-例!T63","v":0},0,null,null,null,{"$f":"+'2階 計算表'!H111-'2階 計算表'!D111","v":0},{"$f":"+'2階 計算表'!J111-'2階 計算表'!F111","v":0},0]
[{"$f":"+'1階 計算表'!A112","v":0},{"$f":"+'1階 計算表'!H112-'1階 計算表'!D112","v":0},{"$f":"+'1階 計算表'!J112-'1階 計算表'!F112","v":0},0,null,null,{"$f":"+例!V64-例!R64","v":0},{"$f":"+例!X64-例!T64","v":0},0,null,null,null,{"$f":"+'2階 計算表'!H112-'2階 計算表'!D112","v":0},{"$f":"+'2階 計算表'!J112-'2階 計算表'!F112","v":0},0]

{"sheet":"Sheet6","index":4,"n_rows":59,"n_cols":33,"rows_kept":59,"cut":false,"hidden":true,"merged":[]}
["隠岐島文化会館"]
[]
[{"$f":"+'1階 計算表'!A7","v":"大ホール"},{"$f":"IF(+'1階 計算表'!B7=\"\",\"\",'1階 計算表'!B7)","v":"１時間単位"},{"$f":"IF(+'1階 計算表'!C7=\"\",\"\",'1階 計算表'!C7)","v":"　8：30～17：00"},{"$f":"IF(+'1階 計算表'!D7=\"\",\"\",'1階 計算表'!D7)","v":""},{"$f":"IF(+'1階 計算表'!E7=\"\",\"\",'1階 計算表'!E7)","v":"："},{"$f":"IF(+'1階 計算表'!F7=\"\",\"\",'1階 計算表'!F7)","v":""},{"$f":"IF(+'1階 計算表'!G7=\"\",\"\",'1階 計算表'!G7)","v":"～"},{"$f":"IF(+'1階 計算表'!H7=\"\",\"\",'1階 計算表'!H7)","v":""},{"$f":"IF(+'1階 計算表'!I7=\"\",\"\",'1階 計算表'!I7)","v":"："},{"$f":"IF(+'1階 計算表'!J7=\"\",\"\",'1階 計算表'!J7)","v":""},{"$f":"IF(+'1階 計算表'!K7=\"\",\"\",'1階 計算表'!K7)","v":0},{"$f":"IF(+'1階 計算表'!L7=\"\",\"\",'1階 計算表'!L7)","v":4731},{"$f":"IF(+'1階 計算表'!M7=\"\",\"\",'1階 計算表'!M7)","v":0},{"$f":"+IF(M3=0,0,1)","v":0},{"$f":"+N3","v":0},null,{"$f":"+'2階 計算表'!A7","v":"集会室"},{"$f":"IF('2階 計算表'!B7=\"\",\"\",'2階 計算表'!B7)","v":"１時間単位"},{"$f":"IF('2階 計算表'!C7=\"\",\"\",'2階 計算表'!C7)","v":"　8：30～17：00"},{"$f":"IF('2階 計算表'!D7=\"\",\"\",'2階 計算表'!D7)","v":""},{"$f":"IF('2階 計算表'!E7=\"\",\"\",'2階 計算表'!E7)","v":"："},{"$f":"IF('2階 計算表'!F7=\"\",\"\",'2階 計算表'!F7)","v":""},{"$f":"IF('2階 計算表'!G7=\"\",\"\",'2階 計算表'!G7)","v":"～"},{"$f":"IF('2階 計算表'!H7=\"\",\"\",'2階 計算表'!H7)","v":""},{"$f":"IF('2階 計算表'!I7=\"\",\"\",'2階 計算表'!I7)","v":"："},{"$f":"IF('2階 計算表'!J7=\"\",\"\",'2階 計算表'!J7)","v":""},{"$f":"IF('2階 計算表'!K7=\"\",\"\",'2階 計算表'!K7)","v":0},{"$f":"IF('2階 計算表'!L7=\"\",\"\",'2階 計算表'!L7)","v":1543},{"$f":"IF('2階 計算表'!M7=\"\",\"\",'2階 計算表'!M7)","v":0},{"$f":"+IF(AC3=0,0,1)","v":0},{"$f":"+AD3","v":0},null,{"$f":"IF(AE3=0,0,IF(AF2=0,0,2))","v":0}]
[null,{"$f":"IF(+'1階 計算表'!B8=\"\",\"\",'1階 計算表'!B8)","v":"１時間単位"},{"$f":"IF(+'1階 計算表'!C8=\"\",\"\",'1階 計算表'!C8)","v":"17：00～22：00"},{"$f":"IF(+'1階 計算表'!D8=\"\",\"\",'1階 計算表'!D8)","v":""},{"$f":"IF(+'1階 計算表'!E8=\"\",\"\",'1階 計算表'!E8)","v":"："},{"$f":"IF(+'1階 計算表'!F8=\"\",\"\",'1階 計算表'!F8)","v":""},{"$f":"IF(+'1階 計算表'!G8=\"\",\"\",'1階 計算表'!G8)","v":"～"},{"$f":"IF(+'1階 計算表'!H8=\"\",\"\",'1階 計算表'!H8)","v":""},{"$f":"IF(+'1階 計算表'!I8=\"\",\"\",'1階 計算表'!I8)","v":"："},{"$f":"IF(+'1階 計算表'!J8=\"\",\"\",'1階 計算表'!J8)","v":""},{"$f":"IF(+'1階 計算表'!K8=\"\",\"\",'1階 計算表'!K8)","v":0},{"$f":"IF(+'1階 計算表'!L8=\"\",\"\",'1階 計算表'!L8)","v":5863},{"$f":"IF(+'1階 計算表'!M8=\"\",\"\",'1階 計算表'!M8)","v":0},{"$f":"+IF(M4=0,0,1)","v":0},{"$f":"IF(SUM(O3)=1,\"\",+IF(N4=0,0,1))","v":0},{"$f":"IF(N4=0,0,IF(O3=0,\"\",2))","v":0},null,{"$f":"IF('2階 計算表'!B8=\"\",\"\",'2階 計算表'!B8)","v":"１時間単位"},{"$f":"IF('2階 計算表'!C8=\"\",\"\",'2階 計算表'!C8)","v":"17：00～22：00"},{"$f":"IF('2階 計算表'!D8=\"\",\"\",'2階 計算表'!D8)","v":""},{"$f":"IF('2階 計算表'!E8=\"\",\"\",'2階 計算表'!E8)","v":"："},{"$f":"IF('2階 計算表'!F8=\"\",\"\",'2階 計算表'!F8)","v":""},{"$f":"IF('2階 計算表'!G8=\"\",\"\",'2階 計算表'!G8)","v":"～"},{"$f":"IF('2階 計算表'!H8=\"\",\"\",'2階 計算表'!H8)","v":""},{"$f":"IF('2階 計算表'!I8=\"\",\"\",'2階 計算表'!I8)","v":"："},{"$f":"IF('2階 計算表'!J8=\"\",\"\",'2階 計算表'!J8)","v":""},{"$f":"IF('2階 計算表'!K8=\"\",\"\",'2階 計算表'!K8)","v":0},{"$f":"IF('2階 計算表'!L8=\"\",\"\",'2階 計算表'!L8)","v":1954},{"$f":"IF('2階 計算表'!M8=\"\",\"\",'2階 計算表'!M8)","v":0},{"$f":"+IF(AC4=0,0,1)","v":0},{"$f":"IF(SUM(AE3)=1,\"\",+IF(AD4=0,0,1))","v":0},{"$f":"IF(AD4=0,0,IF(AE3=0,\"\",2))","v":0},{"$f":"IF(AE4=0,0,IF(AF3=0,\"\",2))","v":0}]
[null,{"$f":"IF(+'1階 計算表'!B9=\"\",\"\",'1階 計算表'!B9)","v":"午前午後"},{"$f":"IF(+'1階 計算表'!C9=\"\",\"\",'1階 計算表'!C9)","v":"　8：30～17：00"},null,{"$f":"IF(+'1階 計算表'!E9=\"\",\"\",'1階 計算表'!E9)","v":""},{"$f":"IF(+'1階 計算表'!F9=\"\",\"\",'1階 計算表'!F9)","v":""},{"$f":"IF(+'1階 計算表'!G9=\"\",\"\",'1階 計算表'!G9)","v":""},{"$f":"IF(+'1階 計算表'!H9=\"\",\"\",'1階 計算表'!H9)","v":""},{"$f":"IF(+'1階 計算表'!I9=\"\",\"\",'1階 計算表'!I9)","v":""},{"$f":"IF(+'1階 計算表'!J9=\"\",\"\",'1階 計算表'!J9)","v":""},{"$f":"IF(+'1階 計算表'!K9=\"\",\"\",'1階 計算表'!K9)","v":""},{"$f":"IF(+'1階 計算表'!L9=\"\",\"\",'1階 計算表'!L9)","v":26228},{"$f":"IF(+'1階 計算表'!M9=\"\",\"\",'1階 計算表'!M9)","v":0},0,{"$f":"IF(SUM($O$3:O4)=1,\"\",IF(N4>0,\"\",+IF(N5=0,0,1)))","v":0},{"$f":"IF(N5=0,0,IF(O4=0,\"\",2))","v":0},null,{"$f":"IF('2階 計算表'!B9=\"\",\"\",'2階 計算表'!B9)","v":"午前午後"},{"$f":"IF('2階 計算表'!C9=\"\",\"\",'2階 計算表'!C9)","v":"　8：30～17：00"},null,{"$f":"IF('2階 計算表'!E9=\"\",\"\",'2階 計算表'!E9)","v":""},{"$f":"IF('2階 計算表'!F9=\"\",\"\",'2階 計算表'!F9)","v":""},{"$f":"IF('2階 計算表'!G9=\"\",\"\",'2階 計算表'!G9)","v":""},{"$f":"IF('2階 計算表'!H9=\"\",\"\",'2階 計算表'!H9)","v":""},{"$f":"IF('2階 計算表'!I9=\"\",\"\",'2階 計算表'!I9)","v":""},{"$f":"IF('2階 計算表'!J9=\"\",\"\",'2階 計算表'!J9)","v":""},{"$f":"IF('2階 計算表'!K9=\"\",\"\",'2階 計算表'!K9)","v":""},{"$f":"IF('2階 計算表'!L9=\"\",\"\",'2階 計算表'!L9)","v":8537},{"$f":"IF('2階 計算表'!M9=\"\",\"\",'2階 計算表'!M9)","v":0},0,{"$f":"IF(SUM($O$3:AE4)=1,\"\",IF(AD4>0,\"\",+IF(AD5=0,0,1)))","v":0},{"$f":"IF(AD5=0,0,IF(AE4=0,\"\",2))","v":0},0]
[null,{"$f":"IF(+'1階 計算表'!B10=\"\",\"\",'1階 計算表'!B10)","v":"午後夜間"},{"$f":"IF(+'1階 計算表'!C10=\"\",\"\",'1階 計算表'!C10)","v":"13：00～22：00"},null,{"$f":"IF(+'1階 計算表'!E10=\"\",\"\",'1階 計算表'!E10)","v":""},{"$f":"IF(+'1階 計算表'!F10=\"\",\"\",'1階 計算表'!F10)","v":""},{"$f":"IF(+'1階 計算表'!G10=\"\",\"\",'1階 計算表'!G10)","v":""},{"$f":"IF(+'1階 計算表'!H10=\"\",\"\",'1階 計算表'!H10)","v":""},{"$f":"IF(+'1階 計算表'!I10=\"\",\"\",'1階 計算表'!I10)","v":""},{"$f":"IF(+'1階 計算表'!J10=\"\",\"\",'1階 計算表'!J10)","v":""},{"$f":"IF(+'1階 計算表'!K10=\"\",\"\",'1階 計算表'!K10)","v":""},{"$f":"IF(+'1階 計算表'!L10=\"\",\"\",'1階 計算表'!L10)","v":35691},{"$f":"IF(+'1階 計算表'!M10=\"\",\"\",'1階 計算表'!M10)","v":0},0,{"$f":"IF(SUM($O$3:O5)=1,\"\",IF(N5>0,\"\",+IF(N6=0,0,1)))","v":0},0,null,{"$f":"IF('2階 計算表'!B10=\"\",\"\",'2階 計算表'!B10)","v":"午後夜間"},{"$f":"IF('2階 計算表'!C10=\"\",\"\",'2階 計算表'!C10)","v":"13：00～22：00"},null,{"$f":"IF('2階 計算表'!E10=\"\",\"\",'2階 計算表'!E10)","v":""},{"$f":"IF('2階 計算表'!F10=\"\",\"\",'2階 計算表'!F10)","v":""},{"$f":"IF('2階 計算表'!G10=\"\",\"\",'2階 計算表'!G10)","v":""},{"$f":"IF('2階 計算表'!H10=\"\",\"\",'2階 計算表'!H10)","v":""},{"$f":"IF('2階 計算表'!I10=\"\",\"\",'2階 計算表'!I10)","v":""},{"$f":"IF('2階 計算表'!J10=\"\",\"\",'2階 計算表'!J10)","v":""},{"$f":"IF('2階 計算表'!K10=\"\",\"\",'2階 計算表'!K10)","v":""},{"$f":"IF('2階 計算表'!L10=\"\",\"\",'2階 計算表'!L10)","v":11622},{"$f":"IF('2階 計算表'!M10=\"\",\"\",'2階 計算表'!M10)","v":0},0,{"$f":"IF(SUM($O$3:AE5)=1,\"\",IF(AD5>0,\"\",+IF(AD6=0,0,1)))","v":0},0]
[null,{"$f":"IF(+'1階 計算表'!B11=\"\",\"\",'1階 計算表'!B11)","v":"終　　日"},{"$f":"IF(+'1階 計算表'!C11=\"\",\"\",'1階 計算表'!C11)","v":"8：30～22：00"},null,{"$f":"IF(+'1階 計算表'!E11=\"\",\"\",'1階 計算表'!E11)","v":""},{"$f":"IF(+'1階 計算表'!F11=\"\",\"\",'1階 計算表'!F11)","v":""},{"$f":"IF(+'1階 計算表'!G11=\"\",\"\",'1階 計算表'!G11)","v":""},{"$f":"IF(+'1階 計算表'!H11=\"\",\"\",'1階 計算表'!H11)","v":""},{"$f":"IF(+'1階 計算表'!I11=\"\",\"\",'1階 計算表'!I11)","v":""},{"$f":"IF(+'1階 計算表'!J11=\"\",\"\",'1階 計算表'!J11)","v":""},{"$f":"IF(+'1階 計算表'!K11=\"\",\"\",'1階 計算表'!K11)","v":""},{"$f":"IF(+'1階 計算表'!L11=\"\",\"\",'1階 計算表'!L11)","v":45052},{"$f":"IF(+'1階 計算表'!M11=\"\",\"\",'1階 計算表'!M11)","v":0},0,{"$f":"IF(SUM($O$3:O6)=1,\"\",IF(N6>0,\"\",+IF(N7=0,0,1)))","v":0},0,null,{"$f":"IF('2階 計算表'!B11=\"\",\"\",'2階 計算表'!B11)","v":"終　　日"},{"$f":"IF('2階 計算表'!C11=\"\",\"\",'2階 計算表'!C11)","v":"8：30～22：00"},null,{"$f":"IF('2階 計算表'!E11=\"\",\"\",'2階 計算表'!E11)","v":""},{"$f":"IF('2階 計算表'!F11=\"\",\"\",'2階 計算表'!F11)","v":""},{"$f":"IF('2階 計算表'!G11=\"\",\"\",'2階 計算表'!G11)","v":""},{"$f":"IF('2階 計算表'!H11=\"\",\"\",'2階 計算表'!H11)","v":""},{"$f":"IF('2階 計算表'!I11=\"\",\"\",'2階 計算表'!I11)","v":""},{"$f":"IF('2階 計算表'!J11=\"\",\"\",'2階 計算表'!J11)","v":""},{"$f":"IF('2階 計算表'!K11=\"\",\"\",'2階 計算表'!K11)","v":""},{"$f":"IF('2階 計算表'!L11=\"\",\"\",'2階 計算表'!L11)","v":14812},{"$f":"IF('2階 計算表'!M11=\"\",\"\",'2階 計算表'!M11)","v":0},0,{"$f":"IF(SUM($O$3:AE6)=1,\"\",IF(AD6>0,\"\",+IF(AD7=0,0,1)))","v":0},0]
[{"$f":"+'1階 計算表'!A12","v":"ステージのみ利用"},{"$f":"IF(+'1階 計算表'!B12=\"\",\"\",'1階 計算表'!B12)","v":"１時間単位"},{"$f":"IF(+'1階 計算表'!C12=\"\",\"\",'1階 計算表'!C12)","v":"8：30～22：00"},{"$f":"IF(+'1階 計算表'!D12=\"\",\"\",'1階 計算表'!D12)","v":""},{"$f":"IF(+'1階 計算表'!E12=\"\",\"\",'1階 計算表'!E12)","v":"："},{"$f":"IF(+'1階 計算表'!F12=\"\",\"\",'1階 計算表'!F12)","v":""},{"$f":"IF(+'1階 計算表'!G12=\"\",\"\",'1階 計算表'!G12)","v":"～"},{"$f":"IF(+'1階 計算表'!H12=\"\",\"\",'1階 計算表'!H12)","v":""},{"$f":"IF(+'1階 計算表'!I12=\"\",\"\",'1階 計算表'!I12)","v":"："},{"$f":"IF(+'1階 計算表'!J12=\"\",\"\",'1階 計算表'!J12)","v":""},{"$f":"IF(+'1階 計算表'!K12=\"\",\"\",'1階 計算表'!K12)","v":0},{"$f":"IF(+'1階 計算表'!L12=\"\",\"\",'1階 計算表'!L12)","v":1338},{"$f":"IF(+'1階 計算表'!M12=\"\",\"\",'1階 計算表'!M12)","v":0},0,{"$f":"IF(SUM($O$3:O7)=1,\"\",IF(N7>0,\"\",+IF(N8=0,0,1)))","v":0},0,null,{"$f":"IF('2階 計算表'!B12=\"\",\"\",'2階 計算表'!B12)","v":""},{"$f":"IF('2階 計算表'!C12=\"\",\"\",'2階 計算表'!C12)","v":""},{"$f":"IF('2階 計算表'!D12=\"\",\"\",'2階 計算表'!D12)","v":""},{"$f":"IF('2階 計算表'!E12=\"\",\"\",'2階 計算表'!E12)","v":""},{"$f":"IF('2階 計算表'!F12=\"\",\"\",'2階 計算表'!F12)","v":""},{"$f":"IF('2階 計算表'!G12=\"\",\"\",'2階 計算表'!G12)","v":""},{"$f":"IF('2階 計算表'!H12=\"\",\"\",'2階 計算表'!H12)","v":""},{"$f":"IF('2階 計算表'!I12=\"\",\"\",'2階 計算表'!I12)","v":""},{"$f":"IF('2階 計算表'!J12=\"\",\"\",'2階 計算表'!J12)","v":""},{"$f":"IF('2階 計算表'!K12=\"\",\"\",'2階 計算表'!K12)","v":""},{"$f":"IF('2階 計算表'!L12=\"\",\"\",'2階 計算表'!L12)","v":""},{"$f":"IF('2階 計算表'!M12=\"\",\"\",'2階 計算表'!M12)","v":""}]
[{"$f":"+'1階 計算表'!A13","v":"大ホール空調"},{"$f":"IF(+'1階 計算表'!B13=\"\",\"\",'1階 計算表'!B13)","v":"１時間単位"},{"$f":"IF(+'1階 計算表'!C13=\"\",\"\",'1階 計算表'!C13)","v":"8：30～22：00"},{"$f":"IF(+'1階 計算表'!D13=\"\",\"\",'1階 計算表'!D13)","v":""},{"$f":"IF(+'1階 計算表'!E13=\"\",\"\",'1階 計算表'!E13)","v":"："},{"$f":"IF(+'1階 計算表'!F13=\"\",\"\",'1階 計算表'!F13)","v":""},{"$f":"IF(+'1階 計算表'!G13=\"\",\"\",'1階 計算表'!G13)","v":"～"},{"$f":"IF(+'1階 計算表'!H13=\"\",\"\",'1階 計算表'!H13)","v":""},{"$f":"IF(+'1階 計算表'!I13=\"\",\"\",'1階 計算表'!I13)","v":"："},{"$f":"IF(+'1階 計算表'!J13=\"\",\"\",'1階 計算表'!J13)","v":""},{"$f":"IF(+'1階 計算表'!K13=\"\",\"\",'1階 計算表'!K13)","v":0},{"$f":"IF(+'1階 計算表'!L13=\"\",\"\",'1階 計算表'!L13)","v":1338},{"$f":"IF(+'1階 計算表'!M13=\"\",\"\",'1階 計算表'!M13)","v":0},0,{"$f":"IF(SUM($O$3:O8)=1,\"\",IF(N8>0,\"\",+IF(N9=0,0,1)))","v":0},0,{"$f":"+'2階 計算表'!A13","v":"調理室"},{"$f":"IF('2階 計算表'!B13=\"\",\"\",'2階 計算表'!B13)","v":"１時間単位"},{"$f":"IF('2階 計算表'!C13=\"\",\"\",'2階 計算表'!C13)","v":"　8：30～17：00"},{"$f":"IF('2階 計算表'!D13=\"\",\"\",'2階 計算表'!D13)","v":""},{"$f":"IF('2階 計算表'!E13=\"\",\"\",'2階 計算表'!E13)","v":"："},{"$f":"IF('2階 計算表'!F13=\"\",\"\",'2階 計算表'!F13)","v":""},{"$f":"IF('2階 計算表'!G13=\"\",\"\",'2階 計算表'!G13)","v":"～"},{"$f":"IF('2階 計算表'!H13=\"\",\"\",'2階 計算表'!H13)","v":""},{"$f":"IF('2階 計算表'!I13=\"\",\"\",'2階 計算表'!I13)","v":"："},{"$f":"IF('2階 計算表'!J13=\"\",\"\",'2階 計算表'!J13)","v":""},{"$f":"IF('2階 計算表'!K13=\"\",\"\",'2階 計算表'!K13)","v":0},{"$f":"IF('2階 計算表'!L13=\"\",\"\",'2階 計算表'!L13)","v":463},{"$f":"IF('2階 計算表'!M13=\"\",\"\",'2階 計算表'!M13)","v":0},{"$f":"+IF(AC9=0,0,1)","v":0},{"$f":"+AD9","v":0}]
[null,{"$f":"IF(+'1階 計算表'!B14=\"\",\"\",'1階 計算表'!B14)","v":""},{"$f":"IF(+'1階 計算表'!C14=\"\",\"\",'1階 計算表'!C14)","v":""},{"$f":"IF(+'1階 計算表'!D14=\"\",\"\",'1階 計算表'!D14)","v":""},{"$f":"IF(+'1階 計算表'!E14=\"\",\"\",'1階 計算表'!E14)","v":""},{"$f":"IF(+'1階 計算表'!F14=\"\",\"\",'1階 計算表'!F14)","v":""},{"$f":"IF(+'1階 計算表'!G14=\"\",\"\",'1階 計算表'!G14)","v":""},{"$f":"IF(+'1階 計算表'!H14=\"\",\"\",'1階 計算表'!H14)","v":""},{"$f":"IF(+'1階 計算表'!I14=\"\",\"\",'1階 計算表'!I14)","v":""},{"$f":"IF(+'1階 計算表'!J14=\"\",\"\",'1階 計算表'!J14)","v":""},{"$f":"IF(+'1階 計算表'!K14=\"\",\"\",'1階 計算表'!K14)","v":""},{"$f":"IF(+'1階 計算表'!L14=\"\",\"\",'1階 計算表'!L14)","v":""},{"$f":"IF(+'1階 計算表'!M14=\"\",\"\",'1階 計算表'!M14)","v":""},null,null,null,null,{"$f":"IF('2階 計算表'!B14=\"\",\"\",'2階 計算表'!B14)","v":"１時間単位"},{"$f":"IF('2階 計算表'!C14=\"\",\"\",'2階 計算表'!C14)","v":"17：00～22：00"},{"$f":"IF('2階 計算表'!D14=\"\",\"\",'2階 計算表'!D14)","v":""},{"$f":"IF('2階 計算表'!E14=\"\",\"\",'2階 計算表'!E14)","v":"："},{"$f":"IF('2階 計算表'!F14=\"\",\"\",'2階 計算表'!F14)","v":""},{"$f":"IF('2階 計算表'!G14=\"\",\"\",'2階 計算表'!G14)","v":"～"},{"$f":"IF('2階 計算表'!H14=\"\",\"\",'2階 計算表'!H14)","v":""},{"$f":"IF('2階 計算表'!I14=\"\",\"\",'2階 計算表'!I14)","v":"："},{"$f":"IF('2階 計算表'!J14=\"\",\"\",'2階 計算表'!J14)","v":""},{"$f":"IF('2階 計算表'!K14=\"\",\"\",'2階 計算表'!K14)","v":0},{"$f":"IF('2階 計算表'!L14=\"\",\"\",'2階 計算表'!L14)","v":565},{"$f":"IF('2階 計算表'!M14=\"\",\"\",'2階 計算表'!M14)","v":0},{"$f":"+IF(AC10=0,0,1)","v":0},{"$f":"IF(SUM(AE9)=1,\"\",+IF(AD10=0,0,1))","v":0},{"$f":"IF(AD10=0,0,IF(AE9=0,\"\",2))","v":0}]
[{"$f":"+'1階 計算表'!A15","v":"保養室"},{"$f":"IF(+'1階 計算表'!B15=\"\",\"\",'1階 計算表'!B15)","v":"１時間単位"},{"$f":"IF(+'1階 計算表'!C15=\"\",\"\",'1階 計算表'!C15)","v":"　8：30～17：00"},{"$f":"IF(+'1階 計算表'!D15=\"\",\"\",'1階 計算表'!D15)","v":""},{"$f":"IF(+'1階 計算表'!E15=\"\",\"\",'1階 計算表'!E15)","v":"："},{"$f":"IF(+'1階 計算表'!F15=\"\",\"\",'1階 計算表'!F15)","v":""},{"$f":"IF(+'1階 計算表'!G15=\"\",\"\",'1階 計算表'!G15)","v":"～"},{"$f":"IF(+'1階 計算表'!H15=\"\",\"\",'1階 計算表'!H15)","v":""},{"$f":"IF(+'1階 計算表'!I15=\"\",\"\",'1階 計算表'!I15)","v":"："},{"$f":"IF(+'1階 計算表'!J15=\"\",\"\",'1階 計算表'!J15)","v":""},{"$f":"IF(+'1階 計算表'!K15=\"\",\"\",'1階 計算表'!K15)","v":0},{"$f":"IF(+'1階 計算表'!L15=\"\",\"\",'1階 計算表'!L15)","v":463},{"$f":"IF(+'1階 計算表'!M15=\"\",\"\",'1階 計算表'!M15)","v":0},{"$f":"+IF(M11=0,0,1)","v":0},{"$f":"+N11","v":0},null,null,{"$f":"IF('2階 計算表'!B15=\"\",\"\",'2階 計算表'!B15)","v":"午前午後"},{"$f":"IF('2階 計算表'!C15=\"\",\"\",'2階 計算表'!C15)","v":"　8：30～17：00"},null,{"$f":"IF('2階 計算表'!E15=\"\",\"\",'2階 計算表'!E15)","v":""},{"$f":"IF('2階 計算表'!F15=\"\",\"\",'2階 計算表'!F15)","v":""},{"$f":"IF('2階 計算表'!G15=\"\",\"\",'2階 計算表'!G15)","v":""},{"$f":"IF('2階 計算表'!H15=\"\",\"\",'2階 計算表'!H15)","v":""},{"$f":"IF('2階 計算表'!I15=\"\",\"\",'2階 計算表'!I15)","v":""},{"$f":"IF('2階 計算表'!J15=\"\",\"\",'2階 計算表'!J15)","v":""},{"$f":"IF('2階 計算表'!K15=\"\",\"\",'2階 計算表'!K15)","v":""},{"$f":"IF('2階 計算表'!L15=\"\",\"\",'2階 計算表'!L15)","v":2366},{"$f":"IF('2階 計算表'!M15=\"\",\"\",'2階 計算表'!M15)","v":0},0,{"$f":"IF(SUM($O9:AE10)=1,\"\",IF(AD10>0,\"\",+IF(AD11=0,0,1)))","v":0},{"$f":"IF(AD11=0,0,IF(AE10=0,0,2))","v":0}]
[null,{"$f":"IF(+'1階 計算表'!B16=\"\",\"\",'1階 計算表'!B16)","v":"１時間単位"},{"$f":"IF(+'1階 計算表'!C16=\"\",\"\",'1階 計算表'!C16)","v":"17：00～22：00"},{"$f":"IF(+'1階 計算表'!D16=\"\",\"\",'1階 計算表'!D16)","v":""},{"$f":"IF(+'1階 計算表'!E16=\"\",\"\",'1階 計算表'!E16)","v":"："},{"$f":"IF(+'1階 計算表'!F16=\"\",\"\",'1階 計算表'!F16)","v":""},{"$f":"IF(+'1階 計算表'!G16=\"\",\"\",'1階 計算表'!G16)","v":"～"},{"$f":"IF(+'1階 計算表'!H16=\"\",\"\",'1階 計算表'!H16)","v":""},{"$f":"IF(+'1階 計算表'!I16=\"\",\"\",'1階 計算表'!I16)","v":"："},{"$f":"IF(+'1階 計算表'!J16=\"\",\"\",'1階 計算表'!J16)","v":""},{"$f":"IF(+'1階 計算表'!K16=\"\",\"\",'1階 計算表'!K16)","v":0},{"$f":"IF(+'1階 計算表'!L16=\"\",\"\",'1階 計算表'!L16)","v":565},{"$f":"IF(+'1階 計算表'!M16=\"\",\"\",'1階 計算表'!M16)","v":0},{"$f":"+IF(M12=0,0,1)","v":0},{"$f":"IF(SUM(O11)=1,\"\",+IF(N12=0,0,1))","v":0},{"$f":"IF(N12=0,0,IF(O11=0,\"\",2))","v":0},null,{"$f":"IF('2階 計算表'!B16=\"\",\"\",'2階 計算表'!B16)","v":"午後夜間"},{"$f":"IF('2階 計算表'!C16=\"\",\"\",'2階 計算表'!C16)","v":"13：00～22：00"},null,{"$f":"IF('2階 計算表'!E16=\"\",\"\",'2階 計算表'!E16)","v":""},{"$f":"IF('2階 計算表'!F16=\"\",\"\",'2階 計算表'!F16)","v":""},{"$f":"IF('2階 計算表'!G16=\"\",\"\",'2階 計算表'!G16)","v":""},{"$f":"IF('2階 計算表'!H16=\"\",\"\",'2階 計算表'!H16)","v":""},{"$f":"IF('2階 計算表'!I16=\"\",\"\",'2階 計算表'!I16)","v":""},{"$f":"IF('2階 計算表'!J16=\"\",\"\",'2階 計算表'!J16)","v":""},{"$f":"IF('2階 計算表'!K16=\"\",\"\",'2階 計算表'!K16)","v":""},{"$f":"IF('2階 計算表'!L16=\"\",\"\",'2階 計算表'!L16)","v":3394},{"$f":"IF('2階 計算表'!M16=\"\",\"\",'2階 計算表'!M16)","v":0},0,{"$f":"IF(SUM($O9:AE11)=1,\"\",IF(AD11>0,\"\",+IF(AD12=0,0,1)))","v":0},{"$f":"IF(AD12=0,0,IF(AE11=0,\"\",2))","v":0}]
[null,{"$f":"IF(+'1階 計算表'!B17=\"\",\"\",'1階 計算表'!B17)","v":"午前午後"},{"$f":"IF(+'1階 計算表'!C17=\"\",\"\",'1階 計算表'!C17)","v":"　8：30～17：00"},null,{"$f":"IF(+'1階 計算表'!E17=\"\",\"\",'1階 計算表'!E17)","v":""},{"$f":"IF(+'1階 計算表'!F17=\"\",\"\",'1階 計算表'!F17)","v":""},{"$f":"IF(+'1階 計算表'!G17=\"\",\"\",'1階 計算表'!G17)","v":""},{"$f":"IF(+'1階 計算表'!H17=\"\",\"\",'1階 計算表'!H17)","v":""},{"$f":"IF(+'1階 計算表'!I17=\"\",\"\",'1階 計算表'!I17)","v":""},{"$f":"IF(+'1階 計算表'!J17=\"\",\"\",'1階 計算表'!J17)","v":""},{"$f":"IF(+'1階 計算表'!K17=\"\",\"\",'1階 計算表'!K17)","v":""},{"$f":"IF(+'1階 計算表'!L17=\"\",\"\",'1階 計算表'!L17)","v":2366},{"$f":"IF(+'1階 計算表'!M17=\"\",\"\",'1階 計算表'!M17)","v":0},0,{"$f":"IF(SUM($O11:O12)=1,\"\",IF(N12>0,\"\",+IF(N13=0,0,1)))","v":0},{"$f":"IF(N13=0,0,IF(O12=0,0,2))","v":0},null,{"$f":"IF('2階 計算表'!B17=\"\",\"\",'2階 計算表'!B17)","v":"終　　日"},{"$f":"IF('2階 計算表'!C17=\"\",\"\",'2階 計算表'!C17)","v":"8：30～22：00"},null,{"$f":"IF('2階 計算表'!E17=\"\",\"\",'2階 計算表'!E17)","v":""},{"$f":"IF('2階 計算表'!F17=\"\",\"\",'2階 計算表'!F17)","v":""},{"$f":"IF('2階 計算表'!G17=\"\",\"\",'2階 計算表'!G17)","v":""},{"$f":"IF('2階 計算表'!H17=\"\",\"\",'2階 計算表'!H17)","v":""},{"$f":"IF('2階 計算表'!I17=\"\",\"\",'2階 計算表'!I17)","v":""},{"$f":"IF('2階 計算表'!J17=\"\",\"\",'2階 計算表'!J17)","v":""},{"$f":"IF('2階 計算表'!K17=\"\",\"\",'2階 計算表'!K17)","v":""},{"$f":"IF('2階 計算表'!L17=\"\",\"\",'2階 計算表'!L17)","v":4320},{"$f":"IF('2階 計算表'!M17=\"\",\"\",'2階 計算表'!M17)","v":0},0,{"$f":"IF(SUM($O9:AE12)=1,\"\",IF(AD12>0,\"\",+IF(AD13=0,0,1)))","v":0},0]
[null,{"$f":"IF(+'1階 計算表'!B18=\"\",\"\",'1階 計算表'!B18)","v":"午後夜間"},{"$f":"IF(+'1階 計算表'!C18=\"\",\"\",'1階 計算表'!C18)","v":"13：00～22：00"},null,{"$f":"IF(+'1階 計算表'!E18=\"\",\"\",'1階 計算表'!E18)","v":""},{"$f":"IF(+'1階 計算表'!F18=\"\",\"\",'1階 計算表'!F18)","v":""},{"$f":"IF(+'1階 計算表'!G18=\"\",\"\",'1階 計算表'!G18)","v":""},{"$f":"IF(+'1階 計算表'!H18=\"\",\"\",'1階 計算表'!H18)","v":""},{"$f":"IF(+'1階 計算表'!I18=\"\",\"\",'1階 計算表'!I18)","v":""},{"$f":"IF(+'1階 計算表'!J18=\"\",\"\",'1階 計算表'!J18)","v":""},{"$f":"IF(+'1階 計算表'!K18=\"\",\"\",'1階 計算表'!K18)","v":""},{"$f":"IF(+'1階 計算表'!L18=\"\",\"\",'1階 計算表'!L18)","v":3394},{"$f":"IF(+'1階 計算表'!M18=\"\",\"\",'1階 計算表'!M18)","v":0},0,{"$f":"IF(SUM($O$11:O13)=1,\"\",IF(N13>0,\"\",+IF(N14=0,0,1)))","v":0},{"$f":"IF(N14=0,0,IF(O13=0,\"\",2))","v":0},null,{"$f":"IF('2階 計算表'!B18=\"\",\"\",'2階 計算表'!B18)","v":""},{"$f":"IF('2階 計算表'!C18=\"\",\"\",'2階 計算表'!C18)","v":""},{"$f":"IF('2階 計算表'!D18=\"\",\"\",'2階 計算表'!D18)","v":""},{"$f":"IF('2階 計算表'!E18=\"\",\"\",'2階 計算表'!E18)","v":""},{"$f":"IF('2階 計算表'!F18=\"\",\"\",'2階 計算表'!F18)","v":""},{"$f":"IF('2階 計算表'!G18=\"\",\"\",'2階 計算表'!G18)","v":""},{"$f":"IF('2階 計算表'!H18=\"\",\"\",'2階 計算表'!H18)","v":""},{"$f":"IF('2階 計算表'!I18=\"\",\"\",'2階 計算表'!I18)","v":""},{"$f":"IF('2階 計算表'!J18=\"\",\"\",'2階 計算表'!J18)","v":""},{"$f":"IF('2階 計算表'!K18=\"\",\"\",'2階 計算表'!K18)","v":""},{"$f":"IF('2階 計算表'!L18=\"\",\"\",'2階 計算表'!L18)","v":""},{"$f":"IF('2階 計算表'!M18=\"\",\"\",'2階 計算表'!M18)","v":""}]
[null,{"$f":"IF(+'1階 計算表'!B19=\"\",\"\",'1階 計算表'!B19)","v":"終　　日"},{"$f":"IF(+'1階 計算表'!C19=\"\",\"\",'1階 計算表'!C19)","v":"8：30～22：00"},null,{"$f":"IF(+'1階 計算表'!E19=\"\",\"\",'1階 計算表'!E19)","v":""},{"$f":"IF(+'1階 計算表'!F19=\"\",\"\",'1階 計算表'!F19)","v":""},{"$f":"IF(+'1階 計算表'!G19=\"\",\"\",'1階 計算表'!G19)","v":""},{"$f":"IF(+'1階 計算表'!H19=\"\",\"\",'1階 計算表'!H19)","v":""},{"$f":"IF(+'1階 計算表'!I19=\"\",\"\",'1階 計算表'!I19)","v":""},{"$f":"IF(+'1階 計算表'!J19=\"\",\"\",'1階 計算表'!J19)","v":""},{"$f":"IF(+'1階 計算表'!K19=\"\",\"\",'1階 計算表'!K19)","v":""},{"$f":"IF(+'1階 計算表'!L19=\"\",\"\",'1階 計算表'!L19)","v":4320},{"$f":"IF(+'1階 計算表'!M19=\"\",\"\",'1階 計算表'!M19)","v":0},0,{"$f":"IF(SUM($O$11:O14)=1,\"\",IF(N14>0,\"\",+IF(N15=0,0,1)))","v":0},0,{"$f":"+'2階 計算表'!A19","v":"青年研修室"},{"$f":"IF('2階 計算表'!B19=\"\",\"\",'2階 計算表'!B19)","v":"１時間単位"},{"$f":"IF('2階 計算表'!C19=\"\",\"\",'2階 計算表'!C19)","v":"　8：30～17：00"},{"$f":"IF('2階 計算表'!D19=\"\",\"\",'2階 計算表'!D19)","v":""},{"$f":"IF('2階 計算表'!E19=\"\",\"\",'2階 計算表'!E19)","v":"："},{"$f":"IF('2階 計算表'!F19=\"\",\"\",'2階 計算表'!F19)","v":""},{"$f":"IF('2階 計算表'!G19=\"\",\"\",'2階 計算表'!G19)","v":"～"},{"$f":"IF('2階 計算表'!H19=\"\",\"\",'2階 計算表'!H19)","v":""},{"$f":"IF('2階 計算表'!I19=\"\",\"\",'2階 計算表'!I19)","v":"："},{"$f":"IF('2階 計算表'!J19=\"\",\"\",'2階 計算表'!J19)","v":""},{"$f":"IF('2階 計算表'!K19=\"\",\"\",'2階 計算表'!K19)","v":0},{"$f":"IF('2階 計算表'!L19=\"\",\"\",'2階 計算表'!L19)","v":463},{"$f":"IF('2階 計算表'!M19=\"\",\"\",'2階 計算表'!M19)","v":0},{"$f":"+IF(AC15=0,0,1)","v":0},{"$f":"+AD15","v":0}]
[null,{"$f":"IF(+'1階 計算表'!B20=\"\",\"\",'1階 計算表'!B20)","v":""},{"$f":"IF(+'1階 計算表'!C20=\"\",\"\",'1階 計算表'!C20)","v":""},{"$f":"IF(+'1階 計算表'!D20=\"\",\"\",'1階 計算表'!D20)","v":""},{"$f":"IF(+'1階 計算表'!E20=\"\",\"\",'1階 計算表'!E20)","v":""},{"$f":"IF(+'1階 計算表'!F20=\"\",\"\",'1階 計算表'!F20)","v":""},{"$f":"IF(+'1階 計算表'!G20=\"\",\"\",'1階 計算表'!G20)","v":""},{"$f":"IF(+'1階 計算表'!H20=\"\",\"\",'1階 計算表'!H20)","v":""},{"$f":"IF(+'1階 計算表'!I20=\"\",\"\",'1階 計算表'!I20)","v":""},{"$f":"IF(+'1階 計算表'!J20=\"\",\"\",'1階 計算表'!J20)","v":""},{"$f":"IF(+'1階 計算表'!K20=\"\",\"\",'1階 計算表'!K20)","v":""},{"$f":"IF(+'1階 計算表'!L20=\"\",\"\",'1階 計算表'!L20)","v":""},{"$f":"IF(+'1階 計算表'!M20=\"\",\"\",'1階 計算表'!M20)","v":""},null,null,null,null,{"$f":"IF('2階 計算表'!B20=\"\",\"\",'2階 計算表'!B20)","v":"１時間単位"},{"$f":"IF('2階 計算表'!C20=\"\",\"\",'2階 計算表'!C20)","v":"17：00～22：00"},{"$f":"IF('2階 計算表'!D20=\"\",\"\",'2階 計算表'!D20)","v":""},{"$f":"IF('2階 計算表'!E20=\"\",\"\",'2階 計算表'!E20)","v":"："},{"$f":"IF('2階 計算表'!F20=\"\",\"\",'2階 計算表'!F20)","v":""},{"$f":"IF('2階 計算表'!G20=\"\",\"\",'2階 計算表'!G20)","v":"～"},{"$f":"IF('2階 計算表'!H20=\"\",\"\",'2階 計算表'!H20)","v":""},{"$f":"IF('2階 計算表'!I20=\"\",\"\",'2階 計算表'!I20)","v":"："},{"$f":"IF('2階 計算表'!J20=\"\",\"\",'2階 計算表'!J20)","v":""},{"$f":"IF('2階 計算表'!K20=\"\",\"\",'2階 計算表'!K20)","v":0},{"$f":"IF('2階 計算表'!L20=\"\",\"\",'2階 計算表'!L20)","v":565},{"$f":"IF('2階 計算表'!M20=\"\",\"\",'2階 計算表'!M20)","v":0},{"$f":"+IF(AC16=0,0,1)","v":0},{"$f":"IF(SUM(AE15)=1,\"\",+IF(AD16=0,0,1))","v":0},{"$f":"IF(AD16=0,0,IF(AE15=0,\"\",2))","v":0}]
[{"$f":"+'1階 計算表'!A21","v":"娯楽室"},{"$f":"IF(+'1階 計算表'!B21=\"\",\"\",'1階 計算表'!B21)","v":"１時間単位"},{"$f":"IF(+'1階 計算表'!C21=\"\",\"\",'1階 計算表'!C21)","v":"　8：30～17：00"},{"$f":"IF(+'1階 計算表'!D21=\"\",\"\",'1階 計算表'!D21)","v":""},{"$f":"IF(+'1階 計算表'!E21=\"\",\"\",'1階 計算表'!E21)","v":"："},{"$f":"IF(+'1階 計算表'!F21=\"\",\"\",'1階 計算表'!F21)","v":""},{"$f":"IF(+'1階 計算表'!G21=\"\",\"\",'1階 計算表'!G21)","v":"～"},{"$f":"IF(+'1階 計算表'!H21=\"\",\"\",'1階 計算表'!H21)","v":""},{"$f":"IF(+'1階 計算表'!I21=\"\",\"\",'1階 計算表'!I21)","v":"："},{"$f":"IF(+'1階 計算表'!J21=\"\",\"\",'1階 計算表'!J21)","v":""},{"$f":"IF(+'1階 計算表'!K21=\"\",\"\",'1階 計算表'!K21)","v":0},{"$f":"IF(+'1階 計算表'!L21=\"\",\"\",'1階 計算表'!L21)","v":463},{"$f":"IF(+'1階 計算表'!M21=\"\",\"\",'1階 計算表'!M21)","v":0},{"$f":"+IF(M17=0,0,1)","v":0},{"$f":"+N17","v":0},null,null,{"$f":"IF('2階 計算表'!B21=\"\",\"\",'2階 計算表'!B21)","v":"午前午後"},{"$f":"IF('2階 計算表'!C21=\"\",\"\",'2階 計算表'!C21)","v":"　8：30～17：00"},null,{"$f":"IF('2階 計算表'!E21=\"\",\"\",'2階 計算表'!E21)","v":""},{"$f":"IF('2階 計算表'!F21=\"\",\"\",'2階 計算表'!F21)","v":""},{"$f":"IF('2階 計算表'!G21=\"\",\"\",'2階 計算表'!G21)","v":""},{"$f":"IF('2階 計算表'!H21=\"\",\"\",'2階 計算表'!H21)","v":""},{"$f":"IF('2階 計算表'!I21=\"\",\"\",'2階 計算表'!I21)","v":""},{"$f":"IF('2階 計算表'!J21=\"\",\"\",'2階 計算表'!J21)","v":""},{"$f":"IF('2階 計算表'!K21=\"\",\"\",'2階 計算表'!K21)","v":""},{"$f":"IF('2階 計算表'!L21=\"\",\"\",'2階 計算表'!L21)","v":2366},{"$f":"IF('2階 計算表'!M21=\"\",\"\",'2階 計算表'!M21)","v":0},0,{"$f":"IF(SUM($O15:AE16)=1,\"\",IF(AD16>0,\"\",+IF(AD17=0,0,1)))","v":0},{"$f":"IF(AD17=0,0,IF(AE16=0,0,2))","v":0}]
[null,{"$f":"IF(+'1階 計算表'!B22=\"\",\"\",'1階 計算表'!B22)","v":"１時間単位"},{"$f":"IF(+'1階 計算表'!C22=\"\",\"\",'1階 計算表'!C22)","v":"17：00～22：00"},{"$f":"IF(+'1階 計算表'!D22=\"\",\"\",'1階 計算表'!D22)","v":""},{"$f":"IF(+'1階 計算表'!E22=\"\",\"\",'1階 計算表'!E22)","v":"："},{"$f":"IF(+'1階 計算表'!F22=\"\",\"\",'1階 計算表'!F22)","v":""},{"$f":"IF(+'1階 計算表'!G22=\"\",\"\",'1階 計算表'!G22)","v":"～"},{"$f":"IF(+'1階 計算表'!H22=\"\",\"\",'1階 計算表'!H22)","v":""},{"$f":"IF(+'1階 計算表'!I22=\"\",\"\",'1階 計算表'!I22)","v":"："},{"$f":"IF(+'1階 計算表'!J22=\"\",\"\",'1階 計算表'!J22)","v":""},{"$f":"IF(+'1階 計算表'!K22=\"\",\"\",'1階 計算表'!K22)","v":0},{"$f":"IF(+'1階 計算表'!L22=\"\",\"\",'1階 計算表'!L22)","v":565},{"$f":"IF(+'1階 計算表'!M22=\"\",\"\",'1階 計算表'!M22)","v":0},{"$f":"+IF(M18=0,0,1)","v":0},{"$f":"IF(SUM(O17)=1,\"\",+IF(N18=0,0,1))","v":0},{"$f":"IF(N18=0,0,IF(O17=0,\"\",2))","v":0},null,{"$f":"IF('2階 計算表'!B22=\"\",\"\",'2階 計算表'!B22)","v":"午後夜間"},{"$f":"IF('2階 計算表'!C22=\"\",\"\",'2階 計算表'!C22)","v":"13：00～22：00"},null,{"$f":"IF('2階 計算表'!E22=\"\",\"\",'2階 計算表'!E22)","v":""},{"$f":"IF('2階 計算表'!F22=\"\",\"\",'2階 計算表'!F22)","v":""},{"$f":"IF('2階 計算表'!G22=\"\",\"\",'2階 計算表'!G22)","v":""},{"$f":"IF('2階 計算表'!H22=\"\",\"\",'2階 計算表'!H22)","v":""},{"$f":"IF('2階 計算表'!I22=\"\",\"\",'2階 計算表'!I22)","v":""},{"$f":"IF('2階 計算表'!J22=\"\",\"\",'2階 計算表'!J22)","v":""},{"$f":"IF('2階 計算表'!K22=\"\",\"\",'2階 計算表'!K22)","v":""},{"$f":"IF('2階 計算表'!L22=\"\",\"\",'2階 計算表'!L22)","v":3394},{"$f":"IF('2階 計算表'!M22=\"\",\"\",'2階 計算表'!M22)","v":0},0,{"$f":"IF(SUM($O15:AE17)=1,\"\",IF(AD17>0,\"\",+IF(AD18=0,0,1)))","v":0},{"$f":"IF(AD18=0,0,IF(AE17=0,\"\",2))","v":0}]
[null,{"$f":"IF(+'1階 計算表'!B23=\"\",\"\",'1階 計算表'!B23)","v":"午前午後"},{"$f":"IF(+'1階 計算表'!C23=\"\",\"\",'1階 計算表'!C23)","v":"　8：30～17：00"},null,{"$f":"IF(+'1階 計算表'!E23=\"\",\"\",'1階 計算表'!E23)","v":""},{"$f":"IF(+'1階 計算表'!F23=\"\",\"\",'1階 計算表'!F23)","v":""},{"$f":"IF(+'1階 計算表'!G23=\"\",\"\",'1階 計算表'!G23)","v":""},{"$f":"IF(+'1階 計算表'!H23=\"\",\"\",'1階 計算表'!H23)","v":""},{"$f":"IF(+'1階 計算表'!I23=\"\",\"\",'1階 計算表'!I23)","v":""},{"$f":"IF(+'1階 計算表'!J23=\"\",\"\",'1階 計算表'!J23)","v":""},{"$f":"IF(+'1階 計算表'!K23=\"\",\"\",'1階 計算表'!K23)","v":""},{"$f":"IF(+'1階 計算表'!L23=\"\",\"\",'1階 計算表'!L23)","v":2366},{"$f":"IF(+'1階 計算表'!M23=\"\",\"\",'1階 計算表'!M23)","v":0},0,{"$f":"IF(SUM($O17:O18)=1,\"\",IF(N18>0,\"\",+IF(N19=0,0,1)))","v":0},{"$f":"IF(N19=0,0,IF(O18=0,0,2))","v":0},null,{"$f":"IF('2階 計算表'!B23=\"\",\"\",'2階 計算表'!B23)","v":"終　　日"},{"$f":"IF('2階 計算表'!C23=\"\",\"\",'2階 計算表'!C23)","v":"8：30～22：00"},null,{"$f":"IF('2階 計算表'!E23=\"\",\"\",'2階 計算表'!E23)","v":""},{"$f":"IF('2階 計算表'!F23=\"\",\"\",'2階 計算表'!F23)","v":""},{"$f":"IF('2階 計算表'!G23=\"\",\"\",'2階 計算表'!G23)","v":""},{"$f":"IF('2階 計算表'!H23=\"\",\"\",'2階 計算表'!H23)","v":""},{"$f":"IF('2階 計算表'!I23=\"\",\"\",'2階 計算表'!I23)","v":""},{"$f":"IF('2階 計算表'!J23=\"\",\"\",'2階 計算表'!J23)","v":""},{"$f":"IF('2階 計算表'!K23=\"\",\"\",'2階 計算表'!K23)","v":""},{"$f":"IF('2階 計算表'!L23=\"\",\"\",'2階 計算表'!L23)","v":4320},{"$f":"IF('2階 計算表'!M23=\"\",\"\",'2階 計算表'!M23)","v":0},0,{"$f":"IF(SUM($O15:AE18)=1,\"\",IF(AD18>0,\"\",+IF(AD19=0,0,1)))","v":0},0]
[null,{"$f":"IF(+'1階 計算表'!B24=\"\",\"\",'1階 計算表'!B24)","v":"午後夜間"},{"$f":"IF(+'1階 計算表'!C24=\"\",\"\",'1階 計算表'!C24)","v":"13：00～22：00"},null,{"$f":"IF(+'1階 計算表'!E24=\"\",\"\",'1階 計算表'!E24)","v":""},{"$f":"IF(+'1階 計算表'!F24=\"\",\"\",'1階 計算表'!F24)","v":""},{"$f":"IF(+'1階 計算表'!G24=\"\",\"\",'1階 計算表'!G24)","v":""},{"$f":"IF(+'1階 計算表'!H24=\"\",\"\",'1階 計算表'!H24)","v":""},{"$f":"IF(+'1階 計算表'!I24=\"\",\"\",'1階 計算表'!I24)","v":""},{"$f":"IF(+'1階 計算表'!J24=\"\",\"\",'1階 計算表'!J24)","v":""},{"$f":"IF(+'1階 計算表'!K24=\"\",\"\",'1階 計算表'!K24)","v":""},{"$f":"IF(+'1階 計算表'!L24=\"\",\"\",'1階 計算表'!L24)","v":3394},{"$f":"IF(+'1階 計算表'!M24=\"\",\"\",'1階 計算表'!M24)","v":0},0,{"$f":"IF(SUM($O$17:O19)=1,\"\",IF(N19>0,\"\",+IF(N20=0,0,1)))","v":0},{"$f":"IF(N20=0,0,IF(O19=0,\"\",2))","v":0},null,{"$f":"IF('2階 計算表'!B24=\"\",\"\",'2階 計算表'!B24)","v":""},{"$f":"IF('2階 計算表'!C24=\"\",\"\",'2階 計算表'!C24)","v":""},{"$f":"IF('2階 計算表'!D24=\"\",\"\",'2階 計算表'!D24)","v":""},{"$f":"IF('2階 計算表'!E24=\"\",\"\",'2階 計算表'!E24)","v":""},{"$f":"IF('2階 計算表'!F24=\"\",\"\",'2階 計算表'!F24)","v":""},{"$f":"IF('2階 計算表'!G24=\"\",\"\",'2階 計算表'!G24)","v":""},{"$f":"IF('2階 計算表'!H24=\"\",\"\",'2階 計算表'!H24)","v":""},{"$f":"IF('2階 計算表'!I24=\"\",\"\",'2階 計算表'!I24)","v":""},{"$f":"IF('2階 計算表'!J24=\"\",\"\",'2階 計算表'!J24)","v":""},{"$f":"IF('2階 計算表'!K24=\"\",\"\",'2階 計算表'!K24)","v":""},{"$f":"IF('2階 計算表'!L24=\"\",\"\",'2階 計算表'!L24)","v":""},{"$f":"IF('2階 計算表'!M24=\"\",\"\",'2階 計算表'!M24)","v":""}]
[null,{"$f":"IF(+'1階 計算表'!B25=\"\",\"\",'1階 計算表'!B25)","v":"終　　日"},{"$f":"IF(+'1階 計算表'!C25=\"\",\"\",'1階 計算表'!C25)","v":"8：30～22：00"},null,{"$f":"IF(+'1階 計算表'!E25=\"\",\"\",'1階 計算表'!E25)","v":""},{"$f":"IF(+'1階 計算表'!F25=\"\",\"\",'1階 計算表'!F25)","v":""},{"$f":"IF(+'1階 計算表'!G25=\"\",\"\",'1階 計算表'!G25)","v":""},{"$f":"IF(+'1階 計算表'!H25=\"\",\"\",'1階 計算表'!H25)","v":""},{"$f":"IF(+'1階 計算表'!I25=\"\",\"\",'1階 計算表'!I25)","v":""},{"$f":"IF(+'1階 計算表'!J25=\"\",\"\",'1階 計算表'!J25)","v":""},{"$f":"IF(+'1階 計算表'!K25=\"\",\"\",'1階 計算表'!K25)","v":""},{"$f":"IF(+'1階 計算表'!L25=\"\",\"\",'1階 計算表'!L25)","v":4320},{"$f":"IF(+'1階 計算表'!M25=\"\",\"\",'1階 計算表'!M25)","v":0},0,{"$f":"IF(SUM($O$17:O20)=1,\"\",IF(N20>0,\"\",+IF(N21=0,0,1)))","v":0},0,{"$f":"+'2階 計算表'!A25","v":"展示ホール"},{"$f":"IF('2階 計算表'!B25=\"\",\"\",'2階 計算表'!B25)","v":"１時間単位"},{"$f":"IF('2階 計算表'!C25=\"\",\"\",'2階 計算表'!C25)","v":"　8：30～17：00"},{"$f":"IF('2階 計算表'!D25=\"\",\"\",'2階 計算表'!D25)","v":""},{"$f":"IF('2階 計算表'!E25=\"\",\"\",'2階 計算表'!E25)","v":"："},{"$f":"IF('2階 計算表'!F25=\"\",\"\",'2階 計算表'!F25)","v":""},{"$f":"IF('2階 計算表'!G25=\"\",\"\",'2階 計算表'!G25)","v":"～"},{"$f":"IF('2階 計算表'!H25=\"\",\"\",'2階 計算表'!H25)","v":""},{"$f":"IF('2階 計算表'!I25=\"\",\"\",'2階 計算表'!I25)","v":"："},{"$f":"IF('2階 計算表'!J25=\"\",\"\",'2階 計算表'!J25)","v":""},{"$f":"IF('2階 計算表'!K25=\"\",\"\",'2階 計算表'!K25)","v":0},{"$f":"IF('2階 計算表'!L25=\"\",\"\",'2階 計算表'!L25)","v":463},{"$f":"IF('2階 計算表'!M25=\"\",\"\",'2階 計算表'!M25)","v":0},{"$f":"+IF(AC21=0,0,1)","v":0},{"$f":"+AD21","v":0}]
[null,{"$f":"IF(+'1階 計算表'!B26=\"\",\"\",'1階 計算表'!B26)","v":""},{"$f":"IF(+'1階 計算表'!C26=\"\",\"\",'1階 計算表'!C26)","v":""},{"$f":"IF(+'1階 計算表'!D26=\"\",\"\",'1階 計算表'!D26)","v":""},{"$f":"IF(+'1階 計算表'!E26=\"\",\"\",'1階 計算表'!E26)","v":""},{"$f":"IF(+'1階 計算表'!F26=\"\",\"\",'1階 計算表'!F26)","v":""},{"$f":"IF(+'1階 計算表'!G26=\"\",\"\",'1階 計算表'!G26)","v":""},{"$f":"IF(+'1階 計算表'!H26=\"\",\"\",'1階 計算表'!H26)","v":""},{"$f":"IF(+'1階 計算表'!I26=\"\",\"\",'1階 計算表'!I26)","v":""},{"$f":"IF(+'1階 計算表'!J26=\"\",\"\",'1階 計算表'!J26)","v":""},{"$f":"IF(+'1階 計算表'!K26=\"\",\"\",'1階 計算表'!K26)","v":""},{"$f":"IF(+'1階 計算表'!L26=\"\",\"\",'1階 計算表'!L26)","v":""},{"$f":"IF(+'1階 計算表'!M26=\"\",\"\",'1階 計算表'!M26)","v":""},null,null,null,null,{"$f":"IF('2階 計算表'!B26=\"\",\"\",'2階 計算表'!B26)","v":"１時間単位"},{"$f":"IF('2階 計算表'!C26=\"\",\"\",'2階 計算表'!C26)","v":"17：00～22：00"},{"$f":"IF('2階 計算表'!D26=\"\",\"\",'2階 計算表'!D26)","v":""},{"$f":"IF('2階 計算表'!E26=\"\",\"\",'2階 計算表'!E26)","v":"："},{"$f":"IF('2階 計算表'!F26=\"\",\"\",'2階 計算表'!F26)","v":""},{"$f":"IF('2階 計算表'!G26=\"\",\"\",'2階 計算表'!G26)","v":"～"},{"$f":"IF('2階 計算表'!H26=\"\",\"\",'2階 計算表'!H26)","v":""},{"$f":"IF('2階 計算表'!I26=\"\",\"\",'2階 計算表'!I26)","v":"："},{"$f":"IF('2階 計算表'!J26=\"\",\"\",'2階 計算表'!J26)","v":""},{"$f":"IF('2階 計算表'!K26=\"\",\"\",'2階 計算表'!K26)","v":0},{"$f":"IF('2階 計算表'!L26=\"\",\"\",'2階 計算表'!L26)","v":565},{"$f":"IF('2階 計算表'!M26=\"\",\"\",'2階 計算表'!M26)","v":0},{"$f":"+IF(AC22=0,0,1)","v":0},{"$f":"IF(SUM(AE21)=1,\"\",+IF(AD22=0,0,1))","v":0},{"$f":"IF(AD22=0,0,IF(AE21=0,\"\",2))","v":0}]
[{"$f":"+'1階 計算表'!A27","v":"研修室"},{"$f":"IF(+'1階 計算表'!B27=\"\",\"\",'1階 計算表'!B27)","v":"１時間単位"},{"$f":"IF(+'1階 計算表'!C27=\"\",\"\",'1階 計算表'!C27)","v":"　8：30～17：00"},{"$f":"IF(+'1階 計算表'!D27=\"\",\"\",'1階 計算表'!D27)","v":""},{"$f":"IF(+'1階 計算表'!E27=\"\",\"\",'1階 計算表'!E27)","v":"："},{"$f":"IF(+'1階 計算表'!F27=\"\",\"\",'1階 計算表'!F27)","v":""},{"$f":"IF(+'1階 計算表'!G27=\"\",\"\",'1階 計算表'!G27)","v":"～"},{"$f":"IF(+'1階 計算表'!H27=\"\",\"\",'1階 計算表'!H27)","v":""},{"$f":"IF(+'1階 計算表'!I27=\"\",\"\",'1階 計算表'!I27)","v":"："},{"$f":"IF(+'1階 計算表'!J27=\"\",\"\",'1階 計算表'!J27)","v":""},{"$f":"IF(+'1階 計算表'!K27=\"\",\"\",'1階 計算表'!K27)","v":0},{"$f":"IF(+'1階 計算表'!L27=\"\",\"\",'1階 計算表'!L27)","v":463},{"$f":"IF(+'1階 計算表'!M27=\"\",\"\",'1階 計算表'!M27)","v":0},{"$f":"+IF(M23=0,0,1)","v":0},{"$f":"+N23","v":0},null,null,{"$f":"IF('2階 計算表'!B27=\"\",\"\",'2階 計算表'!B27)","v":"午前午後"},{"$f":"IF('2階 計算表'!C27=\"\",\"\",'2階 計算表'!C27)","v":"　8：30～17：00"},null,{"$f":"IF('2階 計算表'!E27=\"\",\"\",'2階 計算表'!E27)","v":""},{"$f":"IF('2階 計算表'!F27=\"\",\"\",'2階 計算表'!F27)","v":""},{"$f":"IF('2階 計算表'!G27=\"\",\"\",'2階 計算表'!G27)","v":""},{"$f":"IF('2階 計算表'!H27=\"\",\"\",'2階 計算表'!H27)","v":""},{"$f":"IF('2階 計算表'!I27=\"\",\"\",'2階 計算表'!I27)","v":""},{"$f":"IF('2階 計算表'!J27=\"\",\"\",'2階 計算表'!J27)","v":""},{"$f":"IF('2階 計算表'!K27=\"\",\"\",'2階 計算表'!K27)","v":""},{"$f":"IF('2階 計算表'!L27=\"\",\"\",'2階 計算表'!L27)","v":2366},{"$f":"IF('2階 計算表'!M27=\"\",\"\",'2階 計算表'!M27)","v":0},0,{"$f":"IF(SUM($O21:AE22)=1,\"\",IF(AD22>0,\"\",+IF(AD23=0,0,1)))","v":0},{"$f":"IF(AD23=0,0,IF(AE22=0,0,2))","v":0}]
[null,{"$f":"IF(+'1階 計算表'!B28=\"\",\"\",'1階 計算表'!B28)","v":"１時間単位"},{"$f":"IF(+'1階 計算表'!C28=\"\",\"\",'1階 計算表'!C28)","v":"17：00～22：00"},{"$f":"IF(+'1階 計算表'!D28=\"\",\"\",'1階 計算表'!D28)","v":""},{"$f":"IF(+'1階 計算表'!E28=\"\",\"\",'1階 計算表'!E28)","v":"："},{"$f":"IF(+'1階 計算表'!F28=\"\",\"\",'1階 計算表'!F28)","v":""},{"$f":"IF(+'1階 計算表'!G28=\"\",\"\",'1階 計算表'!G28)","v":"～"},{"$f":"IF(+'1階 計算表'!H28=\"\",\"\",'1階 計算表'!H28)","v":""},{"$f":"IF(+'1階 計算表'!I28=\"\",\"\",'1階 計算表'!I28)","v":"："},{"$f":"IF(+'1階 計算表'!J28=\"\",\"\",'1階 計算表'!J28)","v":""},{"$f":"IF(+'1階 計算表'!K28=\"\",\"\",'1階 計算表'!K28)","v":0},{"$f":"IF(+'1階 計算表'!L28=\"\",\"\",'1階 計算表'!L28)","v":565},{"$f":"IF(+'1階 計算表'!M28=\"\",\"\",'1階 計算表'!M28)","v":0},{"$f":"+IF(M24=0,0,1)","v":0},{"$f":"IF(SUM(O23)=1,\"\",+IF(N24=0,0,1))","v":0},{"$f":"IF(N24=0,0,IF(O23=0,\"\",2))","v":0},null,{"$f":"IF('2階 計算表'!B28=\"\",\"\",'2階 計算表'!B28)","v":"午後夜間"},{"$f":"IF('2階 計算表'!C28=\"\",\"\",'2階 計算表'!C28)","v":"13：00～22：00"},null,{"$f":"IF('2階 計算表'!E28=\"\",\"\",'2階 計算表'!E28)","v":""},{"$f":"IF('2階 計算表'!F28=\"\",\"\",'2階 計算表'!F28)","v":""},{"$f":"IF('2階 計算表'!G28=\"\",\"\",'2階 計算表'!G28)","v":""},{"$f":"IF('2階 計算表'!H28=\"\",\"\",'2階 計算表'!H28)","v":""},{"$f":"IF('2階 計算表'!I28=\"\",\"\",'2階 計算表'!I28)","v":""},{"$f":"IF('2階 計算表'!J28=\"\",\"\",'2階 計算表'!J28)","v":""},{"$f":"IF('2階 計算表'!K28=\"\",\"\",'2階 計算表'!K28)","v":""},{"$f":"IF('2階 計算表'!L28=\"\",\"\",'2階 計算表'!L28)","v":3394},{"$f":"IF('2階 計算表'!M28=\"\",\"\",'2階 計算表'!M28)","v":0},0,{"$f":"IF(SUM($O21:AE23)=1,\"\",IF(AD23>0,\"\",+IF(AD24=0,0,1)))","v":0},{"$f":"IF(AD24=0,0,IF(AE23=0,\"\",2))","v":0}]
[null,{"$f":"IF(+'1階 計算表'!B29=\"\",\"\",'1階 計算表'!B29)","v":"午前午後"},{"$f":"IF(+'1階 計算表'!C29=\"\",\"\",'1階 計算表'!C29)","v":"　8：30～17：00"},null,{"$f":"IF(+'1階 計算表'!E29=\"\",\"\",'1階 計算表'!E29)","v":""},{"$f":"IF(+'1階 計算表'!F29=\"\",\"\",'1階 計算表'!F29)","v":""},{"$f":"IF(+'1階 計算表'!G29=\"\",\"\",'1階 計算表'!G29)","v":""},{"$f":"IF(+'1階 計算表'!H29=\"\",\"\",'1階 計算表'!H29)","v":""},{"$f":"IF(+'1階 計算表'!I29=\"\",\"\",'1階 計算表'!I29)","v":""},{"$f":"IF(+'1階 計算表'!J29=\"\",\"\",'1階 計算表'!J29)","v":""},{"$f":"IF(+'1階 計算表'!K29=\"\",\"\",'1階 計算表'!K29)","v":""},{"$f":"IF(+'1階 計算表'!L29=\"\",\"\",'1階 計算表'!L29)","v":2366},{"$f":"IF(+'1階 計算表'!M29=\"\",\"\",'1階 計算表'!M29)","v":0},0,{"$f":"IF(SUM($O23:O24)=1,\"\",IF(N24>0,\"\",+IF(N25=0,0,1)))","v":0},{"$f":"IF(N25=0,0,IF(O24=0,0,2))","v":0},null,{"$f":"IF('2階 計算表'!B29=\"\",\"\",'2階 計算表'!B29)","v":"終　　日"},{"$f":"IF('2階 計算表'!C29=\"\",\"\",'2階 計算表'!C29)","v":"8：30～22：00"},null,{"$f":"IF('2階 計算表'!E29=\"\",\"\",'2階 計算表'!E29)","v":""},{"$f":"IF('2階 計算表'!F29=\"\",\"\",'2階 計算表'!F29)","v":""},{"$f":"IF('2階 計算表'!G29=\"\",\"\",'2階 計算表'!G29)","v":""},{"$f":"IF('2階 計算表'!H29=\"\",\"\",'2階 計算表'!H29)","v":""},{"$f":"IF('2階 計算表'!I29=\"\",\"\",'2階 計算表'!I29)","v":""},{"$f":"IF('2階 計算表'!J29=\"\",\"\",'2階 計算表'!J29)","v":""},{"$f":"IF('2階 計算表'!K29=\"\",\"\",'2階 計算表'!K29)","v":""},{"$f":"IF('2階 計算表'!L29=\"\",\"\",'2階 計算表'!L29)","v":4320},{"$f":"IF('2階 計算表'!M29=\"\",\"\",'2階 計算表'!M29)","v":0},0,{"$f":"IF(SUM($O21:AE24)=1,\"\",IF(AD24>0,\"\",+IF(AD25=0,0,1)))","v":0},0]
[null,{"$f":"IF(+'1階 計算表'!B30=\"\",\"\",'1階 計算表'!B30)","v":"午後夜間"},{"$f":"IF(+'1階 計算表'!C30=\"\",\"\",'1階 計算表'!C30)","v":"13：00～22：00"},null,{"$f":"IF(+'1階 計算表'!E30=\"\",\"\",'1階 計算表'!E30)","v":""},{"$f":"IF(+'1階 計算表'!F30=\"\",\"\",'1階 計算表'!F30)","v":""},{"$f":"IF(+'1階 計算表'!G30=\"\",\"\",'1階 計算表'!G30)","v":""},{"$f":"IF(+'1階 計算表'!H30=\"\",\"\",'1階 計算表'!H30)","v":""},{"$f":"IF(+'1階 計算表'!I30=\"\",\"\",'1階 計算表'!I30)","v":""},{"$f":"IF(+'1階 計算表'!J30=\"\",\"\",'1階 計算表'!J30)","v":""},{"$f":"IF(+'1階 計算表'!K30=\"\",\"\",'1階 計算表'!K30)","v":""},{"$f":"IF(+'1階 計算表'!L30=\"\",\"\",'1階 計算表'!L30)","v":3394},{"$f":"IF(+'1階 計算表'!M30=\"\",\"\",'1階 計算表'!M30)","v":0},0,{"$f":"IF(SUM($O23:O25)=1,\"\",IF(N25>0,\"\",+IF(N26=0,0,1)))","v":0},{"$f":"IF(N26=0,0,IF(O25=0,\"\",2))","v":0},null,{"$f":"IF('2階 計算表'!B30=\"\",\"\",'2階 計算表'!B30)","v":""},{"$f":"IF('2階 計算表'!C30=\"\",\"\",'2階 計算表'!C30)","v":""},{"$f":"IF('2階 計算表'!D30=\"\",\"\",'2階 計算表'!D30)","v":""},{"$f":"IF('2階 計算表'!E30=\"\",\"\",'2階 計算表'!E30)","v":""},{"$f":"IF('2階 計算表'!F30=\"\",\"\",'2階 計算表'!F30)","v":""},{"$f":"IF('2階 計算表'!G30=\"\",\"\",'2階 計算表'!G30)","v":""},{"$f":"IF('2階 計算表'!H30=\"\",\"\",'2階 計算表'!H30)","v":""},{"$f":"IF('2階 計算表'!I30=\"\",\"\",'2階 計算表'!I30)","v":""},{"$f":"IF('2階 計算表'!J30=\"\",\"\",'2階 計算表'!J30)","v":""},{"$f":"IF('2階 計算表'!K30=\"\",\"\",'2階 計算表'!K30)","v":""},{"$f":"IF('2階 計算表'!L30=\"\",\"\",'2階 計算表'!L30)","v":""},{"$f":"IF('2階 計算表'!M30=\"\",\"\",'2階 計算表'!M30)","v":""}]
[null,{"$f":"IF(+'1階 計算表'!B31=\"\",\"\",'1階 計算表'!B31)","v":"終　　日"},{"$f":"IF(+'1階 計算表'!C31=\"\",\"\",'1階 計算表'!C31)","v":"8：30～22：00"},null,{"$f":"IF(+'1階 計算表'!E31=\"\",\"\",'1階 計算表'!E31)","v":""},{"$f":"IF(+'1階 計算表'!F31=\"\",\"\",'1階 計算表'!F31)","v":""},{"$f":"IF(+'1階 計算表'!G31=\"\",\"\",'1階 計算表'!G31)","v":""},{"$f":"IF(+'1階 計算表'!H31=\"\",\"\",'1階 計算表'!H31)","v":""},{"$f":"IF(+'1階 計算表'!I31=\"\",\"\",'1階 計算表'!I31)","v":""},{"$f":"IF(+'1階 計算表'!J31=\"\",\"\",'1階 計算表'!J31)","v":""},{"$f":"IF(+'1階 計算表'!K31=\"\",\"\",'1階 計算表'!K31)","v":""},{"$f":"IF(+'1階 計算表'!L31=\"\",\"\",'1階 計算表'!L31)","v":4320},{"$f":"IF(+'1階 計算表'!M31=\"\",\"\",'1階 計算表'!M31)","v":0},0,{"$f":"IF(SUM($O23:O26)=1,\"\",IF(N26>0,\"\",+IF(N27=0,0,1)))","v":0},0,{"$f":"+'2階 計算表'!A31","v":"会議室"},{"$f":"IF('2階 計算表'!B31=\"\",\"\",'2階 計算表'!B31)","v":"１時間単位"},{"$f":"IF('2階 計算表'!C31=\"\",\"\",'2階 計算表'!C31)","v":"　8：30～17：00"},{"$f":"IF('2階 計算表'!D31=\"\",\"\",'2階 計算表'!D31)","v":""},{"$f":"IF('2階 計算表'!E31=\"\",\"\",'2階 計算表'!E31)","v":"："},{"$f":"IF('2階 計算表'!F31=\"\",\"\",'2階 計算表'!F31)","v":""},{"$f":"IF('2階 計算表'!G31=\"\",\"\",'2階 計算表'!G31)","v":"～"},{"$f":"IF('2階 計算表'!H31=\"\",\"\",'2階 計算表'!H31)","v":""},{"$f":"IF('2階 計算表'!I31=\"\",\"\",'2階 計算表'!I31)","v":"："},{"$f":"IF('2階 計算表'!J31=\"\",\"\",'2階 計算表'!J31)","v":""},{"$f":"IF('2階 計算表'!K31=\"\",\"\",'2階 計算表'!K31)","v":0},{"$f":"IF('2階 計算表'!L31=\"\",\"\",'2階 計算表'!L31)","v":308},{"$f":"IF('2階 計算表'!M31=\"\",\"\",'2階 計算表'!M31)","v":0},{"$f":"+IF(AC27=0,0,1)","v":0},{"$f":"+AD27","v":0}]
[null,{"$f":"IF(+'1階 計算表'!B32=\"\",\"\",'1階 計算表'!B32)","v":""},{"$f":"IF(+'1階 計算表'!C32=\"\",\"\",'1階 計算表'!C32)","v":""},{"$f":"IF(+'1階 計算表'!D32=\"\",\"\",'1階 計算表'!D32)","v":""},{"$f":"IF(+'1階 計算表'!E32=\"\",\"\",'1階 計算表'!E32)","v":""},{"$f":"IF(+'1階 計算表'!F32=\"\",\"\",'1階 計算表'!F32)","v":""},{"$f":"IF(+'1階 計算表'!G32=\"\",\"\",'1階 計算表'!G32)","v":""},{"$f":"IF(+'1階 計算表'!H32=\"\",\"\",'1階 計算表'!H32)","v":""},{"$f":"IF(+'1階 計算表'!I32=\"\",\"\",'1階 計算表'!I32)","v":""},{"$f":"IF(+'1階 計算表'!J32=\"\",\"\",'1階 計算表'!J32)","v":""},{"$f":"IF(+'1階 計算表'!K32=\"\",\"\",'1階 計算表'!K32)","v":""},{"$f":"IF(+'1階 計算表'!L32=\"\",\"\",'1階 計算表'!L32)","v":""},{"$f":"IF(+'1階 計算表'!M32=\"\",\"\",'1階 計算表'!M32)","v":""},null,null,null,null,{"$f":"IF('2階 計算表'!B32=\"\",\"\",'2階 計算表'!B32)","v":"１時間単位"},{"$f":"IF('2階 計算表'!C32=\"\",\"\",'2階 計算表'!C32)","v":"17：00～22：00"},{"$f":"IF('2階 計算表'!D32=\"\",\"\",'2階 計算表'!D32)","v":""},{"$f":"IF('2階 計算表'!E32=\"\",\"\",'2階 計算表'!E32)","v":"："},{"$f":"IF('2階 計算表'!F32=\"\",\"\",'2階 計算表'!F32)","v":""},{"$f":"IF('2階 計算表'!G32=\"\",\"\",'2階 計算表'!G32)","v":"～"},{"$f":"IF('2階 計算表'!H32=\"\",\"\",'2階 計算表'!H32)","v":""},{"$f":"IF('2階 計算表'!I32=\"\",\"\",'2階 計算表'!I32)","v":"："},{"$f":"IF('2階 計算表'!J32=\"\",\"\",'2階 計算表'!J32)","v":""},{"$f":"IF('2階 計算表'!K32=\"\",\"\",'2階 計算表'!K32)","v":0},{"$f":"IF('2階 計算表'!L32=\"\",\"\",'2階 計算表'!L32)","v":390},{"$f":"IF('2階 計算表'!M32=\"\",\"\",'2階 計算表'!M32)","v":0},{"$f":"+IF(AC28=0,0,1)","v":0},{"$f":"IF(SUM(AE27)=1,\"\",+IF(AD28=0,0,1))","v":0},{"$f":"IF(AD28=0,0,IF(AE27=0,\"\",2))","v":0}]
[{"$f":"+'1階 計算表'!A33","v":"ホワイエ"},{"$f":"IF(+'1階 計算表'!B33=\"\",\"\",'1階 計算表'!B33)","v":"１時間単位"},{"$f":"IF(+'1階 計算表'!C33=\"\",\"\",'1階 計算表'!C33)","v":"　8：30～17：00"},{"$f":"IF(+'1階 計算表'!D33=\"\",\"\",'1階 計算表'!D33)","v":""},{"$f":"IF(+'1階 計算表'!E33=\"\",\"\",'1階 計算表'!E33)","v":"："},{"$f":"IF(+'1階 計算表'!F33=\"\",\"\",'1階 計算表'!F33)","v":""},{"$f":"IF(+'1階 計算表'!G33=\"\",\"\",'1階 計算表'!G33)","v":"～"},{"$f":"IF(+'1階 計算表'!H33=\"\",\"\",'1階 計算表'!H33)","v":""},{"$f":"IF(+'1階 計算表'!I33=\"\",\"\",'1階 計算表'!I33)","v":"："},{"$f":"IF(+'1階 計算表'!J33=\"\",\"\",'1階 計算表'!J33)","v":""},{"$f":"IF(+'1階 計算表'!K33=\"\",\"\",'1階 計算表'!K33)","v":0},{"$f":"IF(+'1階 計算表'!L33=\"\",\"\",'1階 計算表'!L33)","v":463},{"$f":"IF(+'1階 計算表'!M33=\"\",\"\",'1階 計算表'!M33)","v":0},{"$f":"+IF(M29=0,0,1)","v":0},{"$f":"+N29","v":0},null,null,{"$f":"IF('2階 計算表'!B33=\"\",\"\",'2階 計算表'!B33)","v":"午前午後"},{"$f":"IF('2階 計算表'!C33=\"\",\"\",'2階 計算表'!C33)","v":"　8：30～17：00"},null,{"$f":"IF('2階 計算表'!E33=\"\",\"\",'2階 計算表'!E33)","v":""},{"$f":"IF('2階 計算表'!F33=\"\",\"\",'2階 計算表'!F33)","v":""},{"$f":"IF('2階 計算表'!G33=\"\",\"\",'2階 計算表'!G33)","v":""},{"$f":"IF('2階 計算表'!H33=\"\",\"\",'2階 計算表'!H33)","v":""},{"$f":"IF('2階 計算表'!I33=\"\",\"\",'2階 計算表'!I33)","v":""},{"$f":"IF('2階 計算表'!J33=\"\",\"\",'2階 計算表'!J33)","v":""},{"$f":"IF('2階 計算表'!K33=\"\",\"\",'2階 計算表'!K33)","v":""},{"$f":"IF('2階 計算表'!L33=\"\",\"\",'2階 計算表'!L33)","v":1645},{"$f":"IF('2階 計算表'!M33=\"\",\"\",'2階 計算表'!M33)","v":0},0,{"$f":"IF(SUM($O27:AE28)=1,\"\",IF(AD28>0,\"\",+IF(AD29=0,0,1)))","v":0},{"$f":"IF(AD29=0,0,IF(AE28=0,0,2))","v":0}]
[null,{"$f":"IF(+'1階 計算表'!B34=\"\",\"\",'1階 計算表'!B34)","v":"１時間単位"},{"$f":"IF(+'1階 計算表'!C34=\"\",\"\",'1階 計算表'!C34)","v":"17：00～22：00"},{"$f":"IF(+'1階 計算表'!D34=\"\",\"\",'1階 計算表'!D34)","v":""},{"$f":"IF(+'1階 計算表'!E34=\"\",\"\",'1階 計算表'!E34)","v":"："},{"$f":"IF(+'1階 計算表'!F34=\"\",\"\",'1階 計算表'!F34)","v":""},{"$f":"IF(+'1階 計算表'!G34=\"\",\"\",'1階 計算表'!G34)","v":"～"},{"$f":"IF(+'1階 計算表'!H34=\"\",\"\",'1階 計算表'!H34)","v":""},{"$f":"IF(+'1階 計算表'!I34=\"\",\"\",'1階 計算表'!I34)","v":"："},{"$f":"IF(+'1階 計算表'!J34=\"\",\"\",'1階 計算表'!J34)","v":""},{"$f":"IF(+'1階 計算表'!K34=\"\",\"\",'1階 計算表'!K34)","v":0},{"$f":"IF(+'1階 計算表'!L34=\"\",\"\",'1階 計算表'!L34)","v":565},{"$f":"IF(+'1階 計算表'!M34=\"\",\"\",'1階 計算表'!M34)","v":0},{"$f":"+IF(M30=0,0,1)","v":0},{"$f":"IF(SUM(O29)=1,\"\",+IF(N30=0,0,1))","v":0},{"$f":"IF(N30=0,0,IF(O29=0,\"\",2))","v":0},null,{"$f":"IF('2階 計算表'!B34=\"\",\"\",'2階 計算表'!B34)","v":"午後夜間"},{"$f":"IF('2階 計算表'!C34=\"\",\"\",'2階 計算表'!C34)","v":"13：00～22：00"},null,{"$f":"IF('2階 計算表'!E34=\"\",\"\",'2階 計算表'!E34)","v":""},{"$f":"IF('2階 計算表'!F34=\"\",\"\",'2階 計算表'!F34)","v":""},{"$f":"IF('2階 計算表'!G34=\"\",\"\",'2階 計算表'!G34)","v":""},{"$f":"IF('2階 計算表'!H34=\"\",\"\",'2階 計算表'!H34)","v":""},{"$f":"IF('2階 計算表'!I34=\"\",\"\",'2階 計算表'!I34)","v":""},{"$f":"IF('2階 計算表'!J34=\"\",\"\",'2階 計算表'!J34)","v":""},{"$f":"IF('2階 計算表'!K34=\"\",\"\",'2階 計算表'!K34)","v":""},{"$f":"IF('2階 計算表'!L34=\"\",\"\",'2階 計算表'!L34)","v":2263},{"$f":"IF('2階 計算表'!M34=\"\",\"\",'2階 計算表'!M34)","v":0},0,{"$f":"IF(SUM($O27:AE29)=1,\"\",IF(AD29>0,\"\",+IF(AD30=0,0,1)))","v":0},{"$f":"IF(AD30=0,0,IF(AE29=0,\"\",2))","v":0}]
[null,{"$f":"IF(+'1階 計算表'!B35=\"\",\"\",'1階 計算表'!B35)","v":"午前午後"},{"$f":"IF(+'1階 計算表'!C35=\"\",\"\",'1階 計算表'!C35)","v":"　8：30～17：00"},null,{"$f":"IF(+'1階 計算表'!E35=\"\",\"\",'1階 計算表'!E35)","v":""},{"$f":"IF(+'1階 計算表'!F35=\"\",\"\",'1階 計算表'!F35)","v":""},{"$f":"IF(+'1階 計算表'!G35=\"\",\"\",'1階 計算表'!G35)","v":""},{"$f":"IF(+'1階 計算表'!H35=\"\",\"\",'1階 計算表'!H35)","v":""},{"$f":"IF(+'1階 計算表'!I35=\"\",\"\",'1階 計算表'!I35)","v":""},{"$f":"IF(+'1階 計算表'!J35=\"\",\"\",'1階 計算表'!J35)","v":""},{"$f":"IF(+'1階 計算表'!K35=\"\",\"\",'1階 計算表'!K35)","v":""},{"$f":"IF(+'1階 計算表'!L35=\"\",\"\",'1階 計算表'!L35)","v":2366},{"$f":"IF(+'1階 計算表'!M35=\"\",\"\",'1階 計算表'!M35)","v":0},0,{"$f":"IF(SUM($O29:O30)=1,\"\",IF(N30>0,\"\",+IF(N31=0,0,1)))","v":0},{"$f":"IF(N31=0,0,IF(O30=0,0,2))","v":0},null,{"$f":"IF('2階 計算表'!B35=\"\",\"\",'2階 計算表'!B35)","v":"終　　日"},{"$f":"IF('2階 計算表'!C35=\"\",\"\",'2階 計算表'!C35)","v":"8：30～22：00"},null,{"$f":"IF('2階 計算表'!E35=\"\",\"\",'2階 計算表'!E35)","v":""},{"$f":"IF('2階 計算表'!F35=\"\",\"\",'2階 計算表'!F35)","v":""},{"$f":"IF('2階 計算表'!G35=\"\",\"\",'2階 計算表'!G35)","v":""},{"$f":"IF('2階 計算表'!H35=\"\",\"\",'2階 計算表'!H35)","v":""},{"$f":"IF('2階 計算表'!I35=\"\",\"\",'2階 計算表'!I35)","v":""},{"$f":"IF('2階 計算表'!J35=\"\",\"\",'2階 計算表'!J35)","v":""},{"$f":"IF('2階 計算表'!K35=\"\",\"\",'2階 計算表'!K35)","v":""},{"$f":"IF('2階 計算表'!L35=\"\",\"\",'2階 計算表'!L35)","v":2880},{"$f":"IF('2階 計算表'!M35=\"\",\"\",'2階 計算表'!M35)","v":0},0,{"$f":"IF(SUM($O27:AE30)=1,\"\",IF(AD30>0,\"\",+IF(AD31=0,0,1)))","v":0},0]
[null,{"$f":"IF(+'1階 計算表'!B36=\"\",\"\",'1階 計算表'!B36)","v":"午後夜間"},{"$f":"IF(+'1階 計算表'!C36=\"\",\"\",'1階 計算表'!C36)","v":"13：00～22：00"},null,{"$f":"IF(+'1階 計算表'!E36=\"\",\"\",'1階 計算表'!E36)","v":""},{"$f":"IF(+'1階 計算表'!F36=\"\",\"\",'1階 計算表'!F36)","v":""},{"$f":"IF(+'1階 計算表'!G36=\"\",\"\",'1階 計算表'!G36)","v":""},{"$f":"IF(+'1階 計算表'!H36=\"\",\"\",'1階 計算表'!H36)","v":""},{"$f":"IF(+'1階 計算表'!I36=\"\",\"\",'1階 計算表'!I36)","v":""},{"$f":"IF(+'1階 計算表'!J36=\"\",\"\",'1階 計算表'!J36)","v":""},{"$f":"IF(+'1階 計算表'!K36=\"\",\"\",'1階 計算表'!K36)","v":""},{"$f":"IF(+'1階 計算表'!L36=\"\",\"\",'1階 計算表'!L36)","v":3394},{"$f":"IF(+'1階 計算表'!M36=\"\",\"\",'1階 計算表'!M36)","v":0},0,{"$f":"IF(SUM($O29:O31)=1,\"\",IF(N31>0,\"\",+IF(N32=0,0,1)))","v":0},{"$f":"IF(N32=0,0,IF(O31=0,\"\",2))","v":0},null,{"$f":"IF('2階 計算表'!B36=\"\",\"\",'2階 計算表'!B36)","v":""},{"$f":"IF('2階 計算表'!C36=\"\",\"\",'2階 計算表'!C36)","v":""},{"$f":"IF('2階 計算表'!D36=\"\",\"\",'2階 計算表'!D36)","v":""},{"$f":"IF('2階 計算表'!E36=\"\",\"\",'2階 計算表'!E36)","v":""},{"$f":"IF('2階 計算表'!F36=\"\",\"\",'2階 計算表'!F36)","v":""},{"$f":"IF('2階 計算表'!G36=\"\",\"\",'2階 計算表'!G36)","v":""},{"$f":"IF('2階 計算表'!H36=\"\",\"\",'2階 計算表'!H36)","v":""},{"$f":"IF('2階 計算表'!I36=\"\",\"\",'2階 計算表'!I36)","v":""},{"$f":"IF('2階 計算表'!J36=\"\",\"\",'2階 計算表'!J36)","v":""},{"$f":"IF('2階 計算表'!K36=\"\",\"\",'2階 計算表'!K36)","v":""},{"$f":"IF('2階 計算表'!L36=\"\",\"\",'2階 計算表'!L36)","v":""},{"$f":"IF('2階 計算表'!M36=\"\",\"\",'2階 計算表'!M36)","v":""}]
[null,{"$f":"IF(+'1階 計算表'!B37=\"\",\"\",'1階 計算表'!B37)","v":"終　　日"},{"$f":"IF(+'1階 計算表'!C37=\"\",\"\",'1階 計算表'!C37)","v":"8：30～22：00"},null,{"$f":"IF(+'1階 計算表'!E37=\"\",\"\",'1階 計算表'!E37)","v":""},{"$f":"IF(+'1階 計算表'!F37=\"\",\"\",'1階 計算表'!F37)","v":""},{"$f":"IF(+'1階 計算表'!G37=\"\",\"\",'1階 計算表'!G37)","v":""},{"$f":"IF(+'1階 計算表'!H37=\"\",\"\",'1階 計算表'!H37)","v":""},{"$f":"IF(+'1階 計算表'!I37=\"\",\"\",'1階 計算表'!I37)","v":""},{"$f":"IF(+'1階 計算表'!J37=\"\",\"\",'1階 計算表'!J37)","v":""},{"$f":"IF(+'1階 計算表'!K37=\"\",\"\",'1階 計算表'!K37)","v":""},{"$f":"IF(+'1階 計算表'!L37=\"\",\"\",'1階 計算表'!L37)","v":4320},{"$f":"IF(+'1階 計算表'!M37=\"\",\"\",'1階 計算表'!M37)","v":0},0,{"$f":"IF(SUM($O29:O32)=1,\"\",IF(N32>0,\"\",+IF(N33=0,0,1)))","v":0},0,{"$f":"+'2階 計算表'!A37","v":"産業研修室"},{"$f":"IF('2階 計算表'!B37=\"\",\"\",'2階 計算表'!B37)","v":"１時間単位"},{"$f":"IF('2階 計算表'!C37=\"\",\"\",'2階 計算表'!C37)","v":"　8：30～17：00"},{"$f":"IF('2階 計算表'!D37=\"\",\"\",'2階 計算表'!D37)","v":""},{"$f":"IF('2階 計算表'!E37=\"\",\"\",'2階 計算表'!E37)","v":"："},{"$f":"IF('2階 計算表'!F37=\"\",\"\",'2階 計算表'!F37)","v":""},{"$f":"IF('2階 計算表'!G37=\"\",\"\",'2階 計算表'!G37)","v":"～"},{"$f":"IF('2階 計算表'!H37=\"\",\"\",'2階 計算表'!H37)","v":""},{"$f":"IF('2階 計算表'!I37=\"\",\"\",'2階 計算表'!I37)","v":"："},{"$f":"IF('2階 計算表'!J37=\"\",\"\",'2階 計算表'!J37)","v":""},{"$f":"IF('2階 計算表'!K37=\"\",\"\",'2階 計算表'!K37)","v":0},{"$f":"IF('2階 計算表'!L37=\"\",\"\",'2階 計算表'!L37)","v":308},{"$f":"IF('2階 計算表'!M37=\"\",\"\",'2階 計算表'!M37)","v":0},{"$f":"+IF(AC33=0,0,1)","v":0},{"$f":"+AD33","v":0}]
[null,{"$f":"IF(+'1階 計算表'!B38=\"\",\"\",'1階 計算表'!B38)","v":""},{"$f":"IF(+'1階 計算表'!C38=\"\",\"\",'1階 計算表'!C38)","v":""},{"$f":"IF(+'1階 計算表'!D38=\"\",\"\",'1階 計算表'!D38)","v":""},{"$f":"IF(+'1階 計算表'!E38=\"\",\"\",'1階 計算表'!E38)","v":""},{"$f":"IF(+'1階 計算表'!F38=\"\",\"\",'1階 計算表'!F38)","v":""},{"$f":"IF(+'1階 計算表'!G38=\"\",\"\",'1階 計算表'!G38)","v":""},{"$f":"IF(+'1階 計算表'!H38=\"\",\"\",'1階 計算表'!H38)","v":""},{"$f":"IF(+'1階 計算表'!I38=\"\",\"\",'1階 計算表'!I38)","v":""},{"$f":"IF(+'1階 計算表'!J38=\"\",\"\",'1階 計算表'!J38)","v":""},{"$f":"IF(+'1階 計算表'!K38=\"\",\"\",'1階 計算表'!K38)","v":""},{"$f":"IF(+'1階 計算表'!L38=\"\",\"\",'1階 計算表'!L38)","v":""},{"$f":"IF(+'1階 計算表'!M38=\"\",\"\",'1階 計算表'!M38)","v":""},null,null,null,null,{"$f":"IF('2階 計算表'!B38=\"\",\"\",'2階 計算表'!B38)","v":"１時間単位"},{"$f":"IF('2階 計算表'!C38=\"\",\"\",'2階 計算表'!C38)","v":"17：00～22：00"},{"$f":"IF('2階 計算表'!D38=\"\",\"\",'2階 計算表'!D38)","v":""},{"$f":"IF('2階 計算表'!E38=\"\",\"\",'2階 計算表'!E38)","v":"："},{"$f":"IF('2階 計算表'!F38=\"\",\"\",'2階 計算表'!F38)","v":""},{"$f":"IF('2階 計算表'!G38=\"\",\"\",'2階 計算表'!G38)","v":"～"},{"$f":"IF('2階 計算表'!H38=\"\",\"\",'2階 計算表'!H38)","v":""},{"$f":"IF('2階 計算表'!I38=\"\",\"\",'2階 計算表'!I38)","v":"："},{"$f":"IF('2階 計算表'!J38=\"\",\"\",'2階 計算表'!J38)","v":""},{"$f":"IF('2階 計算表'!K38=\"\",\"\",'2階 計算表'!K38)","v":0},{"$f":"IF('2階 計算表'!L38=\"\",\"\",'2階 計算表'!L38)","v":390},{"$f":"IF('2階 計算表'!M38=\"\",\"\",'2階 計算表'!M38)","v":0},{"$f":"+IF(AC34=0,0,1)","v":0},{"$f":"IF(SUM(AE33)=1,\"\",+IF(AD34=0,0,1))","v":0},{"$f":"IF(AD34=0,0,IF(AE33=0,\"\",2))","v":0}]
[{"$f":"+'1階 計算表'!A39","v":"コミュニケーションホール"},{"$f":"IF(+'1階 計算表'!B39=\"\",\"\",'1階 計算表'!B39)","v":"１時間単位"},{"$f":"IF(+'1階 計算表'!C39=\"\",\"\",'1階 計算表'!C39)","v":"　8：30～17：00"},{"$f":"IF(+'1階 計算表'!D39=\"\",\"\",'1階 計算表'!D39)","v":""},{"$f":"IF(+'1階 計算表'!E39=\"\",\"\",'1階 計算表'!E39)","v":"："},{"$f":"IF(+'1階 計算表'!F39=\"\",\"\",'1階 計算表'!F39)","v":""},{"$f":"IF(+'1階 計算表'!G39=\"\",\"\",'1階 計算表'!G39)","v":"～"},{"$f":"IF(+'1階 計算表'!H39=\"\",\"\",'1階 計算表'!H39)","v":""},{"$f":"IF(+'1階 計算表'!I39=\"\",\"\",'1階 計算表'!I39)","v":"："},{"$f":"IF(+'1階 計算表'!J39=\"\",\"\",'1階 計算表'!J39)","v":""},{"$f":"IF(+'1階 計算表'!K39=\"\",\"\",'1階 計算表'!K39)","v":0},{"$f":"IF(+'1階 計算表'!L39=\"\",\"\",'1階 計算表'!L39)","v":463},{"$f":"IF(+'1階 計算表'!M39=\"\",\"\",'1階 計算表'!M39)","v":0},{"$f":"+IF(M35=0,0,1)","v":0},{"$f":"+N35","v":0},null,null,{"$f":"IF('2階 計算表'!B39=\"\",\"\",'2階 計算表'!B39)","v":"午前午後"},{"$f":"IF('2階 計算表'!C39=\"\",\"\",'2階 計算表'!C39)","v":"　8：30～17：00"},null,{"$f":"IF('2階 計算表'!E39=\"\",\"\",'2階 計算表'!E39)","v":""},{"$f":"IF('2階 計算表'!F39=\"\",\"\",'2階 計算表'!F39)","v":""},{"$f":"IF('2階 計算表'!G39=\"\",\"\",'2階 計算表'!G39)","v":""},{"$f":"IF('2階 計算表'!H39=\"\",\"\",'2階 計算表'!H39)","v":""},{"$f":"IF('2階 計算表'!I39=\"\",\"\",'2階 計算表'!I39)","v":""},{"$f":"IF('2階 計算表'!J39=\"\",\"\",'2階 計算表'!J39)","v":""},{"$f":"IF('2階 計算表'!K39=\"\",\"\",'2階 計算表'!K39)","v":""},{"$f":"IF('2階 計算表'!L39=\"\",\"\",'2階 計算表'!L39)","v":1645},{"$f":"IF('2階 計算表'!M39=\"\",\"\",'2階 計算表'!M39)","v":0},0,{"$f":"IF(SUM($O33:AE34)=1,\"\",IF(AD34>0,\"\",+IF(AD35=0,0,1)))","v":0},{"$f":"IF(AD35=0,0,IF(AE34=0,0,2))","v":0}]
[null,{"$f":"IF(+'1階 計算表'!B40=\"\",\"\",'1階 計算表'!B40)","v":"１時間単位"},{"$f":"IF(+'1階 計算表'!C40=\"\",\"\",'1階 計算表'!C40)","v":"17：00～22：00"},{"$f":"IF(+'1階 計算表'!D40=\"\",\"\",'1階 計算表'!D40)","v":""},{"$f":"IF(+'1階 計算表'!E40=\"\",\"\",'1階 計算表'!E40)","v":"："},{"$f":"IF(+'1階 計算表'!F40=\"\",\"\",'1階 計算表'!F40)","v":""},{"$f":"IF(+'1階 計算表'!G40=\"\",\"\",'1階 計算表'!G40)","v":"～"},{"$f":"IF(+'1階 計算表'!H40=\"\",\"\",'1階 計算表'!H40)","v":""},{"$f":"IF(+'1階 計算表'!I40=\"\",\"\",'1階 計算表'!I40)","v":"："},{"$f":"IF(+'1階 計算表'!J40=\"\",\"\",'1階 計算表'!J40)","v":""},{"$f":"IF(+'1階 計算表'!K40=\"\",\"\",'1階 計算表'!K40)","v":0},{"$f":"IF(+'1階 計算表'!L40=\"\",\"\",'1階 計算表'!L40)","v":565},{"$f":"IF(+'1階 計算表'!M40=\"\",\"\",'1階 計算表'!M40)","v":0},{"$f":"+IF(M36=0,0,1)","v":0},{"$f":"IF(SUM(O35)=1,\"\",+IF(N36=0,0,1))","v":0},{"$f":"IF(N36=0,0,IF(O35=0,\"\",2))","v":0},null,{"$f":"IF('2階 計算表'!B40=\"\",\"\",'2階 計算表'!B40)","v":"午後夜間"},{"$f":"IF('2階 計算表'!C40=\"\",\"\",'2階 計算表'!C40)","v":"13：00～22：00"},null,{"$f":"IF('2階 計算表'!E40=\"\",\"\",'2階 計算表'!E40)","v":""},{"$f":"IF('2階 計算表'!F40=\"\",\"\",'2階 計算表'!F40)","v":""},{"$f":"IF('2階 計算表'!G40=\"\",\"\",'2階 計算表'!G40)","v":""},{"$f":"IF('2階 計算表'!H40=\"\",\"\",'2階 計算表'!H40)","v":""},{"$f":"IF('2階 計算表'!I40=\"\",\"\",'2階 計算表'!I40)","v":""},{"$f":"IF('2階 計算表'!J40=\"\",\"\",'2階 計算表'!J40)","v":""},{"$f":"IF('2階 計算表'!K40=\"\",\"\",'2階 計算表'!K40)","v":""},{"$f":"IF('2階 計算表'!L40=\"\",\"\",'2階 計算表'!L40)","v":2263},{"$f":"IF('2階 計算表'!M40=\"\",\"\",'2階 計算表'!M40)","v":0},0,{"$f":"IF(SUM($O33:AE35)=1,\"\",IF(AD35>0,\"\",+IF(AD36=0,0,1)))","v":0},{"$f":"IF(AD36=0,0,IF(AE35=0,\"\",2))","v":0}]
[null,{"$f":"IF(+'1階 計算表'!B41=\"\",\"\",'1階 計算表'!B41)","v":"午前午後"},{"$f":"IF(+'1階 計算表'!C41=\"\",\"\",'1階 計算表'!C41)","v":"　8：30～17：00"},null,{"$f":"IF(+'1階 計算表'!E41=\"\",\"\",'1階 計算表'!E41)","v":""},{"$f":"IF(+'1階 計算表'!F41=\"\",\"\",'1階 計算表'!F41)","v":""},{"$f":"IF(+'1階 計算表'!G41=\"\",\"\",'1階 計算表'!G41)","v":""},{"$f":"IF(+'1階 計算表'!H41=\"\",\"\",'1階 計算表'!H41)","v":""},{"$f":"IF(+'1階 計算表'!I41=\"\",\"\",'1階 計算表'!I41)","v":""},{"$f":"IF(+'1階 計算表'!J41=\"\",\"\",'1階 計算表'!J41)","v":""},{"$f":"IF(+'1階 計算表'!K41=\"\",\"\",'1階 計算表'!K41)","v":""},{"$f":"IF(+'1階 計算表'!L41=\"\",\"\",'1階 計算表'!L41)","v":2366},{"$f":"IF(+'1階 計算表'!M41=\"\",\"\",'1階 計算表'!M41)","v":0},0,{"$f":"IF(SUM($O35:O36)=1,\"\",IF(N36>0,\"\",+IF(N37=0,0,1)))","v":0},{"$f":"IF(N37=0,0,IF(O36=0,0,2))","v":0},null,{"$f":"IF('2階 計算表'!B41=\"\",\"\",'2階 計算表'!B41)","v":"終　　日"},{"$f":"IF('2階 計算表'!C41=\"\",\"\",'2階 計算表'!C41)","v":"8：30～22：00"},null,{"$f":"IF('2階 計算表'!E41=\"\",\"\",'2階 計算表'!E41)","v":""},{"$f":"IF('2階 計算表'!F41=\"\",\"\",'2階 計算表'!F41)","v":""},{"$f":"IF('2階 計算表'!G41=\"\",\"\",'2階 計算表'!G41)","v":""},{"$f":"IF('2階 計算表'!H41=\"\",\"\",'2階 計算表'!H41)","v":""},{"$f":"IF('2階 計算表'!I41=\"\",\"\",'2階 計算表'!I41)","v":""},{"$f":"IF('2階 計算表'!J41=\"\",\"\",'2階 計算表'!J41)","v":""},{"$f":"IF('2階 計算表'!K41=\"\",\"\",'2階 計算表'!K41)","v":""},{"$f":"IF('2階 計算表'!L41=\"\",\"\",'2階 計算表'!L41)","v":2880},{"$f":"IF('2階 計算表'!M41=\"\",\"\",'2階 計算表'!M41)","v":0},0,{"$f":"IF(SUM($O33:AE36)=1,\"\",IF(AD36>0,\"\",+IF(AD37=0,0,1)))","v":0},0]
[null,{"$f":"IF(+'1階 計算表'!B42=\"\",\"\",'1階 計算表'!B42)","v":"午後夜間"},{"$f":"IF(+'1階 計算表'!C42=\"\",\"\",'1階 計算表'!C42)","v":"13：00～22：00"},null,{"$f":"IF(+'1階 計算表'!E42=\"\",\"\",'1階 計算表'!E42)","v":""},{"$f":"IF(+'1階 計算表'!F42=\"\",\"\",'1階 計算表'!F42)","v":""},{"$f":"IF(+'1階 計算表'!G42=\"\",\"\",'1階 計算表'!G42)","v":""},{"$f":"IF(+'1階 計算表'!H42=\"\",\"\",'1階 計算表'!H42)","v":""},{"$f":"IF(+'1階 計算表'!I42=\"\",\"\",'1階 計算表'!I42)","v":""},{"$f":"IF(+'1階 計算表'!J42=\"\",\"\",'1階 計算表'!J42)","v":""},{"$f":"IF(+'1階 計算表'!K42=\"\",\"\",'1階 計算表'!K42)","v":""},{"$f":"IF(+'1階 計算表'!L42=\"\",\"\",'1階 計算表'!L42)","v":3394},{"$f":"IF(+'1階 計算表'!M42=\"\",\"\",'1階 計算表'!M42)","v":0},0,{"$f":"IF(SUM($O35:O37)=1,\"\",IF(N37>0,\"\",+IF(N38=0,0,1)))","v":0},{"$f":"IF(N38=0,0,IF(O37=0,\"\",2))","v":0},null,{"$f":"IF('2階 計算表'!B42=\"\",\"\",'2階 計算表'!B42)","v":""},{"$f":"IF('2階 計算表'!C42=\"\",\"\",'2階 計算表'!C42)","v":""},{"$f":"IF('2階 計算表'!D42=\"\",\"\",'2階 計算表'!D42)","v":""},{"$f":"IF('2階 計算表'!E42=\"\",\"\",'2階 計算表'!E42)","v":""},{"$f":"IF('2階 計算表'!F42=\"\",\"\",'2階 計算表'!F42)","v":""},{"$f":"IF('2階 計算表'!G42=\"\",\"\",'2階 計算表'!G42)","v":""},{"$f":"IF('2階 計算表'!H42=\"\",\"\",'2階 計算表'!H42)","v":""},{"$f":"IF('2階 計算表'!I42=\"\",\"\",'2階 計算表'!I42)","v":""},{"$f":"IF('2階 計算表'!J42=\"\",\"\",'2階 計算表'!J42)","v":""},{"$f":"IF('2階 計算表'!K42=\"\",\"\",'2階 計算表'!K42)","v":""},{"$f":"IF('2階 計算表'!L42=\"\",\"\",'2階 計算表'!L42)","v":""},{"$f":"IF('2階 計算表'!M42=\"\",\"\",'2階 計算表'!M42)","v":""}]
[null,{"$f":"IF(+'1階 計算表'!B43=\"\",\"\",'1階 計算表'!B43)","v":"終　　日"},{"$f":"IF(+'1階 計算表'!C43=\"\",\"\",'1階 計算表'!C43)","v":"8：30～22：00"},null,{"$f":"IF(+'1階 計算表'!E43=\"\",\"\",'1階 計算表'!E43)","v":""},{"$f":"IF(+'1階 計算表'!F43=\"\",\"\",'1階 計算表'!F43)","v":""},{"$f":"IF(+'1階 計算表'!G43=\"\",\"\",'1階 計算表'!G43)","v":""},{"$f":"IF(+'1階 計算表'!H43=\"\",\"\",'1階 計算表'!H43)","v":""},{"$f":"IF(+'1階 計算表'!I43=\"\",\"\",'1階 計算表'!I43)","v":""},{"$f":"IF(+'1階 計算表'!J43=\"\",\"\",'1階 計算表'!J43)","v":""},{"$f":"IF(+'1階 計算表'!K43=\"\",\"\",'1階 計算表'!K43)","v":""},{"$f":"IF(+'1階 計算表'!L43=\"\",\"\",'1階 計算表'!L43)","v":4320},{"$f":"IF(+'1階 計算表'!M43=\"\",\"\",'1階 計算表'!M43)","v":0},0,{"$f":"IF(SUM($O35:O38)=1,\"\",IF(N38>0,\"\",+IF(N39=0,0,1)))","v":0},0,null,{"$f":"IF('2階 計算表'!B43=\"\",\"\",'2階 計算表'!B43)","v":""},{"$f":"IF('2階 計算表'!C43=\"\",\"\",'2階 計算表'!C43)","v":""},{"$f":"IF('2階 計算表'!D43=\"\",\"\",'2階 計算表'!D43)","v":""},{"$f":"IF('2階 計算表'!E43=\"\",\"\",'2階 計算表'!E43)","v":""},{"$f":"IF('2階 計算表'!F43=\"\",\"\",'2階 計算表'!F43)","v":""},{"$f":"IF('2階 計算表'!G43=\"\",\"\",'2階 計算表'!G43)","v":""},{"$f":"IF('2階 計算表'!H43=\"\",\"\",'2階 計算表'!H43)","v":""},{"$f":"IF('2階 計算表'!I43=\"\",\"\",'2階 計算表'!I43)","v":""},{"$f":"IF('2階 計算表'!J43=\"\",\"\",'2階 計算表'!J43)","v":""},{"$f":"IF('2階 計算表'!K43=\"\",\"\",'2階 計算表'!K43)","v":"２階合計"},{"$f":"IF('2階 計算表'!L43=\"\",\"\",'2階 計算表'!L43)","v":""},{"$f":"IF('2階 計算表'!M43=\"\",\"\",'2階 計算表'!M43)","v":0}]
[null,{"$f":"IF(+'1階 計算表'!B44=\"\",\"\",'1階 計算表'!B44)","v":""},{"$f":"IF(+'1階 計算表'!C44=\"\",\"\",'1階 計算表'!C44)","v":""},{"$f":"IF(+'1階 計算表'!D44=\"\",\"\",'1階 計算表'!D44)","v":""},{"$f":"IF(+'1階 計算表'!E44=\"\",\"\",'1階 計算表'!E44)","v":""},{"$f":"IF(+'1階 計算表'!F44=\"\",\"\",'1階 計算表'!F44)","v":""},{"$f":"IF(+'1階 計算表'!G44=\"\",\"\",'1階 計算表'!G44)","v":""},{"$f":"IF(+'1階 計算表'!H44=\"\",\"\",'1階 計算表'!H44)","v":""},{"$f":"IF(+'1階 計算表'!I44=\"\",\"\",'1階 計算表'!I44)","v":""},{"$f":"IF(+'1階 計算表'!J44=\"\",\"\",'1階 計算表'!J44)","v":""},{"$f":"IF(+'1階 計算表'!K44=\"\",\"\",'1階 計算表'!K44)","v":""},{"$f":"IF(+'1階 計算表'!L44=\"\",\"\",'1階 計算表'!L44)","v":""},{"$f":"IF(+'1階 計算表'!M44=\"\",\"\",'1階 計算表'!M44)","v":""}]
[{"$f":"+'1階 計算表'!A45","v":"控室"},{"$f":"IF(+'1階 計算表'!B45=\"\",\"\",'1階 計算表'!B45)","v":"１時間単位"},{"$f":"IF(+'1階 計算表'!C45=\"\",\"\",'1階 計算表'!C45)","v":"　8：30～17：00"},{"$f":"IF(+'1階 計算表'!D45=\"\",\"\",'1階 計算表'!D45)","v":""},{"$f":"IF(+'1階 計算表'!E45=\"\",\"\",'1階 計算表'!E45)","v":"："},{"$f":"IF(+'1階 計算表'!F45=\"\",\"\",'1階 計算表'!F45)","v":""},{"$f":"IF(+'1階 計算表'!G45=\"\",\"\",'1階 計算表'!G45)","v":"～"},{"$f":"IF(+'1階 計算表'!H45=\"\",\"\",'1階 計算表'!H45)","v":""},{"$f":"IF(+'1階 計算表'!I45=\"\",\"\",'1階 計算表'!I45)","v":"："},{"$f":"IF(+'1階 計算表'!J45=\"\",\"\",'1階 計算表'!J45)","v":""},{"$f":"IF(+'1階 計算表'!K45=\"\",\"\",'1階 計算表'!K45)","v":0},{"$f":"IF(+'1階 計算表'!L45=\"\",\"\",'1階 計算表'!L45)","v":308},{"$f":"IF(+'1階 計算表'!M45=\"\",\"\",'1階 計算表'!M45)","v":0},{"$f":"+IF(M41=0,0,1)","v":0},{"$f":"+N41","v":0},null,null,null,null,null,null,null,null,null,null,null,null,null,null,{"$f":"+IF(AC41=0,\"\",1)","v":""}]
[null,{"$f":"IF(+'1階 計算表'!B46=\"\",\"\",'1階 計算表'!B46)","v":"１時間単位"},{"$f":"IF(+'1階 計算表'!C46=\"\",\"\",'1階 計算表'!C46)","v":"17：00～22：00"},{"$f":"IF(+'1階 計算表'!D46=\"\",\"\",'1階 計算表'!D46)","v":""},{"$f":"IF(+'1階 計算表'!E46=\"\",\"\",'1階 計算表'!E46)","v":"："},{"$f":"IF(+'1階 計算表'!F46=\"\",\"\",'1階 計算表'!F46)","v":""},{"$f":"IF(+'1階 計算表'!G46=\"\",\"\",'1階 計算表'!G46)","v":"～"},{"$f":"IF(+'1階 計算表'!H46=\"\",\"\",'1階 計算表'!H46)","v":""},{"$f":"IF(+'1階 計算表'!I46=\"\",\"\",'1階 計算表'!I46)","v":"："},{"$f":"IF(+'1階 計算表'!J46=\"\",\"\",'1階 計算表'!J46)","v":""},{"$f":"IF(+'1階 計算表'!K46=\"\",\"\",'1階 計算表'!K46)","v":0},{"$f":"IF(+'1階 計算表'!L46=\"\",\"\",'1階 計算表'!L46)","v":390},{"$f":"IF(+'1階 計算表'!M46=\"\",\"\",'1階 計算表'!M46)","v":0},{"$f":"+IF(M42=0,0,1)","v":0},{"$f":"IF(SUM(O41)=1,\"\",+IF(N42=0,0,1))","v":0},{"$f":"IF(N42=0,0,IF(O41=0,\"\",2))","v":0},null,null,null,null,null,null,null,null,null,null,null,null,null,""]
[null,{"$f":"IF(+'1階 計算表'!B47=\"\",\"\",'1階 計算表'!B47)","v":"午前午後"},{"$f":"IF(+'1階 計算表'!C47=\"\",\"\",'1階 計算表'!C47)","v":"　8：30～17：00"},null,{"$f":"IF(+'1階 計算表'!E47=\"\",\"\",'1階 計算表'!E47)","v":""},{"$f":"IF(+'1階 計算表'!F47=\"\",\"\",'1階 計算表'!F47)","v":""},{"$f":"IF(+'1階 計算表'!G47=\"\",\"\",'1階 計算表'!G47)","v":""},{"$f":"IF(+'1階 計算表'!H47=\"\",\"\",'1階 計算表'!H47)","v":""},{"$f":"IF(+'1階 計算表'!I47=\"\",\"\",'1階 計算表'!I47)","v":""},{"$f":"IF(+'1階 計算表'!J47=\"\",\"\",'1階 計算表'!J47)","v":""},{"$f":"IF(+'1階 計算表'!K47=\"\",\"\",'1階 計算表'!K47)","v":""},{"$f":"IF(+'1階 計算表'!L47=\"\",\"\",'1階 計算表'!L47)","v":1645},{"$f":"IF(+'1階 計算表'!M47=\"\",\"\",'1階 計算表'!M47)","v":0},0,{"$f":"IF(SUM($O41:O42)=1,\"\",IF(N42>0,\"\",+IF(N43=0,0,1)))","v":0},{"$f":"IF(N43=0,0,IF(O42=0,0,2))","v":0},null,null,null,null,null,null,null,null,null,null,null,null,null,""]
[null,{"$f":"IF(+'1階 計算表'!B48=\"\",\"\",'1階 計算表'!B48)","v":"午後夜間"},{"$f":"IF(+'1階 計算表'!C48=\"\",\"\",'1階 計算表'!C48)","v":"13：00～22：00"},null,{"$f":"IF(+'1階 計算表'!E48=\"\",\"\",'1階 計算表'!E48)","v":""},{"$f":"IF(+'1階 計算表'!F48=\"\",\"\",'1階 計算表'!F48)","v":""},{"$f":"IF(+'1階 計算表'!G48=\"\",\"\",'1階 計算表'!G48)","v":""},{"$f":"IF(+'1階 計算表'!H48=\"\",\"\",'1階 計算表'!H48)","v":""},{"$f":"IF(+'1階 計算表'!I48=\"\",\"\",'1階 計算表'!I48)","v":""},{"$f":"IF(+'1階 計算表'!J48=\"\",\"\",'1階 計算表'!J48)","v":""},{"$f":"IF(+'1階 計算表'!K48=\"\",\"\",'1階 計算表'!K48)","v":""},{"$f":"IF(+'1階 計算表'!L48=\"\",\"\",'1階 計算表'!L48)","v":2263},{"$f":"IF(+'1階 計算表'!M48=\"\",\"\",'1階 計算表'!M48)","v":0},0,{"$f":"IF(SUM($O41:O43)=1,\"\",IF(N43>0,\"\",+IF(N44=0,0,1)))","v":0},{"$f":"IF(N44=0,0,IF(O43=0,\"\",2))","v":0},null,null,null,null,null,null,null,null,null,null,null,null,null,""]
[null,{"$f":"IF(+'1階 計算表'!B49=\"\",\"\",'1階 計算表'!B49)","v":"終　　日"},{"$f":"IF(+'1階 計算表'!C49=\"\",\"\",'1階 計算表'!C49)","v":"8：30～22：00"},null,{"$f":"IF(+'1階 計算表'!E49=\"\",\"\",'1階 計算表'!E49)","v":""},{"$f":"IF(+'1階 計算表'!F49=\"\",\"\",'1階 計算表'!F49)","v":""},{"$f":"IF(+'1階 計算表'!G49=\"\",\"\",'1階 計算表'!G49)","v":""},{"$f":"IF(+'1階 計算表'!H49=\"\",\"\",'1階 計算表'!H49)","v":""},{"$f":"IF(+'1階 計算表'!I49=\"\",\"\",'1階 計算表'!I49)","v":""},{"$f":"IF(+'1階 計算表'!J49=\"\",\"\",'1階 計算表'!J49)","v":""},{"$f":"IF(+'1階 計算表'!K49=\"\",\"\",'1階 計算表'!K49)","v":""},{"$f":"IF(+'1階 計算表'!L49=\"\",\"\",'1階 計算表'!L49)","v":2880},{"$f":"IF(+'1階 計算表'!M49=\"\",\"\",'1階 計算表'!M49)","v":0},0,{"$f":"IF(SUM($O41:O44)=1,\"\",IF(N44>0,\"\",+IF(N45=0,0,1)))","v":0},0,null,null,null,null,null,null,null,null,null,null,null,null,null,""]
[null,{"$f":"IF(+'1階 計算表'!B50=\"\",\"\",'1階 計算表'!B50)","v":""},{"$f":"IF(+'1階 計算表'!C50=\"\",\"\",'1階 計算表'!C50)","v":""},{"$f":"IF(+'1階 計算表'!D50=\"\",\"\",'1階 計算表'!D50)","v":""},{"$f":"IF(+'1階 計算表'!E50=\"\",\"\",'1階 計算表'!E50)","v":""},{"$f":"IF(+'1階 計算表'!F50=\"\",\"\",'1階 計算表'!F50)","v":""},{"$f":"IF(+'1階 計算表'!G50=\"\",\"\",'1階 計算表'!G50)","v":""},{"$f":"IF(+'1階 計算表'!H50=\"\",\"\",'1階 計算表'!H50)","v":""},{"$f":"IF(+'1階 計算表'!I50=\"\",\"\",'1階 計算表'!I50)","v":""},{"$f":"IF(+'1階 計算表'!J50=\"\",\"\",'1階 計算表'!J50)","v":""},{"$f":"IF(+'1階 計算表'!K50=\"\",\"\",'1階 計算表'!K50)","v":""},{"$f":"IF(+'1階 計算表'!L50=\"\",\"\",'1階 計算表'!L50)","v":""},{"$f":"IF(+'1階 計算表'!M50=\"\",\"\",'1階 計算表'!M50)","v":""}]
[{"$f":"+'1階 計算表'!A51","v":"小会議室"},{"$f":"IF(+'1階 計算表'!B51=\"\",\"\",'1階 計算表'!B51)","v":"１時間単位"},{"$f":"IF(+'1階 計算表'!C51=\"\",\"\",'1階 計算表'!C51)","v":"　8：30～17：00"},{"$f":"IF(+'1階 計算表'!D51=\"\",\"\",'1階 計算表'!D51)","v":""},{"$f":"IF(+'1階 計算表'!E51=\"\",\"\",'1階 計算表'!E51)","v":"："},{"$f":"IF(+'1階 計算表'!F51=\"\",\"\",'1階 計算表'!F51)","v":""},{"$f":"IF(+'1階 計算表'!G51=\"\",\"\",'1階 計算表'!G51)","v":"～"},{"$f":"IF(+'1階 計算表'!H51=\"\",\"\",'1階 計算表'!H51)","v":""},{"$f":"IF(+'1階 計算表'!I51=\"\",\"\",'1階 計算表'!I51)","v":"："},{"$f":"IF(+'1階 計算表'!J51=\"\",\"\",'1階 計算表'!J51)","v":""},{"$f":"IF(+'1階 計算表'!K51=\"\",\"\",'1階 計算表'!K51)","v":0},{"$f":"IF(+'1階 計算表'!L51=\"\",\"\",'1階 計算表'!L51)","v":308},{"$f":"IF(+'1階 計算表'!M51=\"\",\"\",'1階 計算表'!M51)","v":0},{"$f":"+IF(M47=0,0,1)","v":0},{"$f":"+N47","v":0},null,null,null,null,null,null,null,null,null,null,null,null,null,null,""]
[null,{"$f":"IF(+'1階 計算表'!B52=\"\",\"\",'1階 計算表'!B52)","v":"１時間単位"},{"$f":"IF(+'1階 計算表'!C52=\"\",\"\",'1階 計算表'!C52)","v":"17：00～22：00"},{"$f":"IF(+'1階 計算表'!D52=\"\",\"\",'1階 計算表'!D52)","v":""},{"$f":"IF(+'1階 計算表'!E52=\"\",\"\",'1階 計算表'!E52)","v":"："},{"$f":"IF(+'1階 計算表'!F52=\"\",\"\",'1階 計算表'!F52)","v":""},{"$f":"IF(+'1階 計算表'!G52=\"\",\"\",'1階 計算表'!G52)","v":"～"},{"$f":"IF(+'1階 計算表'!H52=\"\",\"\",'1階 計算表'!H52)","v":""},{"$f":"IF(+'1階 計算表'!I52=\"\",\"\",'1階 計算表'!I52)","v":"："},{"$f":"IF(+'1階 計算表'!J52=\"\",\"\",'1階 計算表'!J52)","v":""},{"$f":"IF(+'1階 計算表'!K52=\"\",\"\",'1階 計算表'!K52)","v":0},{"$f":"IF(+'1階 計算表'!L52=\"\",\"\",'1階 計算表'!L52)","v":390},{"$f":"IF(+'1階 計算表'!M52=\"\",\"\",'1階 計算表'!M52)","v":0},{"$f":"+IF(M48=0,0,1)","v":0},{"$f":"IF(SUM(O47)=1,\"\",+IF(N48=0,0,1))","v":0},{"$f":"IF(N48=0,0,IF(O47=0,\"\",2))","v":0},null,null,null,null,null,null,null,null,null,null,null,null,null,""]
[null,{"$f":"IF(+'1階 計算表'!B53=\"\",\"\",'1階 計算表'!B53)","v":"午前午後"},{"$f":"IF(+'1階 計算表'!C53=\"\",\"\",'1階 計算表'!C53)","v":"　8：30～17：00"},null,{"$f":"IF(+'1階 計算表'!E53=\"\",\"\",'1階 計算表'!E53)","v":""},{"$f":"IF(+'1階 計算表'!F53=\"\",\"\",'1階 計算表'!F53)","v":""},{"$f":"IF(+'1階 計算表'!G53=\"\",\"\",'1階 計算表'!G53)","v":""},{"$f":"IF(+'1階 計算表'!H53=\"\",\"\",'1階 計算表'!H53)","v":""},{"$f":"IF(+'1階 計算表'!I53=\"\",\"\",'1階 計算表'!I53)","v":""},{"$f":"IF(+'1階 計算表'!J53=\"\",\"\",'1階 計算表'!J53)","v":""},{"$f":"IF(+'1階 計算表'!K53=\"\",\"\",'1階 計算表'!K53)","v":""},{"$f":"IF(+'1階 計算表'!L53=\"\",\"\",'1階 計算表'!L53)","v":1645},{"$f":"IF(+'1階 計算表'!M53=\"\",\"\",'1階 計算表'!M53)","v":0},0,{"$f":"IF(SUM($O47:O48)=1,\"\",IF(N48>0,\"\",+IF(N49=0,0,1)))","v":0},{"$f":"IF(N49=0,0,IF(O48=0,0,2))","v":0},null,null,null,null,null,null,null,null,null,null,null,null,null,""]
[null,{"$f":"IF(+'1階 計算表'!B54=\"\",\"\",'1階 計算表'!B54)","v":"午後夜間"},{"$f":"IF(+'1階 計算表'!C54=\"\",\"\",'1階 計算表'!C54)","v":"13：00～22：00"},null,{"$f":"IF(+'1階 計算表'!E54=\"\",\"\",'1階 計算表'!E54)","v":""},{"$f":"IF(+'1階 計算表'!F54=\"\",\"\",'1階 計算表'!F54)","v":""},{"$f":"IF(+'1階 計算表'!G54=\"\",\"\",'1階 計算表'!G54)","v":""},{"$f":"IF(+'1階 計算表'!H54=\"\",\"\",'1階 計算表'!H54)","v":""},{"$f":"IF(+'1階 計算表'!I54=\"\",\"\",'1階 計算表'!I54)","v":""},{"$f":"IF(+'1階 計算表'!J54=\"\",\"\",'1階 計算表'!J54)","v":""},{"$f":"IF(+'1階 計算表'!K54=\"\",\"\",'1階 計算表'!K54)","v":""},{"$f":"IF(+'1階 計算表'!L54=\"\",\"\",'1階 計算表'!L54)","v":2263},{"$f":"IF(+'1階 計算表'!M54=\"\",\"\",'1階 計算表'!M54)","v":0},0,{"$f":"IF(SUM($O47:O49)=1,\"\",IF(N49>0,\"\",+IF(N50=0,0,1)))","v":0},{"$f":"IF(N50=0,0,IF(O49=0,\"\",2))","v":0},null,null,null,null,null,null,null,null,null,null,null,null,null,""]
[null,{"$f":"IF(+'1階 計算表'!B55=\"\",\"\",'1階 計算表'!B55)","v":"終　　日"},{"$f":"IF(+'1階 計算表'!C55=\"\",\"\",'1階 計算表'!C55)","v":"8：30～22：00"},null,{"$f":"IF(+'1階 計算表'!E55=\"\",\"\",'1階 計算表'!E55)","v":""},{"$f":"IF(+'1階 計算表'!F55=\"\",\"\",'1階 計算表'!F55)","v":""},{"$f":"IF(+'1階 計算表'!G55=\"\",\"\",'1階 計算表'!G55)","v":""},{"$f":"IF(+'1階 計算表'!H55=\"\",\"\",'1階 計算表'!H55)","v":""},{"$f":"IF(+'1階 計算表'!I55=\"\",\"\",'1階 計算表'!I55)","v":""},{"$f":"IF(+'1階 計算表'!J55=\"\",\"\",'1階 計算表'!J55)","v":""},{"$f":"IF(+'1階 計算表'!K55=\"\",\"\",'1階 計算表'!K55)","v":""},{"$f":"IF(+'1階 計算表'!L55=\"\",\"\",'1階 計算表'!L55)","v":2880},{"$f":"IF(+'1階 計算表'!M55=\"\",\"\",'1階 計算表'!M55)","v":0},0,{"$f":"IF(SUM($O47:O50)=1,\"\",IF(N50>0,\"\",+IF(N51=0,0,1)))","v":0},0,null,null,null,null,null,null,null,null,null,null,null,null,null,""]
[null,{"$f":"IF(+'1階 計算表'!B56=\"\",\"\",'1階 計算表'!B56)","v":""},{"$f":"IF(+'1階 計算表'!C56=\"\",\"\",'1階 計算表'!C56)","v":""},{"$f":"IF(+'1階 計算表'!D56=\"\",\"\",'1階 計算表'!D56)","v":""},{"$f":"IF(+'1階 計算表'!E56=\"\",\"\",'1階 計算表'!E56)","v":""},{"$f":"IF(+'1階 計算表'!F56=\"\",\"\",'1階 計算表'!F56)","v":""},{"$f":"IF(+'1階 計算表'!G56=\"\",\"\",'1階 計算表'!G56)","v":""},{"$f":"IF(+'1階 計算表'!H56=\"\",\"\",'1階 計算表'!H56)","v":""},{"$f":"IF(+'1階 計算表'!I56=\"\",\"\",'1階 計算表'!I56)","v":""},{"$f":"IF(+'1階 計算表'!J56=\"\",\"\",'1階 計算表'!J56)","v":""},{"$f":"IF(+'1階 計算表'!K56=\"\",\"\",'1階 計算表'!K56)","v":""},{"$f":"IF(+'1階 計算表'!L56=\"\",\"\",'1階 計算表'!L56)","v":""},{"$f":"IF(+'1階 計算表'!M56=\"\",\"\",'1階 計算表'!M56)","v":""}]
[{"$f":"+'1階 計算表'!A57","v":"住民相談室"},{"$f":"IF(+'1階 計算表'!B57=\"\",\"\",'1階 計算表'!B57)","v":"１時間単位"},{"$f":"IF(+'1階 計算表'!C57=\"\",\"\",'1階 計算表'!C57)","v":"　8：30～17：00"},{"$f":"IF(+'1階 計算表'!D57=\"\",\"\",'1階 計算表'!D57)","v":""},{"$f":"IF(+'1階 計算表'!E57=\"\",\"\",'1階 計算表'!E57)","v":"："},{"$f":"IF(+'1階 計算表'!F57=\"\",\"\",'1階 計算表'!F57)","v":""},{"$f":"IF(+'1階 計算表'!G57=\"\",\"\",'1階 計算表'!G57)","v":"～"},{"$f":"IF(+'1階 計算表'!H57=\"\",\"\",'1階 計算表'!H57)","v":""},{"$f":"IF(+'1階 計算表'!I57=\"\",\"\",'1階 計算表'!I57)","v":"："},{"$f":"IF(+'1階 計算表'!J57=\"\",\"\",'1階 計算表'!J57)","v":""},{"$f":"IF(+'1階 計算表'!K57=\"\",\"\",'1階 計算表'!K57)","v":0},{"$f":"IF(+'1階 計算表'!L57=\"\",\"\",'1階 計算表'!L57)","v":308},{"$f":"IF(+'1階 計算表'!M57=\"\",\"\",'1階 計算表'!M57)","v":0},{"$f":"+IF(M53=0,0,1)","v":0},{"$f":"+N53","v":0},null,null,null,null,null,null,null,null,null,null,null,null,null,null,""]
[null,{"$f":"IF(+'1階 計算表'!B58=\"\",\"\",'1階 計算表'!B58)","v":"１時間単位"},{"$f":"IF(+'1階 計算表'!C58=\"\",\"\",'1階 計算表'!C58)","v":"17：00～22：00"},{"$f":"IF(+'1階 計算表'!D58=\"\",\"\",'1階 計算表'!D58)","v":""},{"$f":"IF(+'1階 計算表'!E58=\"\",\"\",'1階 計算表'!E58)","v":"："},{"$f":"IF(+'1階 計算表'!F58=\"\",\"\",'1階 計算表'!F58)","v":""},{"$f":"IF(+'1階 計算表'!G58=\"\",\"\",'1階 計算表'!G58)","v":"～"},{"$f":"IF(+'1階 計算表'!H58=\"\",\"\",'1階 計算表'!H58)","v":""},{"$f":"IF(+'1階 計算表'!I58=\"\",\"\",'1階 計算表'!I58)","v":"："},{"$f":"IF(+'1階 計算表'!J58=\"\",\"\",'1階 計算表'!J58)","v":""},{"$f":"IF(+'1階 計算表'!K58=\"\",\"\",'1階 計算表'!K58)","v":0},{"$f":"IF(+'1階 計算表'!L58=\"\",\"\",'1階 計算表'!L58)","v":390},{"$f":"IF(+'1階 計算表'!M58=\"\",\"\",'1階 計算表'!M58)","v":0},{"$f":"+IF(M54=0,0,1)","v":0},{"$f":"IF(SUM(O53)=1,\"\",+IF(N54=0,0,1))","v":0},{"$f":"IF(N54=0,0,IF(O53=0,\"\",2))","v":0},null,null,null,null,null,null,null,null,null,null,null,null,null,""]
[null,{"$f":"IF(+'1階 計算表'!B59=\"\",\"\",'1階 計算表'!B59)","v":"午前午後"},{"$f":"IF(+'1階 計算表'!C59=\"\",\"\",'1階 計算表'!C59)","v":"　8：30～17：00"},null,{"$f":"IF(+'1階 計算表'!E59=\"\",\"\",'1階 計算表'!E59)","v":""},{"$f":"IF(+'1階 計算表'!F59=\"\",\"\",'1階 計算表'!F59)","v":""},{"$f":"IF(+'1階 計算表'!G59=\"\",\"\",'1階 計算表'!G59)","v":""},{"$f":"IF(+'1階 計算表'!H59=\"\",\"\",'1階 計算表'!H59)","v":""},{"$f":"IF(+'1階 計算表'!I59=\"\",\"\",'1階 計算表'!I59)","v":""},{"$f":"IF(+'1階 計算表'!J59=\"\",\"\",'1階 計算表'!J59)","v":""},{"$f":"IF(+'1階 計算表'!K59=\"\",\"\",'1階 計算表'!K59)","v":""},{"$f":"IF(+'1階 計算表'!L59=\"\",\"\",'1階 計算表'!L59)","v":1645},{"$f":"IF(+'1階 計算表'!M59=\"\",\"\",'1階 計算表'!M59)","v":0},0,{"$f":"IF(SUM($O53:O54)=1,\"\",IF(N54>0,\"\",+IF(N55=0,0,1)))","v":0},{"$f":"IF(N55=0,0,IF(O54=0,0,2))","v":0},null,null,null,null,null,null,null,null,null,null,null,null,null,""]
[null,{"$f":"IF(+'1階 計算表'!B60=\"\",\"\",'1階 計算表'!B60)","v":"午後夜間"},{"$f":"IF(+'1階 計算表'!C60=\"\",\"\",'1階 計算表'!C60)","v":"13：00～22：00"},null,{"$f":"IF(+'1階 計算表'!E60=\"\",\"\",'1階 計算表'!E60)","v":""},{"$f":"IF(+'1階 計算表'!F60=\"\",\"\",'1階 計算表'!F60)","v":""},{"$f":"IF(+'1階 計算表'!G60=\"\",\"\",'1階 計算表'!G60)","v":""},{"$f":"IF(+'1階 計算表'!H60=\"\",\"\",'1階 計算表'!H60)","v":""},{"$f":"IF(+'1階 計算表'!I60=\"\",\"\",'1階 計算表'!I60)","v":""},{"$f":"IF(+'1階 計算表'!J60=\"\",\"\",'1階 計算表'!J60)","v":""},{"$f":"IF(+'1階 計算表'!K60=\"\",\"\",'1階 計算表'!K60)","v":""},{"$f":"IF(+'1階 計算表'!L60=\"\",\"\",'1階 計算表'!L60)","v":2263},{"$f":"IF(+'1階 計算表'!M60=\"\",\"\",'1階 計算表'!M60)","v":0},0,{"$f":"IF(SUM($O53:O55)=1,\"\",IF(N55>0,\"\",+IF(N56=0,0,1)))","v":0},{"$f":"IF(N56=0,0,IF(O55=0,\"\",2))","v":0},null,null,null,null,null,null,null,null,null,null,null,null,null,""]
[null,{"$f":"IF(+'1階 計算表'!B61=\"\",\"\",'1階 計算表'!B61)","v":"終　　日"},{"$f":"IF(+'1階 計算表'!C61=\"\",\"\",'1階 計算表'!C61)","v":"8：30～22：00"},null,{"$f":"IF(+'1階 計算表'!E61=\"\",\"\",'1階 計算表'!E61)","v":""},{"$f":"IF(+'1階 計算表'!F61=\"\",\"\",'1階 計算表'!F61)","v":""},{"$f":"IF(+'1階 計算表'!G61=\"\",\"\",'1階 計算表'!G61)","v":""},{"$f":"IF(+'1階 計算表'!H61=\"\",\"\",'1階 計算表'!H61)","v":""},{"$f":"IF(+'1階 計算表'!I61=\"\",\"\",'1階 計算表'!I61)","v":""},{"$f":"IF(+'1階 計算表'!J61=\"\",\"\",'1階 計算表'!J61)","v":""},{"$f":"IF(+'1階 計算表'!K61=\"\",\"\",'1階 計算表'!K61)","v":""},{"$f":"IF(+'1階 計算表'!L61=\"\",\"\",'1階 計算表'!L61)","v":2880},{"$f":"IF(+'1階 計算表'!M61=\"\",\"\",'1階 計算表'!M61)","v":0},0,{"$f":"IF(SUM($O53:O56)=1,\"\",IF(N56>0,\"\",+IF(N57=0,0,1)))","v":0},0,null,null,null,null,null,null,null,null,null,null,null,null,null,""]
[null,{"$f":"IF(+'1階 計算表'!B62=\"\",\"\",'1階 計算表'!B62)","v":""},{"$f":"IF(+'1階 計算表'!C62=\"\",\"\",'1階 計算表'!C62)","v":""},{"$f":"IF(+'1階 計算表'!D62=\"\",\"\",'1階 計算表'!D62)","v":""},{"$f":"IF(+'1階 計算表'!E62=\"\",\"\",'1階 計算表'!E62)","v":""},{"$f":"IF(+'1階 計算表'!F62=\"\",\"\",'1階 計算表'!F62)","v":""},{"$f":"IF(+'1階 計算表'!G62=\"\",\"\",'1階 計算表'!G62)","v":""},{"$f":"IF(+'1階 計算表'!H62=\"\",\"\",'1階 計算表'!H62)","v":""},{"$f":"IF(+'1階 計算表'!I62=\"\",\"\",'1階 計算表'!I62)","v":""},{"$f":"IF(+'1階 計算表'!J62=\"\",\"\",'1階 計算表'!J62)","v":""},{"$f":"IF(+'1階 計算表'!K62=\"\",\"\",'1階 計算表'!K62)","v":""},{"$f":"IF(+'1階 計算表'!L62=\"\",\"\",'1階 計算表'!L62)","v":""},{"$f":"IF(+'1階 計算表'!M62=\"\",\"\",'1階 計算表'!M62)","v":""}]
[null,{"$f":"IF(+'1階 計算表'!B63=\"\",\"\",'1階 計算表'!B63)","v":""},{"$f":"IF(+'1階 計算表'!C63=\"\",\"\",'1階 計算表'!C63)","v":""},{"$f":"IF(+'1階 計算表'!D63=\"\",\"\",'1階 計算表'!D63)","v":""},{"$f":"IF(+'1階 計算表'!E63=\"\",\"\",'1階 計算表'!E63)","v":""},{"$f":"IF(+'1階 計算表'!F63=\"\",\"\",'1階 計算表'!F63)","v":""},{"$f":"IF(+'1階 計算表'!G63=\"\",\"\",'1階 計算表'!G63)","v":""},{"$f":"IF(+'1階 計算表'!H63=\"\",\"\",'1階 計算表'!H63)","v":""},{"$f":"IF(+'1階 計算表'!I63=\"\",\"\",'1階 計算表'!I63)","v":""},{"$f":"IF(+'1階 計算表'!J63=\"\",\"\",'1階 計算表'!J63)","v":""},{"$f":"IF(+'1階 計算表'!K63=\"\",\"\",'1階 計算表'!K63)","v":"１階合計"},{"$f":"IF(+'1階 計算表'!L63=\"\",\"\",'1階 計算表'!L63)","v":""},{"$f":"IF(+'1階 計算表'!M63=\"\",\"\",'1階 計算表'!M63)","v":0}]

{"sheet":"使用会場印刷用","index":5,"n_rows":43,"n_cols":14,"rows_kept":43,"cut":false,"hidden":false,"merged":[[3,3,3,11],[27,3,27,11],[0,12,0,13]]}
["隠岐島文化会館",null,null,null,null,null,null,null,null,null,null,null,"年　　　月　　　日"]
[]
[{"$f":"IF('1階 計算表'!F3=\"\",\"\",\"営利目的\")","v":""}]
["１階",null,"区分","使用時間",null,null,null,null,null,null,null,null,"単価","料金"]
[{"$f":"+'1階 計算表'!A7","v":"大ホール"},{"$f":"IF(Sheet6!$O3=1,Sheet6!B3,IF(Sheet6!$O4=1,Sheet6!B4,IF(Sheet6!$O5=1,Sheet6!B5,IF(Sheet6!$O6=1,Sheet6!B6,IF(Sheet6!$O7=1,Sheet6!B7,\"\")))))","v":""},{"$f":"IF(Sheet6!$O3=1,Sheet6!C3,IF(Sheet6!$O4=1,Sheet6!C4,IF(Sheet6!$O5=1,Sheet6!C5,IF(Sheet6!$O6=1,Sheet6!C6,IF(Sheet6!$O7=1,Sheet6!C7,\"\")))))","v":""},{"$f":"IF(Sheet6!$O3=1,Sheet6!D3,IF(Sheet6!$O4=1,Sheet6!D4,IF(Sheet6!$O5=1,\"\",IF(Sheet6!$O6=1,\"\",IF(Sheet6!$O7=1,\"\",\"\")))))","v":""},{"$f":"IF(Sheet6!$O3=1,Sheet6!E3,IF(Sheet6!$O4=1,Sheet6!E4,IF(Sheet6!$O5=1,Sheet6!E5,IF(Sheet6!$O6=1,Sheet6!E6,IF(Sheet6!$O7=1,Sheet6!E7,\"\")))))","v":""},{"$f":"IF(Sheet6!$O3=1,Sheet6!F3,IF(Sheet6!$O4=1,Sheet6!F4,IF(Sheet6!$O5=1,Sheet6!F5,IF(Sheet6!$O6=1,Sheet6!F6,IF(Sheet6!$O7=1,Sheet6!F7,\"\")))))","v":""},{"$f":"IF(Sheet6!$O3=1,Sheet6!G3,IF(Sheet6!$O4=1,Sheet6!G4,IF(Sheet6!$O5=1,Sheet6!G5,IF(Sheet6!$O6=1,Sheet6!G6,IF(Sheet6!$O7=1,Sheet6!G7,\"\")))))","v":""},{"$f":"IF(Sheet6!$O3=1,Sheet6!H3,IF(Sheet6!$O4=1,Sheet6!H4,IF(Sheet6!$O5=1,Sheet6!H5,IF(Sheet6!$O6=1,Sheet6!H6,IF(Sheet6!$O7=1,Sheet6!H7,\"\")))))","v":""},{"$f":"IF(Sheet6!$O3=1,Sheet6!I3,IF(Sheet6!$O4=1,Sheet6!I4,IF(Sheet6!$O5=1,Sheet6!I5,IF(Sheet6!$O6=1,Sheet6!I6,IF(Sheet6!$O7=1,Sheet6!I7,\"\")))))","v":""},{"$f":"IF(Sheet6!$O3=1,Sheet6!J3,IF(Sheet6!$O4=1,Sheet6!J4,IF(Sheet6!$O5=1,Sheet6!J5,IF(Sheet6!$O6=1,Sheet6!J6,IF(Sheet6!$O7=1,Sheet6!J7,\"\")))))","v":""},{"$f":"IF(L5=\"\",\"\",IF(Sheet6!$O3=1,Sheet6!K3,IF(Sheet6!$O4=1,Sheet6!K4,IF(Sheet6!$O5=1,Sheet6!K5,IF(Sheet6!$O6=1,Sheet6!K6,IF(Sheet6!$O7=1,Sheet6!K7,\"\"))))))","v":""},{"$f":"IF(B5=\"\",\"\",IF(B5=\"午前午後\",\"\",IF(B5=\"午後夜間\",\"\",IF(B5=\"終　　日\",\"\",\"時間\"))))","v":""},{"$f":"IF(Sheet6!$O3=1,Sheet6!L3,IF(Sheet6!$O4=1,Sheet6!L4,IF(Sheet6!$O5=1,Sheet6!L5,IF(Sheet6!$O6=1,Sheet6!L6,IF(Sheet6!$O7=1,Sheet6!L7,\"\")))))","v":""},{"$f":"IF(Sheet6!$O3=1,Sheet6!M3,IF(Sheet6!$O4=1,Sheet6!M4,IF(Sheet6!$O5=1,Sheet6!M5,IF(Sheet6!$O6=1,Sheet6!M6,IF(Sheet6!$O7=1,Sheet6!M7,\"\")))))","v":""}]
[null,{"$f":"IF(Sheet6!$P4=2,Sheet6!B4,IF(Sheet6!$P5=2,Sheet6!B5,IF(Sheet6!$P6=2,Sheet6!B6,IF(Sheet6!$P7=2,Sheet6!B7,IF(Sheet6!$P8=2,Sheet6!B8,\"\")))))","v":""},{"$f":"IF(Sheet6!$P4=2,Sheet6!C4,IF(Sheet6!$P5=2,Sheet6!C5,IF(Sheet6!$P6=2,Sheet6!C6,IF(Sheet6!$P7=2,Sheet6!C7,IF(Sheet6!$P8=2,Sheet6!C8,\"\")))))","v":""},{"$f":"IF(Sheet6!$P4=2,Sheet6!D4,IF(Sheet6!$P5=2,\"\",IF(Sheet6!$P6=2,\"\",IF(Sheet6!$P7=2,\"\",IF(Sheet6!$P8=2,Sheet6!D8,\"\")))))","v":""},{"$f":"IF(Sheet6!$P4=2,Sheet6!E4,IF(Sheet6!$P5=2,Sheet6!E5,IF(Sheet6!$P6=2,Sheet6!E6,IF(Sheet6!$P7=2,Sheet6!E7,IF(Sheet6!$P8=2,Sheet6!E8,\"\")))))","v":""},{"$f":"IF(Sheet6!$P4=2,Sheet6!F4,IF(Sheet6!$P5=2,Sheet6!F5,IF(Sheet6!$P6=2,Sheet6!F6,IF(Sheet6!$P7=2,Sheet6!F7,IF(Sheet6!$P8=2,Sheet6!F8,\"\")))))","v":""},{"$f":"IF(Sheet6!$P4=2,Sheet6!G4,IF(Sheet6!$P5=2,Sheet6!G5,IF(Sheet6!$P6=2,Sheet6!G6,IF(Sheet6!$P7=2,Sheet6!G7,IF(Sheet6!$P8=2,Sheet6!G8,\"\")))))","v":""},{"$f":"IF(Sheet6!$P4=2,Sheet6!H4,IF(Sheet6!$P5=2,Sheet6!H5,IF(Sheet6!$P6=2,Sheet6!H6,IF(Sheet6!$P7=2,Sheet6!H7,IF(Sheet6!$P8=2,Sheet6!H8,\"\")))))","v":""},{"$f":"IF(Sheet6!$P4=2,Sheet6!I4,IF(Sheet6!$P5=2,Sheet6!I5,IF(Sheet6!$P6=2,Sheet6!I6,IF(Sheet6!$P7=2,Sheet6!I7,IF(Sheet6!$P8=2,Sheet6!I8,\"\")))))","v":""},{"$f":"IF(Sheet6!$P4=2,Sheet6!J4,IF(Sheet6!$P5=2,Sheet6!J5,IF(Sheet6!$P6=2,Sheet6!J6,IF(Sheet6!$P7=2,Sheet6!J7,IF(Sheet6!$P8=2,Sheet6!J8,\"\")))))","v":""},{"$f":"IF(L6=\"\",\"\",IF(Sheet6!$P4=2,Sheet6!K4,IF(Sheet6!$P5=2,Sheet6!K5,IF(Sheet6!$P6=2,Sheet6!K6,IF(Sheet6!$P7=2,Sheet6!K7,IF(Sheet6!$P8=2,Sheet6!K8,\"\"))))))","v":""},{"$f":"IF(B6=\"\",\"\",IF(B6=\"午前午後\",\"\",IF(B6=\"午後夜間\",\"\",IF(B6=\"終　　日\",\"\",\"時間\"))))","v":""},{"$f":"IF(Sheet6!$P4=2,Sheet6!L4,IF(Sheet6!$P5=2,Sheet6!L5,IF(Sheet6!$P6=2,Sheet6!L6,IF(Sheet6!$P7=2,Sheet6!L7,IF(Sheet6!$P8=2,Sheet6!L8,\"\")))))","v":""},{"$f":"IF(Sheet6!$P4=2,Sheet6!M4,IF(Sheet6!$P5=2,Sheet6!M5,IF(Sheet6!$P6=2,Sheet6!M6,IF(Sheet6!$P7=2,Sheet6!M7,IF(Sheet6!$P8=2,Sheet6!M8,\"\")))))","v":""}]
[{"$f":"+'1階 計算表'!A12","v":"ステージのみ利用"},{"$f":"IF(N7=\"\",\"\",'1階 計算表'!B12)","v":""},{"$f":"IF(N7=\"\",\"\",'1階 計算表'!C12)","v":""},{"$f":"IF(N7=\"\",\"\",'1階 計算表'!D12)","v":""},{"$f":"IF(N7=\"\",\"\",'1階 計算表'!E12)","v":""},{"$f":"IF(N7=\"\",\"\",'1階 計算表'!F12)","v":""},{"$f":"IF(N7=\"\",\"\",'1階 計算表'!G12)","v":""},{"$f":"IF(N7=\"\",\"\",'1階 計算表'!H12)","v":""},{"$f":"IF(N7=\"\",\"\",'1階 計算表'!I12)","v":""},{"$f":"IF(N7=\"\",\"\",'1階 計算表'!J12)","v":""},{"$f":"IF(N7=\"\",\"\",'1階 計算表'!K12)","v":""},"",{"$f":"IF(K7=\"\",\"\",'1階 計算表'!L12)","v":""},{"$f":"IF('1階 計算表'!M12=0,\"\",'1階 計算表'!M12)","v":""}]
[{"$f":"+'1階 計算表'!A13","v":"大ホール空調"},{"$f":"IF(N8=\"\",\"\",'1階 計算表'!B13)","v":""},{"$f":"IF(N8=\"\",\"\",'1階 計算表'!C13)","v":""},{"$f":"IF(N8=\"\",\"\",'1階 計算表'!D13)","v":""},{"$f":"IF(N8=\"\",\"\",'1階 計算表'!E13)","v":""},{"$f":"IF(N8=\"\",\"\",'1階 計算表'!F13)","v":""},{"$f":"IF(N8=\"\",\"\",'1階 計算表'!G13)","v":""},{"$f":"IF(N8=\"\",\"\",'1階 計算表'!H13)","v":""},{"$f":"IF(N8=\"\",\"\",'1階 計算表'!I13)","v":""},{"$f":"IF(N8=\"\",\"\",'1階 計算表'!J13)","v":""},{"$f":"IF(N8=\"\",\"\",'1階 計算表'!K13)","v":""},"",{"$f":"IF(K8=\"\",\"\",'1階 計算表'!L13)","v":""},{"$f":"IF('1階 計算表'!M13=0,\"\",'1階 計算表'!M13)","v":""}]
[{"$f":"+'1階 計算表'!A15","v":"保養室"},{"$f":"IF(Sheet6!$O11=1,Sheet6!B11,IF(Sheet6!$O12=1,Sheet6!B12,IF(Sheet6!$O13=1,Sheet6!B13,IF(Sheet6!$O14=1,Sheet6!B14,IF(Sheet6!$O15=1,Sheet6!B15,\"\")))))","v":""},{"$f":"IF(Sheet6!$O11=1,Sheet6!C11,IF(Sheet6!$O12=1,Sheet6!C12,IF(Sheet6!$O13=1,Sheet6!C13,IF(Sheet6!$O14=1,Sheet6!C14,IF(Sheet6!$O15=1,Sheet6!C15,\"\")))))","v":""},{"$f":"IF(Sheet6!$O11=1,Sheet6!D11,IF(Sheet6!$O12=1,Sheet6!D12,IF(Sheet6!$O13=1,\"\",IF(Sheet6!$O14=1,\"\",IF(Sheet6!$O15=1,\"\",\"\")))))","v":""},{"$f":"IF(Sheet6!$O11=1,Sheet6!E11,IF(Sheet6!$O12=1,Sheet6!E12,IF(Sheet6!$O13=1,Sheet6!E13,IF(Sheet6!$O14=1,Sheet6!E14,IF(Sheet6!$O15=1,Sheet6!E15,\"\")))))","v":""},{"$f":"IF(Sheet6!$O11=1,Sheet6!F11,IF(Sheet6!$O12=1,Sheet6!F12,IF(Sheet6!$O13=1,Sheet6!F13,IF(Sheet6!$O14=1,Sheet6!F14,IF(Sheet6!$O15=1,Sheet6!F15,\"\")))))","v":""},{"$f":"IF(Sheet6!$O11=1,Sheet6!G11,IF(Sheet6!$O12=1,Sheet6!G12,IF(Sheet6!$O13=1,Sheet6!G13,IF(Sheet6!$O14=1,Sheet6!G14,IF(Sheet6!$O15=1,Sheet6!G15,\"\")))))","v":""},{"$f":"IF(Sheet6!$O11=1,Sheet6!H11,IF(Sheet6!$O12=1,Sheet6!H12,IF(Sheet6!$O13=1,Sheet6!H13,IF(Sheet6!$O14=1,Sheet6!H14,IF(Sheet6!$O15=1,Sheet6!H15,\"\")))))","v":""},{"$f":"IF(Sheet6!$O11=1,Sheet6!I11,IF(Sheet6!$O12=1,Sheet6!I12,IF(Sheet6!$O13=1,Sheet6!I13,IF(Sheet6!$O14=1,Sheet6!I14,IF(Sheet6!$O15=1,Sheet6!I15,\"\")))))","v":""},{"$f":"IF(Sheet6!$O11=1,Sheet6!J11,IF(Sheet6!$O12=1,Sheet6!J12,IF(Sheet6!$O13=1,Sheet6!J13,IF(Sheet6!$O14=1,Sheet6!J14,IF(Sheet6!$O15=1,Sheet6!J15,\"\")))))","v":""},{"$f":"IF(L9=\"\",\"\",IF(Sheet6!$O11=1,Sheet6!K11,IF(Sheet6!$O12=1,Sheet6!K12,IF(Sheet6!$O13=1,Sheet6!K13,IF(Sheet6!$O14=1,Sheet6!K14,IF(Sheet6!$O15=1,Sheet6!K15,\"\"))))))","v":""},"",{"$f":"IF(Sheet6!$O11=1,Sheet6!L11,IF(Sheet6!$O12=1,Sheet6!L12,IF(Sheet6!$O13=1,Sheet6!L13,IF(Sheet6!$O14=1,Sheet6!L14,IF(Sheet6!$O15=1,Sheet6!L15,\"\")))))","v":""},{"$f":"IF(Sheet6!$O11=1,Sheet6!M11,IF(Sheet6!$O12=1,Sheet6!M12,IF(Sheet6!$O13=1,Sheet6!M13,IF(Sheet6!$O14=1,Sheet6!M14,IF(Sheet6!$O15=1,Sheet6!M15,\"\")))))","v":""}]
[null,{"$f":"IF(Sheet6!$P12=2,Sheet6!B12,IF(Sheet6!$P13=2,Sheet6!B13,IF(Sheet6!$P14=2,Sheet6!B14,IF(Sheet6!$P15=2,Sheet6!B15,IF(Sheet6!$P16=2,Sheet6!B16,\"\")))))","v":""},{"$f":"IF(Sheet6!$P12=2,Sheet6!C12,IF(Sheet6!$P13=2,Sheet6!C13,IF(Sheet6!$P14=2,Sheet6!C14,IF(Sheet6!$P15=2,Sheet6!C15,IF(Sheet6!$P16=2,Sheet6!C16,\"\")))))","v":""},{"$f":"IF(Sheet6!$P12=2,Sheet6!D12,IF(Sheet6!$P13=2,\"\",IF(Sheet6!$P14=2,\"\",IF(Sheet6!$P15=2,\"\",IF(Sheet6!$P16=2,Sheet6!D16,\"\")))))","v":""},{"$f":"IF(Sheet6!$P12=2,Sheet6!E12,IF(Sheet6!$P13=2,Sheet6!E13,IF(Sheet6!$P14=2,Sheet6!E14,IF(Sheet6!$P15=2,Sheet6!E15,IF(Sheet6!$P16=2,Sheet6!E16,\"\")))))","v":""},{"$f":"IF(Sheet6!$P12=2,Sheet6!F12,IF(Sheet6!$P13=2,Sheet6!F13,IF(Sheet6!$P14=2,Sheet6!F14,IF(Sheet6!$P15=2,Sheet6!F15,IF(Sheet6!$P16=2,Sheet6!F16,\"\")))))","v":""},{"$f":"IF(Sheet6!$P12=2,Sheet6!G12,IF(Sheet6!$P13=2,Sheet6!G13,IF(Sheet6!$P14=2,Sheet6!G14,IF(Sheet6!$P15=2,Sheet6!G15,IF(Sheet6!$P16=2,Sheet6!G16,\"\")))))","v":""},{"$f":"IF(Sheet6!$P12=2,Sheet6!H12,IF(Sheet6!$P13=2,Sheet6!H13,IF(Sheet6!$P14=2,Sheet6!H14,IF(Sheet6!$P15=2,Sheet6!H15,IF(Sheet6!$P16=2,Sheet6!H16,\"\")))))","v":""},{"$f":"IF(Sheet6!$P12=2,Sheet6!I12,IF(Sheet6!$P13=2,Sheet6!I13,IF(Sheet6!$P14=2,Sheet6!I14,IF(Sheet6!$P15=2,Sheet6!I15,IF(Sheet6!$P16=2,Sheet6!I16,\"\")))))","v":""},{"$f":"IF(Sheet6!$P12=2,Sheet6!J12,IF(Sheet6!$P13=2,Sheet6!J13,IF(Sheet6!$P14=2,Sheet6!J14,IF(Sheet6!$P15=2,Sheet6!J15,IF(Sheet6!$P16=2,Sheet6!J16,\"\")))))","v":""},{"$f":"IF(L10=\"\",\"\",IF(Sheet6!$P12=2,Sheet6!K12,IF(Sheet6!$P13=2,Sheet6!K13,IF(Sheet6!$P14=2,Sheet6!K14,IF(Sheet6!$P15=2,Sheet6!K15,IF(Sheet6!$P16=2,Sheet6!K16,\"\"))))))","v":""},"",{"$f":"IF(Sheet6!$P12=2,Sheet6!L12,IF(Sheet6!$P13=2,Sheet6!L13,IF(Sheet6!$P14=2,Sheet6!L14,IF(Sheet6!$P15=2,Sheet6!L15,IF(Sheet6!$P16=2,Sheet6!L16,\"\")))))","v":""},{"$f":"IF(Sheet6!$P12=2,Sheet6!M12,IF(Sheet6!$P13=2,Sheet6!M13,IF(Sheet6!$P14=2,Sheet6!M14,IF(Sheet6!$P15=2,Sheet6!M15,IF(Sheet6!$P16=2,Sheet6!M16,\"\")))))","v":""}]
[{"$f":"+'1階 計算表'!A21","v":"娯楽室"},{"$f":"IF(Sheet6!$O17=1,Sheet6!B17,IF(Sheet6!$O18=1,Sheet6!B18,IF(Sheet6!$O19=1,Sheet6!B19,IF(Sheet6!$O20=1,Sheet6!B20,IF(Sheet6!$O21=1,Sheet6!B21,\"\")))))","v":""},{"$f":"IF(Sheet6!$O17=1,Sheet6!C17,IF(Sheet6!$O18=1,Sheet6!C18,IF(Sheet6!$O19=1,Sheet6!C19,IF(Sheet6!$O20=1,Sheet6!C20,IF(Sheet6!$O21=1,Sheet6!C21,\"\")))))","v":""},{"$f":"IF(Sheet6!$O17=1,Sheet6!D17,IF(Sheet6!$O18=1,Sheet6!D18,IF(Sheet6!$O19=1,\"\",IF(Sheet6!$O20=1,\"\",IF(Sheet6!$O21=1,\"\",\"\")))))","v":""},{"$f":"IF(Sheet6!$O17=1,Sheet6!E17,IF(Sheet6!$O18=1,Sheet6!E18,IF(Sheet6!$O19=1,Sheet6!E19,IF(Sheet6!$O20=1,Sheet6!E20,IF(Sheet6!$O21=1,Sheet6!E21,\"\")))))","v":""},{"$f":"IF(Sheet6!$O17=1,Sheet6!F17,IF(Sheet6!$O18=1,Sheet6!F18,IF(Sheet6!$O19=1,Sheet6!F19,IF(Sheet6!$O20=1,Sheet6!F20,IF(Sheet6!$O21=1,Sheet6!F21,\"\")))))","v":""},{"$f":"IF(Sheet6!$O17=1,Sheet6!G17,IF(Sheet6!$O18=1,Sheet6!G18,IF(Sheet6!$O19=1,Sheet6!G19,IF(Sheet6!$O20=1,Sheet6!G20,IF(Sheet6!$O21=1,Sheet6!G21,\"\")))))","v":""},{"$f":"IF(Sheet6!$O17=1,Sheet6!H17,IF(Sheet6!$O18=1,Sheet6!H18,IF(Sheet6!$O19=1,Sheet6!H19,IF(Sheet6!$O20=1,Sheet6!H20,IF(Sheet6!$O21=1,Sheet6!H21,\"\")))))","v":""},{"$f":"IF(Sheet6!$O17=1,Sheet6!I17,IF(Sheet6!$O18=1,Sheet6!I18,IF(Sheet6!$O19=1,Sheet6!I19,IF(Sheet6!$O20=1,Sheet6!I20,IF(Sheet6!$O21=1,Sheet6!I21,\"\")))))","v":""},{"$f":"IF(Sheet6!$O17=1,Sheet6!J17,IF(Sheet6!$O18=1,Sheet6!J18,IF(Sheet6!$O19=1,Sheet6!J19,IF(Sheet6!$O20=1,Sheet6!J20,IF(Sheet6!$O21=1,Sheet6!J21,\"\")))))","v":""},{"$f":"IF(L11=\"\",\"\",IF(Sheet6!$O17=1,Sheet6!K17,IF(Sheet6!$O18=1,Sheet6!K18,IF(Sheet6!$O19=1,Sheet6!K19,IF(Sheet6!$O20=1,Sheet6!K20,IF(Sheet6!$O21=1,Sheet6!K21,\"\"))))))","v":""},"",{"$f":"IF(Sheet6!$O17=1,Sheet6!L17,IF(Sheet6!$O18=1,Sheet6!L18,IF(Sheet6!$O19=1,Sheet6!L19,IF(Sheet6!$O20=1,Sheet6!L20,IF(Sheet6!$O21=1,Sheet6!L21,\"\")))))","v":""},{"$f":"IF(Sheet6!$O17=1,Sheet6!M17,IF(Sheet6!$O18=1,Sheet6!M18,IF(Sheet6!$O19=1,Sheet6!M19,IF(Sheet6!$O20=1,Sheet6!M20,IF(Sheet6!$O21=1,Sheet6!M21,\"\")))))","v":""}]
[null,{"$f":"IF(Sheet6!$P18=2,Sheet6!B18,IF(Sheet6!$P19=2,Sheet6!B19,IF(Sheet6!$P20=2,Sheet6!B20,IF(Sheet6!$P21=2,Sheet6!B21,IF(Sheet6!$P22=2,Sheet6!B22,\"\")))))","v":""},{"$f":"IF(Sheet6!$P18=2,Sheet6!C18,IF(Sheet6!$P19=2,Sheet6!C19,IF(Sheet6!$P20=2,Sheet6!C20,IF(Sheet6!$P21=2,Sheet6!C21,IF(Sheet6!$P22=2,Sheet6!C22,\"\")))))","v":""},{"$f":"IF(Sheet6!$P18=2,Sheet6!D18,IF(Sheet6!$P19=2,\"\",IF(Sheet6!$P20=2,\"\",IF(Sheet6!$P21=2,\"\",IF(Sheet6!$P22=2,Sheet6!D22,\"\")))))","v":""},{"$f":"IF(Sheet6!$P18=2,Sheet6!E18,IF(Sheet6!$P19=2,Sheet6!E19,IF(Sheet6!$P20=2,Sheet6!E20,IF(Sheet6!$P21=2,Sheet6!E21,IF(Sheet6!$P22=2,Sheet6!E22,\"\")))))","v":""},{"$f":"IF(Sheet6!$P18=2,Sheet6!F18,IF(Sheet6!$P19=2,Sheet6!F19,IF(Sheet6!$P20=2,Sheet6!F20,IF(Sheet6!$P21=2,Sheet6!F21,IF(Sheet6!$P22=2,Sheet6!F22,\"\")))))","v":""},{"$f":"IF(Sheet6!$P18=2,Sheet6!G18,IF(Sheet6!$P19=2,Sheet6!G19,IF(Sheet6!$P20=2,Sheet6!G20,IF(Sheet6!$P21=2,Sheet6!G21,IF(Sheet6!$P22=2,Sheet6!G22,\"\")))))","v":""},{"$f":"IF(Sheet6!$P18=2,Sheet6!H18,IF(Sheet6!$P19=2,Sheet6!H19,IF(Sheet6!$P20=2,Sheet6!H20,IF(Sheet6!$P21=2,Sheet6!H21,IF(Sheet6!$P22=2,Sheet6!H22,\"\")))))","v":""},{"$f":"IF(Sheet6!$P18=2,Sheet6!I18,IF(Sheet6!$P19=2,Sheet6!I19,IF(Sheet6!$P20=2,Sheet6!I20,IF(Sheet6!$P21=2,Sheet6!I21,IF(Sheet6!$P22=2,Sheet6!I22,\"\")))))","v":""},{"$f":"IF(Sheet6!$P18=2,Sheet6!J18,IF(Sheet6!$P19=2,Sheet6!J19,IF(Sheet6!$P20=2,Sheet6!J20,IF(Sheet6!$P21=2,Sheet6!J21,IF(Sheet6!$P22=2,Sheet6!J22,\"\")))))","v":""},{"$f":"IF(L12=\"\",\"\",IF(Sheet6!$P18=2,Sheet6!K18,IF(Sheet6!$P19=2,Sheet6!K19,IF(Sheet6!$P20=2,Sheet6!K20,IF(Sheet6!$P21=2,Sheet6!K21,IF(Sheet6!$P22=2,Sheet6!K22,\"\"))))))","v":""},"",{"$f":"IF(Sheet6!$P18=2,Sheet6!L18,IF(Sheet6!$P19=2,Sheet6!L19,IF(Sheet6!$P20=2,Sheet6!L20,IF(Sheet6!$P21=2,Sheet6!L21,IF(Sheet6!$P22=2,Sheet6!L22,\"\")))))","v":""},{"$f":"IF(Sheet6!$P18=2,Sheet6!M18,IF(Sheet6!$P19=2,Sheet6!M19,IF(Sheet6!$P20=2,Sheet6!M20,IF(Sheet6!$P21=2,Sheet6!M21,IF(Sheet6!$P22=2,Sheet6!M22,\"\")))))","v":""}]
[{"$f":"+'1階 計算表'!A27","v":"研修室"},{"$f":"IF(Sheet6!$O23=1,Sheet6!B23,IF(Sheet6!$O24=1,Sheet6!B24,IF(Sheet6!$O25=1,Sheet6!B25,IF(Sheet6!$O26=1,Sheet6!B26,IF(Sheet6!$O27=1,Sheet6!B27,\"\")))))","v":""},{"$f":"IF(Sheet6!$O23=1,Sheet6!C23,IF(Sheet6!$O24=1,Sheet6!C24,IF(Sheet6!$O25=1,Sheet6!C25,IF(Sheet6!$O26=1,Sheet6!C26,IF(Sheet6!$O27=1,Sheet6!C27,\"\")))))","v":""},{"$f":"IF(Sheet6!$O23=1,Sheet6!D23,IF(Sheet6!$O24=1,Sheet6!D24,IF(Sheet6!$O25=1,\"\",IF(Sheet6!$O26=1,\"\",IF(Sheet6!$O27=1,\"\",\"\")))))","v":""},{"$f":"IF(Sheet6!$O23=1,Sheet6!E23,IF(Sheet6!$O24=1,Sheet6!E24,IF(Sheet6!$O25=1,Sheet6!E25,IF(Sheet6!$O26=1,Sheet6!E26,IF(Sheet6!$O27=1,Sheet6!E27,\"\")))))","v":""},{"$f":"IF(Sheet6!$O23=1,Sheet6!F23,IF(Sheet6!$O24=1,Sheet6!F24,IF(Sheet6!$O25=1,Sheet6!F25,IF(Sheet6!$O26=1,Sheet6!F26,IF(Sheet6!$O27=1,Sheet6!F27,\"\")))))","v":""},{"$f":"IF(Sheet6!$O23=1,Sheet6!G23,IF(Sheet6!$O24=1,Sheet6!G24,IF(Sheet6!$O25=1,Sheet6!G25,IF(Sheet6!$O26=1,Sheet6!G26,IF(Sheet6!$O27=1,Sheet6!G27,\"\")))))","v":""},{"$f":"IF(Sheet6!$O23=1,Sheet6!H23,IF(Sheet6!$O24=1,Sheet6!H24,IF(Sheet6!$O25=1,Sheet6!H25,IF(Sheet6!$O26=1,Sheet6!H26,IF(Sheet6!$O27=1,Sheet6!H27,\"\")))))","v":""},{"$f":"IF(Sheet6!$O23=1,Sheet6!I23,IF(Sheet6!$O24=1,Sheet6!I24,IF(Sheet6!$O25=1,Sheet6!I25,IF(Sheet6!$O26=1,Sheet6!I26,IF(Sheet6!$O27=1,Sheet6!I27,\"\")))))","v":""},{"$f":"IF(Sheet6!$O23=1,Sheet6!J23,IF(Sheet6!$O24=1,Sheet6!J24,IF(Sheet6!$O25=1,Sheet6!J25,IF(Sheet6!$O26=1,Sheet6!J26,IF(Sheet6!$O27=1,Sheet6!J27,\"\")))))","v":""},{"$f":"IF(L13=\"\",\"\",IF(Sheet6!$O23=1,Sheet6!K23,IF(Sheet6!$O24=1,Sheet6!K24,IF(Sheet6!$O25=1,Sheet6!K25,IF(Sheet6!$O26=1,Sheet6!K26,IF(Sheet6!$O27=1,Sheet6!K27,\"\"))))))","v":""},"",{"$f":"IF(Sheet6!$O23=1,Sheet6!L23,IF(Sheet6!$O24=1,Sheet6!L24,IF(Sheet6!$O25=1,Sheet6!L25,IF(Sheet6!$O26=1,Sheet6!L26,IF(Sheet6!$O27=1,Sheet6!L27,\"\")))))","v":""},{"$f":"IF(Sheet6!$O23=1,Sheet6!M23,IF(Sheet6!$O24=1,Sheet6!M24,IF(Sheet6!$O25=1,Sheet6!M25,IF(Sheet6!$O26=1,Sheet6!M26,IF(Sheet6!$O27=1,Sheet6!M27,\"\")))))","v":""}]
[null,{"$f":"IF(Sheet6!$P24=2,Sheet6!B24,IF(Sheet6!$P25=2,Sheet6!B25,IF(Sheet6!$P26=2,Sheet6!B26,IF(Sheet6!$P27=2,Sheet6!B27,IF(Sheet6!$P28=2,Sheet6!B28,\"\")))))","v":""},{"$f":"IF(Sheet6!$P24=2,Sheet6!C24,IF(Sheet6!$P25=2,Sheet6!C25,IF(Sheet6!$P26=2,Sheet6!C26,IF(Sheet6!$P27=2,Sheet6!C27,IF(Sheet6!$P28=2,Sheet6!C28,\"\")))))","v":""},{"$f":"IF(Sheet6!$P24=2,Sheet6!D24,IF(Sheet6!$P25=2,\"\",IF(Sheet6!$P26=2,\"\",IF(Sheet6!$P27=2,\"\",IF(Sheet6!$P28=2,Sheet6!D28,\"\")))))","v":""},{"$f":"IF(Sheet6!$P24=2,Sheet6!E24,IF(Sheet6!$P25=2,Sheet6!E25,IF(Sheet6!$P26=2,Sheet6!E26,IF(Sheet6!$P27=2,Sheet6!E27,IF(Sheet6!$P28=2,Sheet6!E28,\"\")))))","v":""},{"$f":"IF(Sheet6!$P24=2,Sheet6!F24,IF(Sheet6!$P25=2,Sheet6!F25,IF(Sheet6!$P26=2,Sheet6!F26,IF(Sheet6!$P27=2,Sheet6!F27,IF(Sheet6!$P28=2,Sheet6!F28,\"\")))))","v":""},{"$f":"IF(Sheet6!$P24=2,Sheet6!G24,IF(Sheet6!$P25=2,Sheet6!G25,IF(Sheet6!$P26=2,Sheet6!G26,IF(Sheet6!$P27=2,Sheet6!G27,IF(Sheet6!$P28=2,Sheet6!G28,\"\")))))","v":""},{"$f":"IF(Sheet6!$P24=2,Sheet6!H24,IF(Sheet6!$P25=2,Sheet6!H25,IF(Sheet6!$P26=2,Sheet6!H26,IF(Sheet6!$P27=2,Sheet6!H27,IF(Sheet6!$P28=2,Sheet6!H28,\"\")))))","v":""},{"$f":"IF(Sheet6!$P24=2,Sheet6!I24,IF(Sheet6!$P25=2,Sheet6!I25,IF(Sheet6!$P26=2,Sheet6!I26,IF(Sheet6!$P27=2,Sheet6!I27,IF(Sheet6!$P28=2,Sheet6!I28,\"\")))))","v":""},{"$f":"IF(Sheet6!$P24=2,Sheet6!J24,IF(Sheet6!$P25=2,Sheet6!J25,IF(Sheet6!$P26=2,Sheet6!J26,IF(Sheet6!$P27=2,Sheet6!J27,IF(Sheet6!$P28=2,Sheet6!J28,\"\")))))","v":""},{"$f":"IF(L14=\"\",\"\",IF(Sheet6!$P24=2,Sheet6!K24,IF(Sheet6!$P25=2,Sheet6!K25,IF(Sheet6!$P26=2,Sheet6!K26,IF(Sheet6!$P27=2,Sheet6!K27,IF(Sheet6!$P28=2,Sheet6!K28,\"\"))))))","v":""},"",{"$f":"IF(Sheet6!$P24=2,Sheet6!L24,IF(Sheet6!$P25=2,Sheet6!L25,IF(Sheet6!$P26=2,Sheet6!L26,IF(Sheet6!$P27=2,Sheet6!L27,IF(Sheet6!$P28=2,Sheet6!L28,\"\")))))","v":""},{"$f":"IF(Sheet6!$P24=2,Sheet6!M24,IF(Sheet6!$P25=2,Sheet6!M25,IF(Sheet6!$P26=2,Sheet6!M26,IF(Sheet6!$P27=2,Sheet6!M27,IF(Sheet6!$P28=2,Sheet6!M28,\"\")))))","v":""}]
[{"$f":"+'1階 計算表'!A33","v":"ホワイエ"},{"$f":"IF(Sheet6!$O29=1,Sheet6!B29,IF(Sheet6!$O30=1,Sheet6!B30,IF(Sheet6!$O31=1,Sheet6!B31,IF(Sheet6!$O32=1,Sheet6!B32,IF(Sheet6!$O33=1,Sheet6!B33,\"\")))))","v":""},{"$f":"IF(Sheet6!$O29=1,Sheet6!C29,IF(Sheet6!$O30=1,Sheet6!C30,IF(Sheet6!$O31=1,Sheet6!C31,IF(Sheet6!$O32=1,Sheet6!C32,IF(Sheet6!$O33=1,Sheet6!C33,\"\")))))","v":""},{"$f":"IF(Sheet6!$O29=1,Sheet6!D29,IF(Sheet6!$O30=1,Sheet6!D30,IF(Sheet6!$O31=1,\"\",IF(Sheet6!$O32=1,\"\",IF(Sheet6!$O33=1,\"\",\"\")))))","v":""},{"$f":"IF(Sheet6!$O29=1,Sheet6!E29,IF(Sheet6!$O30=1,Sheet6!E30,IF(Sheet6!$O31=1,Sheet6!E31,IF(Sheet6!$O32=1,Sheet6!E32,IF(Sheet6!$O33=1,Sheet6!E33,\"\")))))","v":""},{"$f":"IF(Sheet6!$O29=1,Sheet6!F29,IF(Sheet6!$O30=1,Sheet6!F30,IF(Sheet6!$O31=1,Sheet6!F31,IF(Sheet6!$O32=1,Sheet6!F32,IF(Sheet6!$O33=1,Sheet6!F33,\"\")))))","v":""},{"$f":"IF(Sheet6!$O29=1,Sheet6!G29,IF(Sheet6!$O30=1,Sheet6!G30,IF(Sheet6!$O31=1,Sheet6!G31,IF(Sheet6!$O32=1,Sheet6!G32,IF(Sheet6!$O33=1,Sheet6!G33,\"\")))))","v":""},{"$f":"IF(Sheet6!$O29=1,Sheet6!H29,IF(Sheet6!$O30=1,Sheet6!H30,IF(Sheet6!$O31=1,Sheet6!H31,IF(Sheet6!$O32=1,Sheet6!H32,IF(Sheet6!$O33=1,Sheet6!H33,\"\")))))","v":""},{"$f":"IF(Sheet6!$O29=1,Sheet6!I29,IF(Sheet6!$O30=1,Sheet6!I30,IF(Sheet6!$O31=1,Sheet6!I31,IF(Sheet6!$O32=1,Sheet6!I32,IF(Sheet6!$O33=1,Sheet6!I33,\"\")))))","v":""},{"$f":"IF(Sheet6!$O29=1,Sheet6!J29,IF(Sheet6!$O30=1,Sheet6!J30,IF(Sheet6!$O31=1,Sheet6!J31,IF(Sheet6!$O32=1,Sheet6!J32,IF(Sheet6!$O33=1,Sheet6!J33,\"\")))))","v":""},{"$f":"IF(L15=\"\",\"\",IF(Sheet6!$O29=1,Sheet6!K29,IF(Sheet6!$O30=1,Sheet6!K30,IF(Sheet6!$O31=1,Sheet6!K31,IF(Sheet6!$O32=1,Sheet6!K32,IF(Sheet6!$O33=1,Sheet6!K33,\"\"))))))","v":""},"",{"$f":"IF(Sheet6!$O29=1,Sheet6!L29,IF(Sheet6!$O30=1,Sheet6!L30,IF(Sheet6!$O31=1,Sheet6!L31,IF(Sheet6!$O32=1,Sheet6!L32,IF(Sheet6!$O33=1,Sheet6!L33,\"\")))))","v":""},{"$f":"IF(Sheet6!$O29=1,Sheet6!M29,IF(Sheet6!$O30=1,Sheet6!M30,IF(Sheet6!$O31=1,Sheet6!M31,IF(Sheet6!$O32=1,Sheet6!M32,IF(Sheet6!$O33=1,Sheet6!M33,\"\")))))","v":""}]
[null,{"$f":"IF(Sheet6!$P30=2,Sheet6!B30,IF(Sheet6!$P31=2,Sheet6!B31,IF(Sheet6!$P32=2,Sheet6!B32,IF(Sheet6!$P33=2,Sheet6!B33,IF(Sheet6!$P34=2,Sheet6!B34,\"\")))))","v":""},{"$f":"IF(Sheet6!$P30=2,Sheet6!C30,IF(Sheet6!$P31=2,Sheet6!C31,IF(Sheet6!$P32=2,Sheet6!C32,IF(Sheet6!$P33=2,Sheet6!C33,IF(Sheet6!$P34=2,Sheet6!C34,\"\")))))","v":""},{"$f":"IF(Sheet6!$P30=2,Sheet6!D30,IF(Sheet6!$P31=2,\"\",IF(Sheet6!$P32=2,\"\",IF(Sheet6!$P33=2,\"\",IF(Sheet6!$P34=2,Sheet6!D34,\"\")))))","v":""},{"$f":"IF(Sheet6!$P30=2,Sheet6!E30,IF(Sheet6!$P31=2,Sheet6!E31,IF(Sheet6!$P32=2,Sheet6!E32,IF(Sheet6!$P33=2,Sheet6!E33,IF(Sheet6!$P34=2,Sheet6!E34,\"\")))))","v":""},{"$f":"IF(Sheet6!$P30=2,Sheet6!F30,IF(Sheet6!$P31=2,Sheet6!F31,IF(Sheet6!$P32=2,Sheet6!F32,IF(Sheet6!$P33=2,Sheet6!F33,IF(Sheet6!$P34=2,Sheet6!F34,\"\")))))","v":""},{"$f":"IF(Sheet6!$P30=2,Sheet6!G30,IF(Sheet6!$P31=2,Sheet6!G31,IF(Sheet6!$P32=2,Sheet6!G32,IF(Sheet6!$P33=2,Sheet6!G33,IF(Sheet6!$P34=2,Sheet6!G34,\"\")))))","v":""},{"$f":"IF(Sheet6!$P30=2,Sheet6!H30,IF(Sheet6!$P31=2,Sheet6!H31,IF(Sheet6!$P32=2,Sheet6!H32,IF(Sheet6!$P33=2,Sheet6!H33,IF(Sheet6!$P34=2,Sheet6!H34,\"\")))))","v":""},{"$f":"IF(Sheet6!$P30=2,Sheet6!I30,IF(Sheet6!$P31=2,Sheet6!I31,IF(Sheet6!$P32=2,Sheet6!I32,IF(Sheet6!$P33=2,Sheet6!I33,IF(Sheet6!$P34=2,Sheet6!I34,\"\")))))","v":""},{"$f":"IF(Sheet6!$P30=2,Sheet6!J30,IF(Sheet6!$P31=2,Sheet6!J31,IF(Sheet6!$P32=2,Sheet6!J32,IF(Sheet6!$P33=2,Sheet6!J33,IF(Sheet6!$P34=2,Sheet6!J34,\"\")))))","v":""},{"$f":"IF(L16=\"\",\"\",IF(Sheet6!$P30=2,Sheet6!K30,IF(Sheet6!$P31=2,Sheet6!K31,IF(Sheet6!$P32=2,Sheet6!K32,IF(Sheet6!$P33=2,Sheet6!K33,IF(Sheet6!$P34=2,Sheet6!K34,\"\"))))))","v":""},"",{"$f":"IF(Sheet6!$P30=2,Sheet6!L30,IF(Sheet6!$P31=2,Sheet6!L31,IF(Sheet6!$P32=2,Sheet6!L32,IF(Sheet6!$P33=2,Sheet6!L33,IF(Sheet6!$P34=2,Sheet6!L34,\"\")))))","v":""},{"$f":"IF(Sheet6!$P30=2,Sheet6!M30,IF(Sheet6!$P31=2,Sheet6!M31,IF(Sheet6!$P32=2,Sheet6!M32,IF(Sheet6!$P33=2,Sheet6!M33,IF(Sheet6!$P34=2,Sheet6!M34,\"\")))))","v":""}]
[{"$f":"+'1階 計算表'!A39","v":"コミュニケーションホール"},{"$f":"IF(Sheet6!$O35=1,Sheet6!B35,IF(Sheet6!$O36=1,Sheet6!B36,IF(Sheet6!$O37=1,Sheet6!B37,IF(Sheet6!$O38=1,Sheet6!B38,IF(Sheet6!$O39=1,Sheet6!B39,\"\")))))","v":""},{"$f":"IF(Sheet6!$O35=1,Sheet6!C35,IF(Sheet6!$O36=1,Sheet6!C36,IF(Sheet6!$O37=1,Sheet6!C37,IF(Sheet6!$O38=1,Sheet6!C38,IF(Sheet6!$O39=1,Sheet6!C39,\"\")))))","v":""},{"$f":"IF(Sheet6!$O35=1,Sheet6!D35,IF(Sheet6!$O36=1,Sheet6!D36,IF(Sheet6!$O37=1,\"\",IF(Sheet6!$O38=1,\"\",IF(Sheet6!$O39=1,\"\",\"\")))))","v":""},{"$f":"IF(Sheet6!$O35=1,Sheet6!E35,IF(Sheet6!$O36=1,Sheet6!E36,IF(Sheet6!$O37=1,Sheet6!E37,IF(Sheet6!$O38=1,Sheet6!E38,IF(Sheet6!$O39=1,Sheet6!E39,\"\")))))","v":""},{"$f":"IF(Sheet6!$O35=1,Sheet6!F35,IF(Sheet6!$O36=1,Sheet6!F36,IF(Sheet6!$O37=1,Sheet6!F37,IF(Sheet6!$O38=1,Sheet6!F38,IF(Sheet6!$O39=1,Sheet6!F39,\"\")))))","v":""},{"$f":"IF(Sheet6!$O35=1,Sheet6!G35,IF(Sheet6!$O36=1,Sheet6!G36,IF(Sheet6!$O37=1,Sheet6!G37,IF(Sheet6!$O38=1,Sheet6!G38,IF(Sheet6!$O39=1,Sheet6!G39,\"\")))))","v":""},{"$f":"IF(Sheet6!$O35=1,Sheet6!H35,IF(Sheet6!$O36=1,Sheet6!H36,IF(Sheet6!$O37=1,Sheet6!H37,IF(Sheet6!$O38=1,Sheet6!H38,IF(Sheet6!$O39=1,Sheet6!H39,\"\")))))","v":""},{"$f":"IF(Sheet6!$O35=1,Sheet6!I35,IF(Sheet6!$O36=1,Sheet6!I36,IF(Sheet6!$O37=1,Sheet6!I37,IF(Sheet6!$O38=1,Sheet6!I38,IF(Sheet6!$O39=1,Sheet6!I39,\"\")))))","v":""},{"$f":"IF(Sheet6!$O35=1,Sheet6!J35,IF(Sheet6!$O36=1,Sheet6!J36,IF(Sheet6!$O37=1,Sheet6!J37,IF(Sheet6!$O38=1,Sheet6!J38,IF(Sheet6!$O39=1,Sheet6!J39,\"\")))))","v":""},{"$f":"IF(L17=\"\",\"\",IF(Sheet6!$O35=1,Sheet6!K35,IF(Sheet6!$O36=1,Sheet6!K36,IF(Sheet6!$O37=1,Sheet6!K37,IF(Sheet6!$O38=1,Sheet6!K38,IF(Sheet6!$O39=1,Sheet6!K39,\"\"))))))","v":""},"",{"$f":"IF(Sheet6!$O35=1,Sheet6!L35,IF(Sheet6!$O36=1,Sheet6!L36,IF(Sheet6!$O37=1,Sheet6!L37,IF(Sheet6!$O38=1,Sheet6!L38,IF(Sheet6!$O39=1,Sheet6!L39,\"\")))))","v":""},{"$f":"IF(Sheet6!$O35=1,Sheet6!M35,IF(Sheet6!$O36=1,Sheet6!M36,IF(Sheet6!$O37=1,Sheet6!M37,IF(Sheet6!$O38=1,Sheet6!M38,IF(Sheet6!$O39=1,Sheet6!M39,\"\")))))","v":""}]
[null,{"$f":"IF(Sheet6!$P36=2,Sheet6!B36,IF(Sheet6!$P37=2,Sheet6!B37,IF(Sheet6!$P38=2,Sheet6!B38,IF(Sheet6!$P39=2,Sheet6!B39,IF(Sheet6!$P40=2,Sheet6!B40,\"\")))))","v":""},{"$f":"IF(Sheet6!$P36=2,Sheet6!C36,IF(Sheet6!$P37=2,Sheet6!C37,IF(Sheet6!$P38=2,Sheet6!C38,IF(Sheet6!$P39=2,Sheet6!C39,IF(Sheet6!$P40=2,Sheet6!C40,\"\")))))","v":""},{"$f":"IF(Sheet6!$P36=2,Sheet6!D36,IF(Sheet6!$P37=2,\"\",IF(Sheet6!$P38=2,\"\",IF(Sheet6!$P39=2,\"\",IF(Sheet6!$P40=2,Sheet6!D40,\"\")))))","v":""},{"$f":"IF(Sheet6!$P36=2,Sheet6!E36,IF(Sheet6!$P37=2,Sheet6!E37,IF(Sheet6!$P38=2,Sheet6!E38,IF(Sheet6!$P39=2,Sheet6!E39,IF(Sheet6!$P40=2,Sheet6!E40,\"\")))))","v":""},{"$f":"IF(Sheet6!$P36=2,Sheet6!F36,IF(Sheet6!$P37=2,Sheet6!F37,IF(Sheet6!$P38=2,Sheet6!F38,IF(Sheet6!$P39=2,Sheet6!F39,IF(Sheet6!$P40=2,Sheet6!F40,\"\")))))","v":""},{"$f":"IF(Sheet6!$P36=2,Sheet6!G36,IF(Sheet6!$P37=2,Sheet6!G37,IF(Sheet6!$P38=2,Sheet6!G38,IF(Sheet6!$P39=2,Sheet6!G39,IF(Sheet6!$P40=2,Sheet6!G40,\"\")))))","v":""},{"$f":"IF(Sheet6!$P36=2,Sheet6!H36,IF(Sheet6!$P37=2,Sheet6!H37,IF(Sheet6!$P38=2,Sheet6!H38,IF(Sheet6!$P39=2,Sheet6!H39,IF(Sheet6!$P40=2,Sheet6!H40,\"\")))))","v":""},{"$f":"IF(Sheet6!$P36=2,Sheet6!I36,IF(Sheet6!$P37=2,Sheet6!I37,IF(Sheet6!$P38=2,Sheet6!I38,IF(Sheet6!$P39=2,Sheet6!I39,IF(Sheet6!$P40=2,Sheet6!I40,\"\")))))","v":""},{"$f":"IF(Sheet6!$P36=2,Sheet6!J36,IF(Sheet6!$P37=2,Sheet6!J37,IF(Sheet6!$P38=2,Sheet6!J38,IF(Sheet6!$P39=2,Sheet6!J39,IF(Sheet6!$P40=2,Sheet6!J40,\"\")))))","v":""},{"$f":"IF(L18=\"\",\"\",IF(Sheet6!$P36=2,Sheet6!K36,IF(Sheet6!$P37=2,Sheet6!K37,IF(Sheet6!$P38=2,Sheet6!K38,IF(Sheet6!$P39=2,Sheet6!K39,IF(Sheet6!$P40=2,Sheet6!K40,\"\"))))))","v":""},"",{"$f":"IF(Sheet6!$P36=2,Sheet6!L36,IF(Sheet6!$P37=2,Sheet6!L37,IF(Sheet6!$P38=2,Sheet6!L38,IF(Sheet6!$P39=2,Sheet6!L39,IF(Sheet6!$P40=2,Sheet6!L40,\"\")))))","v":""},{"$f":"IF(Sheet6!$P36=2,Sheet6!M36,IF(Sheet6!$P37=2,Sheet6!M37,IF(Sheet6!$P38=2,Sheet6!M38,IF(Sheet6!$P39=2,Sheet6!M39,IF(Sheet6!$P40=2,Sheet6!M40,\"\")))))","v":""}]
[{"$f":"+'1階 計算表'!A45","v":"控室"},{"$f":"IF(Sheet6!$O41=1,Sheet6!B41,IF(Sheet6!$O42=1,Sheet6!B42,IF(Sheet6!$O43=1,Sheet6!B43,IF(Sheet6!$O44=1,Sheet6!B44,IF(Sheet6!$O45=1,Sheet6!B45,\"\")))))","v":""},{"$f":"IF(Sheet6!$O41=1,Sheet6!C41,IF(Sheet6!$O42=1,Sheet6!C42,IF(Sheet6!$O43=1,Sheet6!C43,IF(Sheet6!$O44=1,Sheet6!C44,IF(Sheet6!$O45=1,Sheet6!C45,\"\")))))","v":""},{"$f":"IF(Sheet6!$O41=1,Sheet6!D41,IF(Sheet6!$O42=1,Sheet6!D42,IF(Sheet6!$O43=1,\"\",IF(Sheet6!$O44=1,\"\",IF(Sheet6!$O45=1,\"\",\"\")))))","v":""},{"$f":"IF(Sheet6!$O41=1,Sheet6!E41,IF(Sheet6!$O42=1,Sheet6!E42,IF(Sheet6!$O43=1,Sheet6!E43,IF(Sheet6!$O44=1,Sheet6!E44,IF(Sheet6!$O45=1,Sheet6!E45,\"\")))))","v":""},{"$f":"IF(Sheet6!$O41=1,Sheet6!F41,IF(Sheet6!$O42=1,Sheet6!F42,IF(Sheet6!$O43=1,Sheet6!F43,IF(Sheet6!$O44=1,Sheet6!F44,IF(Sheet6!$O45=1,Sheet6!F45,\"\")))))","v":""},{"$f":"IF(Sheet6!$O41=1,Sheet6!G41,IF(Sheet6!$O42=1,Sheet6!G42,IF(Sheet6!$O43=1,Sheet6!G43,IF(Sheet6!$O44=1,Sheet6!G44,IF(Sheet6!$O45=1,Sheet6!G45,\"\")))))","v":""},{"$f":"IF(Sheet6!$O41=1,Sheet6!H41,IF(Sheet6!$O42=1,Sheet6!H42,IF(Sheet6!$O43=1,Sheet6!H43,IF(Sheet6!$O44=1,Sheet6!H44,IF(Sheet6!$O45=1,Sheet6!H45,\"\")))))","v":""},{"$f":"IF(Sheet6!$O41=1,Sheet6!I41,IF(Sheet6!$O42=1,Sheet6!I42,IF(Sheet6!$O43=1,Sheet6!I43,IF(Sheet6!$O44=1,Sheet6!I44,IF(Sheet6!$O45=1,Sheet6!I45,\"\")))))","v":""},{"$f":"IF(Sheet6!$O41=1,Sheet6!J41,IF(Sheet6!$O42=1,Sheet6!J42,IF(Sheet6!$O43=1,Sheet6!J43,IF(Sheet6!$O44=1,Sheet6!J44,IF(Sheet6!$O45=1,Sheet6!J45,\"\")))))","v":""},{"$f":"IF(L19=\"\",\"\",IF(Sheet6!$O41=1,Sheet6!K41,IF(Sheet6!$O42=1,Sheet6!K42,IF(Sheet6!$O43=1,Sheet6!K43,IF(Sheet6!$O44=1,Sheet6!K44,IF(Sheet6!$O45=1,Sheet6!K45,\"\"))))))","v":""},"",{"$f":"IF(Sheet6!$O41=1,Sheet6!L41,IF(Sheet6!$O42=1,Sheet6!L42,IF(Sheet6!$O43=1,Sheet6!L43,IF(Sheet6!$O44=1,Sheet6!L44,IF(Sheet6!$O45=1,Sheet6!L45,\"\")))))","v":""},{"$f":"IF(Sheet6!$O41=1,Sheet6!M41,IF(Sheet6!$O42=1,Sheet6!M42,IF(Sheet6!$O43=1,Sheet6!M43,IF(Sheet6!$O44=1,Sheet6!M44,IF(Sheet6!$O45=1,Sheet6!M45,\"\")))))","v":""}]
[null,{"$f":"IF(Sheet6!$P42=2,Sheet6!B42,IF(Sheet6!$P43=2,Sheet6!B43,IF(Sheet6!$P44=2,Sheet6!B44,IF(Sheet6!$P45=2,Sheet6!B45,IF(Sheet6!$P46=2,Sheet6!B46,\"\")))))","v":""},{"$f":"IF(Sheet6!$P42=2,Sheet6!C42,IF(Sheet6!$P43=2,Sheet6!C43,IF(Sheet6!$P44=2,Sheet6!C44,IF(Sheet6!$P45=2,Sheet6!C45,IF(Sheet6!$P46=2,Sheet6!C46,\"\")))))","v":""},{"$f":"IF(Sheet6!$P42=2,Sheet6!D42,IF(Sheet6!$P43=2,\"\",IF(Sheet6!$P44=2,\"\",IF(Sheet6!$P45=2,\"\",IF(Sheet6!$P46=2,Sheet6!D46,\"\")))))","v":""},{"$f":"IF(Sheet6!$P42=2,Sheet6!E42,IF(Sheet6!$P43=2,Sheet6!E43,IF(Sheet6!$P44=2,Sheet6!E44,IF(Sheet6!$P45=2,Sheet6!E45,IF(Sheet6!$P46=2,Sheet6!E46,\"\")))))","v":""},{"$f":"IF(Sheet6!$P42=2,Sheet6!F42,IF(Sheet6!$P43=2,Sheet6!F43,IF(Sheet6!$P44=2,Sheet6!F44,IF(Sheet6!$P45=2,Sheet6!F45,IF(Sheet6!$P46=2,Sheet6!F46,\"\")))))","v":""},{"$f":"IF(Sheet6!$P42=2,Sheet6!G42,IF(Sheet6!$P43=2,Sheet6!G43,IF(Sheet6!$P44=2,Sheet6!G44,IF(Sheet6!$P45=2,Sheet6!G45,IF(Sheet6!$P46=2,Sheet6!G46,\"\")))))","v":""},{"$f":"IF(Sheet6!$P42=2,Sheet6!H42,IF(Sheet6!$P43=2,Sheet6!H43,IF(Sheet6!$P44=2,Sheet6!H44,IF(Sheet6!$P45=2,Sheet6!H45,IF(Sheet6!$P46=2,Sheet6!H46,\"\")))))","v":""},{"$f":"IF(Sheet6!$P42=2,Sheet6!I42,IF(Sheet6!$P43=2,Sheet6!I43,IF(Sheet6!$P44=2,Sheet6!I44,IF(Sheet6!$P45=2,Sheet6!I45,IF(Sheet6!$P46=2,Sheet6!I46,\"\")))))","v":""},{"$f":"IF(Sheet6!$P42=2,Sheet6!J42,IF(Sheet6!$P43=2,Sheet6!J43,IF(Sheet6!$P44=2,Sheet6!J44,IF(Sheet6!$P45=2,Sheet6!J45,IF(Sheet6!$P46=2,Sheet6!J46,\"\")))))","v":""},{"$f":"IF(L20=\"\",\"\",IF(Sheet6!$P42=2,Sheet6!K42,IF(Sheet6!$P43=2,Sheet6!K43,IF(Sheet6!$P44=2,Sheet6!K44,IF(Sheet6!$P45=2,Sheet6!K45,IF(Sheet6!$P46=2,Sheet6!K46,\"\"))))))","v":""},"",{"$f":"IF(Sheet6!$P42=2,Sheet6!L42,IF(Sheet6!$P43=2,Sheet6!L43,IF(Sheet6!$P44=2,Sheet6!L44,IF(Sheet6!$P45=2,Sheet6!L45,IF(Sheet6!$P46=2,Sheet6!L46,\"\")))))","v":""},{"$f":"IF(Sheet6!$P42=2,Sheet6!M42,IF(Sheet6!$P43=2,Sheet6!M43,IF(Sheet6!$P44=2,Sheet6!M44,IF(Sheet6!$P45=2,Sheet6!M45,IF(Sheet6!$P46=2,Sheet6!M46,\"\")))))","v":""}]
[{"$f":"+'1階 計算表'!A51","v":"小会議室"},{"$f":"IF(Sheet6!$O47=1,Sheet6!B47,IF(Sheet6!$O48=1,Sheet6!B48,IF(Sheet6!$O49=1,Sheet6!B49,IF(Sheet6!$O50=1,Sheet6!B50,IF(Sheet6!$O51=1,Sheet6!B51,\"\")))))","v":""},{"$f":"IF(Sheet6!$O47=1,Sheet6!C47,IF(Sheet6!$O48=1,Sheet6!C48,IF(Sheet6!$O49=1,Sheet6!C49,IF(Sheet6!$O50=1,Sheet6!C50,IF(Sheet6!$O51=1,Sheet6!C51,\"\")))))","v":""},{"$f":"IF(Sheet6!$O47=1,Sheet6!D47,IF(Sheet6!$O48=1,Sheet6!D48,IF(Sheet6!$O49=1,\"\",IF(Sheet6!$O50=1,\"\",IF(Sheet6!$O51=1,\"\",\"\")))))","v":""},{"$f":"IF(Sheet6!$O47=1,Sheet6!E47,IF(Sheet6!$O48=1,Sheet6!E48,IF(Sheet6!$O49=1,Sheet6!E49,IF(Sheet6!$O50=1,Sheet6!E50,IF(Sheet6!$O51=1,Sheet6!E51,\"\")))))","v":""},{"$f":"IF(Sheet6!$O47=1,Sheet6!F47,IF(Sheet6!$O48=1,Sheet6!F48,IF(Sheet6!$O49=1,Sheet6!F49,IF(Sheet6!$O50=1,Sheet6!F50,IF(Sheet6!$O51=1,Sheet6!F51,\"\")))))","v":""},{"$f":"IF(Sheet6!$O47=1,Sheet6!G47,IF(Sheet6!$O48=1,Sheet6!G48,IF(Sheet6!$O49=1,Sheet6!G49,IF(Sheet6!$O50=1,Sheet6!G50,IF(Sheet6!$O51=1,Sheet6!G51,\"\")))))","v":""},{"$f":"IF(Sheet6!$O47=1,Sheet6!H47,IF(Sheet6!$O48=1,Sheet6!H48,IF(Sheet6!$O49=1,Sheet6!H49,IF(Sheet6!$O50=1,Sheet6!H50,IF(Sheet6!$O51=1,Sheet6!H51,\"\")))))","v":""},{"$f":"IF(Sheet6!$O47=1,Sheet6!I47,IF(Sheet6!$O48=1,Sheet6!I48,IF(Sheet6!$O49=1,Sheet6!I49,IF(Sheet6!$O50=1,Sheet6!I50,IF(Sheet6!$O51=1,Sheet6!I51,\"\")))))","v":""},{"$f":"IF(Sheet6!$O47=1,Sheet6!J47,IF(Sheet6!$O48=1,Sheet6!J48,IF(Sheet6!$O49=1,Sheet6!J49,IF(Sheet6!$O50=1,Sheet6!J50,IF(Sheet6!$O51=1,Sheet6!J51,\"\")))))","v":""},{"$f":"IF(L21=\"\",\"\",IF(Sheet6!$O47=1,Sheet6!K47,IF(Sheet6!$O48=1,Sheet6!K48,IF(Sheet6!$O49=1,Sheet6!K49,IF(Sheet6!$O50=1,Sheet6!K50,IF(Sheet6!$O51=1,Sheet6!K51,\"\"))))))","v":""},"",{"$f":"IF(Sheet6!$O47=1,Sheet6!L47,IF(Sheet6!$O48=1,Sheet6!L48,IF(Sheet6!$O49=1,Sheet6!L49,IF(Sheet6!$O50=1,Sheet6!L50,IF(Sheet6!$O51=1,Sheet6!L51,\"\")))))","v":""},{"$f":"IF(Sheet6!$O47=1,Sheet6!M47,IF(Sheet6!$O48=1,Sheet6!M48,IF(Sheet6!$O49=1,Sheet6!M49,IF(Sheet6!$O50=1,Sheet6!M50,IF(Sheet6!$O51=1,Sheet6!M51,\"\")))))","v":""}]
[null,{"$f":"IF(Sheet6!$P48=2,Sheet6!B48,IF(Sheet6!$P49=2,Sheet6!B49,IF(Sheet6!$P50=2,Sheet6!B50,IF(Sheet6!$P51=2,Sheet6!B51,IF(Sheet6!$P52=2,Sheet6!B52,\"\")))))","v":""},{"$f":"IF(Sheet6!$P48=2,Sheet6!C48,IF(Sheet6!$P49=2,Sheet6!C49,IF(Sheet6!$P50=2,Sheet6!C50,IF(Sheet6!$P51=2,Sheet6!C51,IF(Sheet6!$P52=2,Sheet6!C52,\"\")))))","v":""},{"$f":"IF(Sheet6!$P48=2,Sheet6!D48,IF(Sheet6!$P49=2,\"\",IF(Sheet6!$P50=2,\"\",IF(Sheet6!$P51=2,\"\",IF(Sheet6!$P52=2,Sheet6!D52,\"\")))))","v":""},{"$f":"IF(Sheet6!$P48=2,Sheet6!E48,IF(Sheet6!$P49=2,Sheet6!E49,IF(Sheet6!$P50=2,Sheet6!E50,IF(Sheet6!$P51=2,Sheet6!E51,IF(Sheet6!$P52=2,Sheet6!E52,\"\")))))","v":""},{"$f":"IF(Sheet6!$P48=2,Sheet6!F48,IF(Sheet6!$P49=2,Sheet6!F49,IF(Sheet6!$P50=2,Sheet6!F50,IF(Sheet6!$P51=2,Sheet6!F51,IF(Sheet6!$P52=2,Sheet6!F52,\"\")))))","v":""},{"$f":"IF(Sheet6!$P48=2,Sheet6!G48,IF(Sheet6!$P49=2,Sheet6!G49,IF(Sheet6!$P50=2,Sheet6!G50,IF(Sheet6!$P51=2,Sheet6!G51,IF(Sheet6!$P52=2,Sheet6!G52,\"\")))))","v":""},{"$f":"IF(Sheet6!$P48=2,Sheet6!H48,IF(Sheet6!$P49=2,Sheet6!H49,IF(Sheet6!$P50=2,Sheet6!H50,IF(Sheet6!$P51=2,Sheet6!H51,IF(Sheet6!$P52=2,Sheet6!H52,\"\")))))","v":""},{"$f":"IF(Sheet6!$P48=2,Sheet6!I48,IF(Sheet6!$P49=2,Sheet6!I49,IF(Sheet6!$P50=2,Sheet6!I50,IF(Sheet6!$P51=2,Sheet6!I51,IF(Sheet6!$P52=2,Sheet6!I52,\"\")))))","v":""},{"$f":"IF(Sheet6!$P48=2,Sheet6!J48,IF(Sheet6!$P49=2,Sheet6!J49,IF(Sheet6!$P50=2,Sheet6!J50,IF(Sheet6!$P51=2,Sheet6!J51,IF(Sheet6!$P52=2,Sheet6!J52,\"\")))))","v":""},{"$f":"IF(L22=\"\",\"\",IF(Sheet6!$P48=2,Sheet6!K48,IF(Sheet6!$P49=2,Sheet6!K49,IF(Sheet6!$P50=2,Sheet6!K50,IF(Sheet6!$P51=2,Sheet6!K51,IF(Sheet6!$P52=2,Sheet6!K52,\"\"))))))","v":""},"",{"$f":"IF(Sheet6!$P48=2,Sheet6!L48,IF(Sheet6!$P49=2,Sheet6!L49,IF(Sheet6!$P50=2,Sheet6!L50,IF(Sheet6!$P51=2,Sheet6!L51,IF(Sheet6!$P52=2,Sheet6!L52,\"\")))))","v":""},{"$f":"IF(Sheet6!$P48=2,Sheet6!M48,IF(Sheet6!$P49=2,Sheet6!M49,IF(Sheet6!$P50=2,Sheet6!M50,IF(Sheet6!$P51=2,Sheet6!M51,IF(Sheet6!$P52=2,Sheet6!M52,\"\")))))","v":""}]
[{"$f":"+'1階 計算表'!A57","v":"住民相談室"},{"$f":"IF(Sheet6!$O53=1,Sheet6!B53,IF(Sheet6!$O54=1,Sheet6!B54,IF(Sheet6!$O55=1,Sheet6!B55,IF(Sheet6!$O56=1,Sheet6!B56,IF(Sheet6!$O57=1,Sheet6!B57,\"\")))))","v":""},{"$f":"IF(Sheet6!$O53=1,Sheet6!C53,IF(Sheet6!$O54=1,Sheet6!C54,IF(Sheet6!$O55=1,Sheet6!C55,IF(Sheet6!$O56=1,Sheet6!C56,IF(Sheet6!$O57=1,Sheet6!C57,\"\")))))","v":""},{"$f":"IF(Sheet6!$O53=1,Sheet6!D53,IF(Sheet6!$O54=1,Sheet6!D54,IF(Sheet6!$O55=1,\"\",IF(Sheet6!$O56=1,\"\",IF(Sheet6!$O57=1,\"\",\"\")))))","v":""},{"$f":"IF(Sheet6!$O53=1,Sheet6!E53,IF(Sheet6!$O54=1,Sheet6!E54,IF(Sheet6!$O55=1,Sheet6!E55,IF(Sheet6!$O56=1,Sheet6!E56,IF(Sheet6!$O57=1,Sheet6!E57,\"\")))))","v":""},{"$f":"IF(Sheet6!$O53=1,Sheet6!F53,IF(Sheet6!$O54=1,Sheet6!F54,IF(Sheet6!$O55=1,Sheet6!F55,IF(Sheet6!$O56=1,Sheet6!F56,IF(Sheet6!$O57=1,Sheet6!F57,\"\")))))","v":""},{"$f":"IF(Sheet6!$O53=1,Sheet6!G53,IF(Sheet6!$O54=1,Sheet6!G54,IF(Sheet6!$O55=1,Sheet6!G55,IF(Sheet6!$O56=1,Sheet6!G56,IF(Sheet6!$O57=1,Sheet6!G57,\"\")))))","v":""},{"$f":"IF(Sheet6!$O53=1,Sheet6!H53,IF(Sheet6!$O54=1,Sheet6!H54,IF(Sheet6!$O55=1,Sheet6!H55,IF(Sheet6!$O56=1,Sheet6!H56,IF(Sheet6!$O57=1,Sheet6!H57,\"\")))))","v":""},{"$f":"IF(Sheet6!$O53=1,Sheet6!I53,IF(Sheet6!$O54=1,Sheet6!I54,IF(Sheet6!$O55=1,Sheet6!I55,IF(Sheet6!$O56=1,Sheet6!I56,IF(Sheet6!$O57=1,Sheet6!I57,\"\")))))","v":""},{"$f":"IF(Sheet6!$O53=1,Sheet6!J53,IF(Sheet6!$O54=1,Sheet6!J54,IF(Sheet6!$O55=1,Sheet6!J55,IF(Sheet6!$O56=1,Sheet6!J56,IF(Sheet6!$O57=1,Sheet6!J57,\"\")))))","v":""},{"$f":"IF(L23=\"\",\"\",IF(Sheet6!$O53=1,Sheet6!K53,IF(Sheet6!$O54=1,Sheet6!K54,IF(Sheet6!$O55=1,Sheet6!K55,IF(Sheet6!$O56=1,Sheet6!K56,IF(Sheet6!$O57=1,Sheet6!K57,\"\"))))))","v":""},"",{"$f":"IF(Sheet6!$O53=1,Sheet6!L53,IF(Sheet6!$O54=1,Sheet6!L54,IF(Sheet6!$O55=1,Sheet6!L55,IF(Sheet6!$O56=1,Sheet6!L56,IF(Sheet6!$O57=1,Sheet6!L57,\"\")))))","v":""},{"$f":"IF(Sheet6!$O53=1,Sheet6!M53,IF(Sheet6!$O54=1,Sheet6!M54,IF(Sheet6!$O55=1,Sheet6!M55,IF(Sheet6!$O56=1,Sheet6!M56,IF(Sheet6!$O57=1,Sheet6!M57,\"\")))))","v":""}]
[null,{"$f":"IF(Sheet6!$P54=2,Sheet6!B54,IF(Sheet6!$P55=2,Sheet6!B55,IF(Sheet6!$P56=2,Sheet6!B56,IF(Sheet6!$P57=2,Sheet6!B57,IF(Sheet6!$P58=2,Sheet6!B58,\"\")))))","v":""},{"$f":"IF(Sheet6!$P54=2,Sheet6!C54,IF(Sheet6!$P55=2,Sheet6!C55,IF(Sheet6!$P56=2,Sheet6!C56,IF(Sheet6!$P57=2,Sheet6!C57,IF(Sheet6!$P58=2,Sheet6!C58,\"\")))))","v":""},{"$f":"IF(Sheet6!$P54=2,Sheet6!D54,IF(Sheet6!$P55=2,\"\",IF(Sheet6!$P56=2,\"\",IF(Sheet6!$P57=2,\"\",IF(Sheet6!$P58=2,Sheet6!D58,\"\")))))","v":""},{"$f":"IF(Sheet6!$P54=2,Sheet6!E54,IF(Sheet6!$P55=2,Sheet6!E55,IF(Sheet6!$P56=2,Sheet6!E56,IF(Sheet6!$P57=2,Sheet6!E57,IF(Sheet6!$P58=2,Sheet6!E58,\"\")))))","v":""},{"$f":"IF(Sheet6!$P54=2,Sheet6!F54,IF(Sheet6!$P55=2,Sheet6!F55,IF(Sheet6!$P56=2,Sheet6!F56,IF(Sheet6!$P57=2,Sheet6!F57,IF(Sheet6!$P58=2,Sheet6!F58,\"\")))))","v":""},{"$f":"IF(Sheet6!$P54=2,Sheet6!G54,IF(Sheet6!$P55=2,Sheet6!G55,IF(Sheet6!$P56=2,Sheet6!G56,IF(Sheet6!$P57=2,Sheet6!G57,IF(Sheet6!$P58=2,Sheet6!G58,\"\")))))","v":""},{"$f":"IF(Sheet6!$P54=2,Sheet6!H54,IF(Sheet6!$P55=2,Sheet6!H55,IF(Sheet6!$P56=2,Sheet6!H56,IF(Sheet6!$P57=2,Sheet6!H57,IF(Sheet6!$P58=2,Sheet6!H58,\"\")))))","v":""},{"$f":"IF(Sheet6!$P54=2,Sheet6!I54,IF(Sheet6!$P55=2,Sheet6!I55,IF(Sheet6!$P56=2,Sheet6!I56,IF(Sheet6!$P57=2,Sheet6!I57,IF(Sheet6!$P58=2,Sheet6!I58,\"\")))))","v":""},{"$f":"IF(Sheet6!$P54=2,Sheet6!J54,IF(Sheet6!$P55=2,Sheet6!J55,IF(Sheet6!$P56=2,Sheet6!J56,IF(Sheet6!$P57=2,Sheet6!J57,IF(Sheet6!$P58=2,Sheet6!J58,\"\")))))","v":""},{"$f":"IF(L24=\"\",\"\",IF(Sheet6!$P54=2,Sheet6!K54,IF(Sheet6!$P55=2,Sheet6!K55,IF(Sheet6!$P56=2,Sheet6!K56,IF(Sheet6!$P57=2,Sheet6!K57,IF(Sheet6!$P58=2,Sheet6!K58,\"\"))))))","v":""},"",{"$f":"IF(Sheet6!$P54=2,Sheet6!L54,IF(Sheet6!$P55=2,Sheet6!L55,IF(Sheet6!$P56=2,Sheet6!L56,IF(Sheet6!$P57=2,Sheet6!L57,IF(Sheet6!$P58=2,Sheet6!L58,\"\")))))","v":""},{"$f":"IF(Sheet6!$P54=2,Sheet6!M54,IF(Sheet6!$P55=2,Sheet6!M55,IF(Sheet6!$P56=2,Sheet6!M56,IF(Sheet6!$P57=2,Sheet6!M57,IF(Sheet6!$P58=2,Sheet6!M58,\"\")))))","v":""}]
[null,null,null,null,null,null,null,null,null,null,null,"１階","合計",{"$f":"SUM(N5:N24)","v":0}]
[]
[{"$f":"IF('2階 計算表'!F3=\"\",\"\",\"営利目的\")","v":""},null,null,null,null,null,null,null,null,null,null,{"$f":"IF(B27=\"\",\"\",IF(B27=\"午前午後\",\"\",IF(B27=\"午後夜間\",\"\",IF(B27=\"終日\",\"\",\"時間\"))))","v":""}]
["２階",null,"区分","使用時間",null,null,null,null,null,null,null,null,"単価","料金"]
[{"$f":"+'2階 計算表'!A7","v":"集会室"},{"$f":"IF(Sheet6!$AE3=1,Sheet6!R3,IF(Sheet6!$AE4=1,Sheet6!R4,IF(Sheet6!$AE5=1,Sheet6!R5,IF(Sheet6!$AE6=1,Sheet6!R6,IF(Sheet6!$AE7=1,Sheet6!R7,\"\")))))","v":""},{"$f":"IF(Sheet6!$AE3=1,Sheet6!S3,IF(Sheet6!$AE4=1,Sheet6!S4,IF(Sheet6!$AE5=1,Sheet6!S5,IF(Sheet6!$AE6=1,Sheet6!S6,IF(Sheet6!$AE7=1,Sheet6!S7,\"\")))))","v":""},{"$f":"IF(Sheet6!$AE3=1,Sheet6!T3,IF(Sheet6!$AE4=1,Sheet6!T4,IF(Sheet6!$AE5=1,\"\",IF(Sheet6!$AE6=1,\"\",IF(Sheet6!$AE7=1,\"\",\"\")))))","v":""},{"$f":"IF(Sheet6!$AE3=1,Sheet6!U3,IF(Sheet6!$AE4=1,Sheet6!U4,IF(Sheet6!$AE5=1,Sheet6!U5,IF(Sheet6!$AE6=1,Sheet6!U6,IF(Sheet6!$AE7=1,Sheet6!U7,\"\")))))","v":""},{"$f":"IF(Sheet6!$AE3=1,Sheet6!V3,IF(Sheet6!$AE4=1,Sheet6!V4,IF(Sheet6!$AE5=1,Sheet6!V5,IF(Sheet6!$AE6=1,Sheet6!V6,IF(Sheet6!$AE7=1,Sheet6!V7,\"\")))))","v":""},{"$f":"IF(Sheet6!$AE3=1,Sheet6!W3,IF(Sheet6!$AE4=1,Sheet6!W4,IF(Sheet6!$AE5=1,Sheet6!W5,IF(Sheet6!$AE6=1,Sheet6!W6,IF(Sheet6!$AE7=1,Sheet6!W7,\"\")))))","v":""},{"$f":"IF(Sheet6!$AE3=1,Sheet6!X3,IF(Sheet6!$AE4=1,Sheet6!X4,IF(Sheet6!$AE5=1,Sheet6!X5,IF(Sheet6!$AE6=1,Sheet6!X6,IF(Sheet6!$AE7=1,Sheet6!X7,\"\")))))","v":""},{"$f":"IF(Sheet6!$AE3=1,Sheet6!Y3,IF(Sheet6!$AE4=1,Sheet6!Y4,IF(Sheet6!$AE5=1,Sheet6!Y5,IF(Sheet6!$AE6=1,Sheet6!Y6,IF(Sheet6!$AE7=1,Sheet6!Y7,\"\")))))","v":""},{"$f":"IF(Sheet6!$AE3=1,Sheet6!Z3,IF(Sheet6!$AE4=1,Sheet6!Z4,IF(Sheet6!$AE5=1,Sheet6!Z5,IF(Sheet6!$AE6=1,Sheet6!Z6,IF(Sheet6!$AE7=1,Sheet6!Z7,\"\")))))","v":""},{"$f":"IF(L29=\"\",\"\",IF(Sheet6!$AE3=1,Sheet6!AA3,IF(Sheet6!$AE4=1,Sheet6!AA4,IF(Sheet6!$AE5=1,Sheet6!AA5,IF(Sheet6!$AE6=1,Sheet6!AA6,IF(Sheet6!$AE7=1,Sheet6!AA7,\"\"))))))","v":""},{"$f":"IF(B29=\"\",\"\",IF(B29=\"午前午後\",\"\",IF(B29=\"午後夜間\",\"\",IF(B29=\"終　　日\",\"\",\"時間\"))))","v":""},{"$f":"IF(Sheet6!$AE3=1,Sheet6!AB3,IF(Sheet6!$AE4=1,Sheet6!AB4,IF(Sheet6!$AE5=1,Sheet6!AB5,IF(Sheet6!$AE6=1,Sheet6!AB6,IF(Sheet6!$AE7=1,Sheet6!AB7,\"\")))))","v":""},{"$f":"IF(Sheet6!$AE3=1,Sheet6!AC3,IF(Sheet6!$AE4=1,Sheet6!AC4,IF(Sheet6!$AE5=1,Sheet6!AC5,IF(Sheet6!$AE6=1,Sheet6!AC6,IF(Sheet6!$AE7=1,Sheet6!AC7,\"\")))))","v":""}]
[null,{"$f":"IF(Sheet6!$AF4=2,Sheet6!R4,IF(Sheet6!$AF5=2,Sheet6!R5,IF(Sheet6!$AF6=2,Sheet6!R6,IF(Sheet6!$AF7=2,Sheet6!R7,IF(Sheet6!$AF8=2,Sheet6!R8,\"\")))))","v":""},{"$f":"IF(Sheet6!$AF4=2,Sheet6!S4,IF(Sheet6!$AF5=2,Sheet6!S5,IF(Sheet6!$AF6=2,Sheet6!S6,IF(Sheet6!$AF7=2,Sheet6!S7,IF(Sheet6!$AF8=2,Sheet6!S8,\"\")))))","v":""},{"$f":"IF(Sheet6!$AF4=2,Sheet6!T4,IF(Sheet6!$AF5=2,\"\",IF(Sheet6!$AF6=2,\"\",IF(Sheet6!$AF7=2,\"\",IF(Sheet6!$AF8=2,Sheet6!T8,\"\")))))","v":""},{"$f":"IF(Sheet6!$AF4=2,Sheet6!U4,IF(Sheet6!$AF5=2,Sheet6!U5,IF(Sheet6!$AF6=2,Sheet6!U6,IF(Sheet6!$AF7=2,Sheet6!U7,IF(Sheet6!$AF8=2,Sheet6!U8,\"\")))))","v":""},{"$f":"IF(Sheet6!$AF4=2,Sheet6!V4,IF(Sheet6!$AF5=2,Sheet6!V5,IF(Sheet6!$AF6=2,Sheet6!V6,IF(Sheet6!$AF7=2,Sheet6!V7,IF(Sheet6!$AF8=2,Sheet6!V8,\"\")))))","v":""},{"$f":"IF(Sheet6!$AF4=2,Sheet6!W4,IF(Sheet6!$AF5=2,Sheet6!W5,IF(Sheet6!$AF6=2,Sheet6!W6,IF(Sheet6!$AF7=2,Sheet6!W7,IF(Sheet6!$AF8=2,Sheet6!W8,\"\")))))","v":""},{"$f":"IF(Sheet6!$AF4=2,Sheet6!X4,IF(Sheet6!$AF5=2,Sheet6!X5,IF(Sheet6!$AF6=2,Sheet6!X6,IF(Sheet6!$AF7=2,Sheet6!X7,IF(Sheet6!$AF8=2,Sheet6!X8,\"\")))))","v":""},{"$f":"IF(Sheet6!$AF4=2,Sheet6!Y4,IF(Sheet6!$AF5=2,Sheet6!Y5,IF(Sheet6!$AF6=2,Sheet6!Y6,IF(Sheet6!$AF7=2,Sheet6!Y7,IF(Sheet6!$AF8=2,Sheet6!Y8,\"\")))))","v":""},{"$f":"IF(Sheet6!$AF4=2,Sheet6!Z4,IF(Sheet6!$AF5=2,Sheet6!Z5,IF(Sheet6!$AF6=2,Sheet6!Z6,IF(Sheet6!$AF7=2,Sheet6!Z7,IF(Sheet6!$AF8=2,Sheet6!Z8,\"\")))))","v":""},{"$f":"IF(L30=\"\",\"\",IF(Sheet6!$AF4=2,Sheet6!AA4,IF(Sheet6!$AF5=2,Sheet6!AA5,IF(Sheet6!$AF6=2,Sheet6!AA6,IF(Sheet6!$AF7=2,Sheet6!AA7,IF(Sheet6!$AF8=2,Sheet6!AA8,\"\"))))))","v":""},{"$f":"IF(B30=\"\",\"\",IF(B30=\"午前午後\",\"\",IF(B30=\"午後夜間\",\"\",IF(B30=\"終　　日\",\"\",\"時間\"))))","v":""},{"$f":"IF(Sheet6!$AF4=2,Sheet6!AB4,IF(Sheet6!$AF5=2,Sheet6!AB5,IF(Sheet6!$AF6=2,Sheet6!AB6,IF(Sheet6!$AF7=2,Sheet6!AB7,IF(Sheet6!$AF8=2,Sheet6!AB8,\"\")))))","v":""},{"$f":"IF(Sheet6!$AF4=2,Sheet6!AC4,IF(Sheet6!$AF5=2,Sheet6!AC5,IF(Sheet6!$AF6=2,Sheet6!AC6,IF(Sheet6!$AF7=2,Sheet6!AC7,IF(Sheet6!$AF8=2,Sheet6!AC8,\"\")))))","v":""}]
[{"$f":"+'2階 計算表'!A13","v":"調理室"},{"$f":"IF(Sheet6!$AE9=1,Sheet6!R9,IF(Sheet6!$AE10=1,Sheet6!R10,IF(Sheet6!$AE11=1,Sheet6!R11,IF(Sheet6!$AE12=1,Sheet6!R12,IF(Sheet6!$AE13=1,Sheet6!R13,\"\")))))","v":""},{"$f":"IF(Sheet6!$AE9=1,Sheet6!S9,IF(Sheet6!$AE10=1,Sheet6!S10,IF(Sheet6!$AE11=1,Sheet6!S11,IF(Sheet6!$AE12=1,Sheet6!S12,IF(Sheet6!$AE13=1,Sheet6!S13,\"\")))))","v":""},{"$f":"IF(Sheet6!$AE9=1,Sheet6!T9,IF(Sheet6!$AE10=1,Sheet6!T10,IF(Sheet6!$AE11=1,\"\",IF(Sheet6!$AE12=1,\"\",IF(Sheet6!$AE13=1,\"\",\"\")))))","v":""},{"$f":"IF(Sheet6!$AE9=1,Sheet6!U9,IF(Sheet6!$AE10=1,Sheet6!U10,IF(Sheet6!$AE11=1,Sheet6!U11,IF(Sheet6!$AE12=1,Sheet6!U12,IF(Sheet6!$AE13=1,Sheet6!U13,\"\")))))","v":""},{"$f":"IF(Sheet6!$AE9=1,Sheet6!V9,IF(Sheet6!$AE10=1,Sheet6!V10,IF(Sheet6!$AE11=1,Sheet6!V11,IF(Sheet6!$AE12=1,Sheet6!V12,IF(Sheet6!$AE13=1,Sheet6!V13,\"\")))))","v":""},{"$f":"IF(Sheet6!$AE9=1,Sheet6!W9,IF(Sheet6!$AE10=1,Sheet6!W10,IF(Sheet6!$AE11=1,Sheet6!W11,IF(Sheet6!$AE12=1,Sheet6!W12,IF(Sheet6!$AE13=1,Sheet6!W13,\"\")))))","v":""},{"$f":"IF(Sheet6!$AE9=1,Sheet6!X9,IF(Sheet6!$AE10=1,Sheet6!X10,IF(Sheet6!$AE11=1,Sheet6!X11,IF(Sheet6!$AE12=1,Sheet6!X12,IF(Sheet6!$AE13=1,Sheet6!X13,\"\")))))","v":""},{"$f":"IF(Sheet6!$AE9=1,Sheet6!Y9,IF(Sheet6!$AE10=1,Sheet6!Y10,IF(Sheet6!$AE11=1,Sheet6!Y11,IF(Sheet6!$AE12=1,Sheet6!Y12,IF(Sheet6!$AE13=1,Sheet6!Y13,\"\")))))","v":""},{"$f":"IF(Sheet6!$AE9=1,Sheet6!Z9,IF(Sheet6!$AE10=1,Sheet6!Z10,IF(Sheet6!$AE11=1,Sheet6!Z11,IF(Sheet6!$AE12=1,Sheet6!Z12,IF(Sheet6!$AE13=1,Sheet6!Z13,\"\")))))","v":""},{"$f":"IF(L31=\"\",\"\",IF(Sheet6!$AE9=1,Sheet6!AA9,IF(Sheet6!$AE10=1,Sheet6!AA10,IF(Sheet6!$AE11=1,Sheet6!AA11,IF(Sheet6!$AE12=1,Sheet6!AA12,IF(Sheet6!$AE13=1,Sheet6!AA13,\"\"))))))","v":""},"",{"$f":"IF(Sheet6!$AE9=1,Sheet6!AB9,IF(Sheet6!$AE10=1,Sheet6!AB10,IF(Sheet6!$AE11=1,Sheet6!AB11,IF(Sheet6!$AE12=1,Sheet6!AB12,IF(Sheet6!$AE13=1,Sheet6!AB13,\"\")))))","v":""},{"$f":"IF(Sheet6!$AE9=1,Sheet6!AC9,IF(Sheet6!$AE10=1,Sheet6!AC10,IF(Sheet6!$AE11=1,Sheet6!AC11,IF(Sheet6!$AE12=1,Sheet6!AC12,IF(Sheet6!$AE13=1,Sheet6!AC13,\"\")))))","v":""}]
[null,{"$f":"IF(Sheet6!$AF10=2,Sheet6!R10,IF(Sheet6!$AF11=2,Sheet6!R11,IF(Sheet6!$AF12=2,Sheet6!R12,IF(Sheet6!$AF13=2,Sheet6!R13,IF(Sheet6!$AF14=2,Sheet6!R14,\"\")))))","v":""},{"$f":"IF(Sheet6!$AF10=2,Sheet6!S10,IF(Sheet6!$AF11=2,Sheet6!S11,IF(Sheet6!$AF12=2,Sheet6!S12,IF(Sheet6!$AF13=2,Sheet6!S13,IF(Sheet6!$AF14=2,Sheet6!S14,\"\")))))","v":""},{"$f":"IF(Sheet6!$AF10=2,Sheet6!T10,IF(Sheet6!$AF11=2,\"\",IF(Sheet6!$AF12=2,\"\",IF(Sheet6!$AF13=2,\"\",IF(Sheet6!$AF14=2,Sheet6!T14,\"\")))))","v":""},{"$f":"IF(Sheet6!$AF10=2,Sheet6!U10,IF(Sheet6!$AF11=2,Sheet6!U11,IF(Sheet6!$AF12=2,Sheet6!U12,IF(Sheet6!$AF13=2,Sheet6!U13,IF(Sheet6!$AF14=2,Sheet6!U14,\"\")))))","v":""},{"$f":"IF(Sheet6!$AF10=2,Sheet6!V10,IF(Sheet6!$AF11=2,Sheet6!V11,IF(Sheet6!$AF12=2,Sheet6!V12,IF(Sheet6!$AF13=2,Sheet6!V13,IF(Sheet6!$AF14=2,Sheet6!V14,\"\")))))","v":""},{"$f":"IF(Sheet6!$AF10=2,Sheet6!W10,IF(Sheet6!$AF11=2,Sheet6!W11,IF(Sheet6!$AF12=2,Sheet6!W12,IF(Sheet6!$AF13=2,Sheet6!W13,IF(Sheet6!$AF14=2,Sheet6!W14,\"\")))))","v":""},{"$f":"IF(Sheet6!$AF10=2,Sheet6!X10,IF(Sheet6!$AF11=2,Sheet6!X11,IF(Sheet6!$AF12=2,Sheet6!X12,IF(Sheet6!$AF13=2,Sheet6!X13,IF(Sheet6!$AF14=2,Sheet6!X14,\"\")))))","v":""},{"$f":"IF(Sheet6!$AF10=2,Sheet6!Y10,IF(Sheet6!$AF11=2,Sheet6!Y11,IF(Sheet6!$AF12=2,Sheet6!Y12,IF(Sheet6!$AF13=2,Sheet6!Y13,IF(Sheet6!$AF14=2,Sheet6!Y14,\"\")))))","v":""},{"$f":"IF(Sheet6!$AF10=2,Sheet6!Z10,IF(Sheet6!$AF11=2,Sheet6!Z11,IF(Sheet6!$AF12=2,Sheet6!Z12,IF(Sheet6!$AF13=2,Sheet6!Z13,IF(Sheet6!$AF14=2,Sheet6!Z14,\"\")))))","v":""},{"$f":"IF(L32=\"\",\"\",IF(Sheet6!$AF10=2,Sheet6!AA10,IF(Sheet6!$AF11=2,Sheet6!AA11,IF(Sheet6!$AF12=2,Sheet6!AA12,IF(Sheet6!$AF13=2,Sheet6!AA13,IF(Sheet6!$AF14=2,Sheet6!AA14,\"\"))))))","v":""},"",{"$f":"IF(Sheet6!$AF10=2,Sheet6!AB10,IF(Sheet6!$AF11=2,Sheet6!AB11,IF(Sheet6!$AF12=2,Sheet6!AB12,IF(Sheet6!$AF13=2,Sheet6!AB13,IF(Sheet6!$AF14=2,Sheet6!AB14,\"\")))))","v":""},{"$f":"IF(Sheet6!$AF10=2,Sheet6!AC10,IF(Sheet6!$AF11=2,Sheet6!AC11,IF(Sheet6!$AF12=2,Sheet6!AC12,IF(Sheet6!$AF13=2,Sheet6!AC13,IF(Sheet6!$AF14=2,Sheet6!AC14,\"\")))))","v":""}]
[{"$f":"+'2階 計算表'!A19","v":"青年研修室"},{"$f":"IF(Sheet6!$AE15=1,Sheet6!R15,IF(Sheet6!$AE16=1,Sheet6!R16,IF(Sheet6!$AE17=1,Sheet6!R17,IF(Sheet6!$AE18=1,Sheet6!R18,IF(Sheet6!$AE19=1,Sheet6!R19,\"\")))))","v":""},{"$f":"IF(Sheet6!$AE15=1,Sheet6!S15,IF(Sheet6!$AE16=1,Sheet6!S16,IF(Sheet6!$AE17=1,Sheet6!S17,IF(Sheet6!$AE18=1,Sheet6!S18,IF(Sheet6!$AE19=1,Sheet6!S19,\"\")))))","v":""},{"$f":"IF(Sheet6!$AE15=1,Sheet6!T15,IF(Sheet6!$AE16=1,Sheet6!T16,IF(Sheet6!$AE17=1,\"\",IF(Sheet6!$AE18=1,\"\",IF(Sheet6!$AE19=1,\"\",\"\")))))","v":""},{"$f":"IF(Sheet6!$AE15=1,Sheet6!U15,IF(Sheet6!$AE16=1,Sheet6!U16,IF(Sheet6!$AE17=1,Sheet6!U17,IF(Sheet6!$AE18=1,Sheet6!U18,IF(Sheet6!$AE19=1,Sheet6!U19,\"\")))))","v":""},{"$f":"IF(Sheet6!$AE15=1,Sheet6!V15,IF(Sheet6!$AE16=1,Sheet6!V16,IF(Sheet6!$AE17=1,Sheet6!V17,IF(Sheet6!$AE18=1,Sheet6!V18,IF(Sheet6!$AE19=1,Sheet6!V19,\"\")))))","v":""},{"$f":"IF(Sheet6!$AE15=1,Sheet6!W15,IF(Sheet6!$AE16=1,Sheet6!W16,IF(Sheet6!$AE17=1,Sheet6!W17,IF(Sheet6!$AE18=1,Sheet6!W18,IF(Sheet6!$AE19=1,Sheet6!W19,\"\")))))","v":""},{"$f":"IF(Sheet6!$AE15=1,Sheet6!X15,IF(Sheet6!$AE16=1,Sheet6!X16,IF(Sheet6!$AE17=1,Sheet6!X17,IF(Sheet6!$AE18=1,Sheet6!X18,IF(Sheet6!$AE19=1,Sheet6!X19,\"\")))))","v":""},{"$f":"IF(Sheet6!$AE15=1,Sheet6!Y15,IF(Sheet6!$AE16=1,Sheet6!Y16,IF(Sheet6!$AE17=1,Sheet6!Y17,IF(Sheet6!$AE18=1,Sheet6!Y18,IF(Sheet6!$AE19=1,Sheet6!Y19,\"\")))))","v":""},{"$f":"IF(Sheet6!$AE15=1,Sheet6!Z15,IF(Sheet6!$AE16=1,Sheet6!Z16,IF(Sheet6!$AE17=1,Sheet6!Z17,IF(Sheet6!$AE18=1,Sheet6!Z18,IF(Sheet6!$AE19=1,Sheet6!Z19,\"\")))))","v":""},{"$f":"IF(L33=\"\",\"\",IF(Sheet6!$AE15=1,Sheet6!AA15,IF(Sheet6!$AE16=1,Sheet6!AA16,IF(Sheet6!$AE17=1,Sheet6!AA17,IF(Sheet6!$AE18=1,Sheet6!AA18,IF(Sheet6!$AE19=1,Sheet6!AA19,\"\"))))))","v":""},"",{"$f":"IF(Sheet6!$AE15=1,Sheet6!AB15,IF(Sheet6!$AE16=1,Sheet6!AB16,IF(Sheet6!$AE17=1,Sheet6!AB17,IF(Sheet6!$AE18=1,Sheet6!AB18,IF(Sheet6!$AE19=1,Sheet6!AB19,\"\")))))","v":""},{"$f":"IF(Sheet6!$AE15=1,Sheet6!AC15,IF(Sheet6!$AE16=1,Sheet6!AC16,IF(Sheet6!$AE17=1,Sheet6!AC17,IF(Sheet6!$AE18=1,Sheet6!AC18,IF(Sheet6!$AE19=1,Sheet6!AC19,\"\")))))","v":""}]
[null,{"$f":"IF(Sheet6!$AF16=2,Sheet6!R16,IF(Sheet6!$AF17=2,Sheet6!R17,IF(Sheet6!$AF18=2,Sheet6!R18,IF(Sheet6!$AF19=2,Sheet6!R19,IF(Sheet6!$AF20=2,Sheet6!R20,\"\")))))","v":""},{"$f":"IF(Sheet6!$AF16=2,Sheet6!S16,IF(Sheet6!$AF17=2,Sheet6!S17,IF(Sheet6!$AF18=2,Sheet6!S18,IF(Sheet6!$AF19=2,Sheet6!S19,IF(Sheet6!$AF20=2,Sheet6!S20,\"\")))))","v":""},{"$f":"IF(Sheet6!$AF16=2,Sheet6!T16,IF(Sheet6!$AF17=2,\"\",IF(Sheet6!$AF18=2,\"\",IF(Sheet6!$AF19=2,\"\",IF(Sheet6!$AF20=2,Sheet6!T20,\"\")))))","v":""},{"$f":"IF(Sheet6!$AF16=2,Sheet6!U16,IF(Sheet6!$AF17=2,Sheet6!U17,IF(Sheet6!$AF18=2,Sheet6!U18,IF(Sheet6!$AF19=2,Sheet6!U19,IF(Sheet6!$AF20=2,Sheet6!U20,\"\")))))","v":""},{"$f":"IF(Sheet6!$AF16=2,Sheet6!V16,IF(Sheet6!$AF17=2,Sheet6!V17,IF(Sheet6!$AF18=2,Sheet6!V18,IF(Sheet6!$AF19=2,Sheet6!V19,IF(Sheet6!$AF20=2,Sheet6!V20,\"\")))))","v":""},{"$f":"IF(Sheet6!$AF16=2,Sheet6!W16,IF(Sheet6!$AF17=2,Sheet6!W17,IF(Sheet6!$AF18=2,Sheet6!W18,IF(Sheet6!$AF19=2,Sheet6!W19,IF(Sheet6!$AF20=2,Sheet6!W20,\"\")))))","v":""},{"$f":"IF(Sheet6!$AF16=2,Sheet6!X16,IF(Sheet6!$AF17=2,Sheet6!X17,IF(Sheet6!$AF18=2,Sheet6!X18,IF(Sheet6!$AF19=2,Sheet6!X19,IF(Sheet6!$AF20=2,Sheet6!X20,\"\")))))","v":""},{"$f":"IF(Sheet6!$AF16=2,Sheet6!Y16,IF(Sheet6!$AF17=2,Sheet6!Y17,IF(Sheet6!$AF18=2,Sheet6!Y18,IF(Sheet6!$AF19=2,Sheet6!Y19,IF(Sheet6!$AF20=2,Sheet6!Y20,\"\")))))","v":""},{"$f":"IF(Sheet6!$AF16=2,Sheet6!Z16,IF(Sheet6!$AF17=2,Sheet6!Z17,IF(Sheet6!$AF18=2,Sheet6!Z18,IF(Sheet6!$AF19=2,Sheet6!Z19,IF(Sheet6!$AF20=2,Sheet6!Z20,\"\")))))","v":""},{"$f":"IF(L34=\"\",\"\",IF(Sheet6!$AF16=2,Sheet6!AA16,IF(Sheet6!$AF17=2,Sheet6!AA17,IF(Sheet6!$AF18=2,Sheet6!AA18,IF(Sheet6!$AF19=2,Sheet6!AA19,IF(Sheet6!$AF20=2,Sheet6!AA20,\"\"))))))","v":""},"",{"$f":"IF(Sheet6!$AF16=2,Sheet6!AB16,IF(Sheet6!$AF17=2,Sheet6!AB17,IF(Sheet6!$AF18=2,Sheet6!AB18,IF(Sheet6!$AF19=2,Sheet6!AB19,IF(Sheet6!$AF20=2,Sheet6!AB20,\"\")))))","v":""},{"$f":"IF(Sheet6!$AF16=2,Sheet6!AC16,IF(Sheet6!$AF17=2,Sheet6!AC17,IF(Sheet6!$AF18=2,Sheet6!AC18,IF(Sheet6!$AF19=2,Sheet6!AC19,IF(Sheet6!$AF20=2,Sheet6!AC20,\"\")))))","v":""}]
[{"$f":"+'2階 計算表'!A25","v":"展示ホール"},{"$f":"IF(Sheet6!$AE21=1,Sheet6!R21,IF(Sheet6!$AE22=1,Sheet6!R22,IF(Sheet6!$AE23=1,Sheet6!R23,IF(Sheet6!$AE24=1,Sheet6!R24,IF(Sheet6!$AE25=1,Sheet6!R25,\"\")))))","v":""},{"$f":"IF(Sheet6!$AE21=1,Sheet6!S21,IF(Sheet6!$AE22=1,Sheet6!S22,IF(Sheet6!$AE23=1,Sheet6!S23,IF(Sheet6!$AE24=1,Sheet6!S24,IF(Sheet6!$AE25=1,Sheet6!S25,\"\")))))","v":""},{"$f":"IF(Sheet6!$AE21=1,Sheet6!T21,IF(Sheet6!$AE22=1,Sheet6!T22,IF(Sheet6!$AE23=1,\"\",IF(Sheet6!$AE24=1,\"\",IF(Sheet6!$AE25=1,\"\",\"\")))))","v":""},{"$f":"IF(Sheet6!$AE21=1,Sheet6!U21,IF(Sheet6!$AE22=1,Sheet6!U22,IF(Sheet6!$AE23=1,Sheet6!U23,IF(Sheet6!$AE24=1,Sheet6!U24,IF(Sheet6!$AE25=1,Sheet6!U25,\"\")))))","v":""},{"$f":"IF(Sheet6!$AE21=1,Sheet6!V21,IF(Sheet6!$AE22=1,Sheet6!V22,IF(Sheet6!$AE23=1,Sheet6!V23,IF(Sheet6!$AE24=1,Sheet6!V24,IF(Sheet6!$AE25=1,Sheet6!V25,\"\")))))","v":""},{"$f":"IF(Sheet6!$AE21=1,Sheet6!W21,IF(Sheet6!$AE22=1,Sheet6!W22,IF(Sheet6!$AE23=1,Sheet6!W23,IF(Sheet6!$AE24=1,Sheet6!W24,IF(Sheet6!$AE25=1,Sheet6!W25,\"\")))))","v":""},{"$f":"IF(Sheet6!$AE21=1,Sheet6!X21,IF(Sheet6!$AE22=1,Sheet6!X22,IF(Sheet6!$AE23=1,Sheet6!X23,IF(Sheet6!$AE24=1,Sheet6!X24,IF(Sheet6!$AE25=1,Sheet6!X25,\"\")))))","v":""},{"$f":"IF(Sheet6!$AE21=1,Sheet6!Y21,IF(Sheet6!$AE22=1,Sheet6!Y22,IF(Sheet6!$AE23=1,Sheet6!Y23,IF(Sheet6!$AE24=1,Sheet6!Y24,IF(Sheet6!$AE25=1,Sheet6!Y25,\"\")))))","v":""},{"$f":"IF(Sheet6!$AE21=1,Sheet6!Z21,IF(Sheet6!$AE22=1,Sheet6!Z22,IF(Sheet6!$AE23=1,Sheet6!Z23,IF(Sheet6!$AE24=1,Sheet6!Z24,IF(Sheet6!$AE25=1,Sheet6!Z25,\"\")))))","v":""},{"$f":"IF(L35=\"\",\"\",IF(Sheet6!$AE21=1,Sheet6!AA21,IF(Sheet6!$AE22=1,Sheet6!AA22,IF(Sheet6!$AE23=1,Sheet6!AA23,IF(Sheet6!$AE24=1,Sheet6!AA24,IF(Sheet6!$AE25=1,Sheet6!AA25,\"\"))))))","v":""},"",{"$f":"IF(Sheet6!$AE21=1,Sheet6!AB21,IF(Sheet6!$AE22=1,Sheet6!AB22,IF(Sheet6!$AE23=1,Sheet6!AB23,IF(Sheet6!$AE24=1,Sheet6!AB24,IF(Sheet6!$AE25=1,Sheet6!AB25,\"\")))))","v":""},{"$f":"IF(Sheet6!$AE21=1,Sheet6!AC21,IF(Sheet6!$AE22=1,Sheet6!AC22,IF(Sheet6!$AE23=1,Sheet6!AC23,IF(Sheet6!$AE24=1,Sheet6!AC24,IF(Sheet6!$AE25=1,Sheet6!AC25,\"\")))))","v":""}]
[null,{"$f":"IF(Sheet6!$AF22=2,Sheet6!R22,IF(Sheet6!$AF23=2,Sheet6!R23,IF(Sheet6!$AF24=2,Sheet6!R24,IF(Sheet6!$AF25=2,Sheet6!R25,IF(Sheet6!$AF26=2,Sheet6!R26,\"\")))))","v":""},{"$f":"IF(Sheet6!$AF22=2,Sheet6!S22,IF(Sheet6!$AF23=2,Sheet6!S23,IF(Sheet6!$AF24=2,Sheet6!S24,IF(Sheet6!$AF25=2,Sheet6!S25,IF(Sheet6!$AF26=2,Sheet6!S26,\"\")))))","v":""},{"$f":"IF(Sheet6!$AF22=2,Sheet6!T22,IF(Sheet6!$AF23=2,\"\",IF(Sheet6!$AF24=2,\"\",IF(Sheet6!$AF25=2,\"\",IF(Sheet6!$AF26=2,Sheet6!T26,\"\")))))","v":""},{"$f":"IF(Sheet6!$AF22=2,Sheet6!U22,IF(Sheet6!$AF23=2,Sheet6!U23,IF(Sheet6!$AF24=2,Sheet6!U24,IF(Sheet6!$AF25=2,Sheet6!U25,IF(Sheet6!$AF26=2,Sheet6!U26,\"\")))))","v":""},{"$f":"IF(Sheet6!$AF22=2,Sheet6!V22,IF(Sheet6!$AF23=2,Sheet6!V23,IF(Sheet6!$AF24=2,Sheet6!V24,IF(Sheet6!$AF25=2,Sheet6!V25,IF(Sheet6!$AF26=2,Sheet6!V26,\"\")))))","v":""},{"$f":"IF(Sheet6!$AF22=2,Sheet6!W22,IF(Sheet6!$AF23=2,Sheet6!W23,IF(Sheet6!$AF24=2,Sheet6!W24,IF(Sheet6!$AF25=2,Sheet6!W25,IF(Sheet6!$AF26=2,Sheet6!W26,\"\")))))","v":""},{"$f":"IF(Sheet6!$AF22=2,Sheet6!X22,IF(Sheet6!$AF23=2,Sheet6!X23,IF(Sheet6!$AF24=2,Sheet6!X24,IF(Sheet6!$AF25=2,Sheet6!X25,IF(Sheet6!$AF26=2,Sheet6!X26,\"\")))))","v":""},{"$f":"IF(Sheet6!$AF22=2,Sheet6!Y22,IF(Sheet6!$AF23=2,Sheet6!Y23,IF(Sheet6!$AF24=2,Sheet6!Y24,IF(Sheet6!$AF25=2,Sheet6!Y25,IF(Sheet6!$AF26=2,Sheet6!Y26,\"\")))))","v":""},{"$f":"IF(Sheet6!$AF22=2,Sheet6!Z22,IF(Sheet6!$AF23=2,Sheet6!Z23,IF(Sheet6!$AF24=2,Sheet6!Z24,IF(Sheet6!$AF25=2,Sheet6!Z25,IF(Sheet6!$AF26=2,Sheet6!Z26,\"\")))))","v":""},{"$f":"IF(L36=\"\",\"\",IF(Sheet6!$AF22=2,Sheet6!AA22,IF(Sheet6!$AF23=2,Sheet6!AA23,IF(Sheet6!$AF24=2,Sheet6!AA24,IF(Sheet6!$AF25=2,Sheet6!AA25,IF(Sheet6!$AF26=2,Sheet6!AA26,\"\"))))))","v":""},"",{"$f":"IF(Sheet6!$AF22=2,Sheet6!AB22,IF(Sheet6!$AF23=2,Sheet6!AB23,IF(Sheet6!$AF24=2,Sheet6!AB24,IF(Sheet6!$AF25=2,Sheet6!AB25,IF(Sheet6!$AF26=2,Sheet6!AB26,\"\")))))","v":""},{"$f":"IF(Sheet6!$AF22=2,Sheet6!AC22,IF(Sheet6!$AF23=2,Sheet6!AC23,IF(Sheet6!$AF24=2,Sheet6!AC24,IF(Sheet6!$AF25=2,Sheet6!AC25,IF(Sheet6!$AF26=2,Sheet6!AC26,\"\")))))","v":""}]
[{"$f":"+'2階 計算表'!A31","v":"会議室"},{"$f":"IF(Sheet6!$AE27=1,Sheet6!R27,IF(Sheet6!$AE28=1,Sheet6!R28,IF(Sheet6!$AE29=1,Sheet6!R29,IF(Sheet6!$AE30=1,Sheet6!R30,IF(Sheet6!$AE31=1,Sheet6!R31,\"\")))))","v":""},{"$f":"IF(Sheet6!$AE27=1,Sheet6!S27,IF(Sheet6!$AE28=1,Sheet6!S28,IF(Sheet6!$AE29=1,Sheet6!S29,IF(Sheet6!$AE30=1,Sheet6!S30,IF(Sheet6!$AE31=1,Sheet6!S31,\"\")))))","v":""},{"$f":"IF(Sheet6!$AE27=1,Sheet6!T27,IF(Sheet6!$AE28=1,Sheet6!T28,IF(Sheet6!$AE29=1,\"\",IF(Sheet6!$AE30=1,\"\",IF(Sheet6!$AE31=1,\"\",\"\")))))","v":""},{"$f":"IF(Sheet6!$AE27=1,Sheet6!U27,IF(Sheet6!$AE28=1,Sheet6!U28,IF(Sheet6!$AE29=1,Sheet6!U29,IF(Sheet6!$AE30=1,Sheet6!U30,IF(Sheet6!$AE31=1,Sheet6!U31,\"\")))))","v":""},{"$f":"IF(Sheet6!$AE27=1,Sheet6!V27,IF(Sheet6!$AE28=1,Sheet6!V28,IF(Sheet6!$AE29=1,Sheet6!V29,IF(Sheet6!$AE30=1,Sheet6!V30,IF(Sheet6!$AE31=1,Sheet6!V31,\"\")))))","v":""},{"$f":"IF(Sheet6!$AE27=1,Sheet6!W27,IF(Sheet6!$AE28=1,Sheet6!W28,IF(Sheet6!$AE29=1,Sheet6!W29,IF(Sheet6!$AE30=1,Sheet6!W30,IF(Sheet6!$AE31=1,Sheet6!W31,\"\")))))","v":""},{"$f":"IF(Sheet6!$AE27=1,Sheet6!X27,IF(Sheet6!$AE28=1,Sheet6!X28,IF(Sheet6!$AE29=1,Sheet6!X29,IF(Sheet6!$AE30=1,Sheet6!X30,IF(Sheet6!$AE31=1,Sheet6!X31,\"\")))))","v":""},{"$f":"IF(Sheet6!$AE27=1,Sheet6!Y27,IF(Sheet6!$AE28=1,Sheet6!Y28,IF(Sheet6!$AE29=1,Sheet6!Y29,IF(Sheet6!$AE30=1,Sheet6!Y30,IF(Sheet6!$AE31=1,Sheet6!Y31,\"\")))))","v":""},{"$f":"IF(Sheet6!$AE27=1,Sheet6!Z27,IF(Sheet6!$AE28=1,Sheet6!Z28,IF(Sheet6!$AE29=1,Sheet6!Z29,IF(Sheet6!$AE30=1,Sheet6!Z30,IF(Sheet6!$AE31=1,Sheet6!Z31,\"\")))))","v":""},{"$f":"IF(L37=\"\",\"\",IF(Sheet6!$AE27=1,Sheet6!AA27,IF(Sheet6!$AE28=1,Sheet6!AA28,IF(Sheet6!$AE29=1,Sheet6!AA29,IF(Sheet6!$AE30=1,Sheet6!AA30,IF(Sheet6!$AE31=1,Sheet6!AA31,\"\"))))))","v":""},"",{"$f":"IF(Sheet6!$AE27=1,Sheet6!AB27,IF(Sheet6!$AE28=1,Sheet6!AB28,IF(Sheet6!$AE29=1,Sheet6!AB29,IF(Sheet6!$AE30=1,Sheet6!AB30,IF(Sheet6!$AE31=1,Sheet6!AB31,\"\")))))","v":""},{"$f":"IF(Sheet6!$AE27=1,Sheet6!AC27,IF(Sheet6!$AE28=1,Sheet6!AC28,IF(Sheet6!$AE29=1,Sheet6!AC29,IF(Sheet6!$AE30=1,Sheet6!AC30,IF(Sheet6!$AE31=1,Sheet6!AC31,\"\")))))","v":""}]
[null,{"$f":"IF(Sheet6!$AF28=2,Sheet6!R28,IF(Sheet6!$AF29=2,Sheet6!R29,IF(Sheet6!$AF30=2,Sheet6!R30,IF(Sheet6!$AF31=2,Sheet6!R31,IF(Sheet6!$AF32=2,Sheet6!R32,\"\")))))","v":""},{"$f":"IF(Sheet6!$AF28=2,Sheet6!S28,IF(Sheet6!$AF29=2,Sheet6!S29,IF(Sheet6!$AF30=2,Sheet6!S30,IF(Sheet6!$AF31=2,Sheet6!S31,IF(Sheet6!$AF32=2,Sheet6!S32,\"\")))))","v":""},{"$f":"IF(Sheet6!$AF28=2,Sheet6!T28,IF(Sheet6!$AF29=2,\"\",IF(Sheet6!$AF30=2,\"\",IF(Sheet6!$AF31=2,\"\",IF(Sheet6!$AF32=2,Sheet6!T32,\"\")))))","v":""},{"$f":"IF(Sheet6!$AF28=2,Sheet6!U28,IF(Sheet6!$AF29=2,Sheet6!U29,IF(Sheet6!$AF30=2,Sheet6!U30,IF(Sheet6!$AF31=2,Sheet6!U31,IF(Sheet6!$AF32=2,Sheet6!U32,\"\")))))","v":""},{"$f":"IF(Sheet6!$AF28=2,Sheet6!V28,IF(Sheet6!$AF29=2,Sheet6!V29,IF(Sheet6!$AF30=2,Sheet6!V30,IF(Sheet6!$AF31=2,Sheet6!V31,IF(Sheet6!$AF32=2,Sheet6!V32,\"\")))))","v":""},{"$f":"IF(Sheet6!$AF28=2,Sheet6!W28,IF(Sheet6!$AF29=2,Sheet6!W29,IF(Sheet6!$AF30=2,Sheet6!W30,IF(Sheet6!$AF31=2,Sheet6!W31,IF(Sheet6!$AF32=2,Sheet6!W32,\"\")))))","v":""},{"$f":"IF(Sheet6!$AF28=2,Sheet6!X28,IF(Sheet6!$AF29=2,Sheet6!X29,IF(Sheet6!$AF30=2,Sheet6!X30,IF(Sheet6!$AF31=2,Sheet6!X31,IF(Sheet6!$AF32=2,Sheet6!X32,\"\")))))","v":""},{"$f":"IF(Sheet6!$AF28=2,Sheet6!Y28,IF(Sheet6!$AF29=2,Sheet6!Y29,IF(Sheet6!$AF30=2,Sheet6!Y30,IF(Sheet6!$AF31=2,Sheet6!Y31,IF(Sheet6!$AF32=2,Sheet6!Y32,\"\")))))","v":""},{"$f":"IF(Sheet6!$AF28=2,Sheet6!Z28,IF(Sheet6!$AF29=2,Sheet6!Z29,IF(Sheet6!$AF30=2,Sheet6!Z30,IF(Sheet6!$AF31=2,Sheet6!Z31,IF(Sheet6!$AF32=2,Sheet6!Z32,\"\")))))","v":""},{"$f":"IF(L38=\"\",\"\",IF(Sheet6!$AF28=2,Sheet6!AA28,IF(Sheet6!$AF29=2,Sheet6!AA29,IF(Sheet6!$AF30=2,Sheet6!AA30,IF(Sheet6!$AF31=2,Sheet6!AA31,IF(Sheet6!$AF32=2,Sheet6!AA32,\"\"))))))","v":""},"",{"$f":"IF(Sheet6!$AF28=2,Sheet6!AB28,IF(Sheet6!$AF29=2,Sheet6!AB29,IF(Sheet6!$AF30=2,Sheet6!AB30,IF(Sheet6!$AF31=2,Sheet6!AB31,IF(Sheet6!$AF32=2,Sheet6!AB32,\"\")))))","v":""},{"$f":"IF(Sheet6!$AF28=2,Sheet6!AC28,IF(Sheet6!$AF29=2,Sheet6!AC29,IF(Sheet6!$AF30=2,Sheet6!AC30,IF(Sheet6!$AF31=2,Sheet6!AC31,IF(Sheet6!$AF32=2,Sheet6!AC32,\"\")))))","v":""}]
[{"$f":"+'2階 計算表'!A37","v":"産業研修室"},{"$f":"IF(Sheet6!$AE33=1,Sheet6!R33,IF(Sheet6!$AE34=1,Sheet6!R34,IF(Sheet6!$AE35=1,Sheet6!R35,IF(Sheet6!$AE36=1,Sheet6!R36,IF(Sheet6!$AE37=1,Sheet6!R37,\"\")))))","v":""},{"$f":"IF(Sheet6!$AE33=1,Sheet6!S33,IF(Sheet6!$AE34=1,Sheet6!S34,IF(Sheet6!$AE35=1,Sheet6!S35,IF(Sheet6!$AE36=1,Sheet6!S36,IF(Sheet6!$AE37=1,Sheet6!S37,\"\")))))","v":""},{"$f":"IF(Sheet6!$AE33=1,Sheet6!T33,IF(Sheet6!$AE34=1,Sheet6!T34,IF(Sheet6!$AE35=1,\"\",IF(Sheet6!$AE36=1,\"\",IF(Sheet6!$AE37=1,\"\",\"\")))))","v":""},{"$f":"IF(Sheet6!$AE33=1,Sheet6!U33,IF(Sheet6!$AE34=1,Sheet6!U34,IF(Sheet6!$AE35=1,Sheet6!U35,IF(Sheet6!$AE36=1,Sheet6!U36,IF(Sheet6!$AE37=1,Sheet6!U37,\"\")))))","v":""},{"$f":"IF(Sheet6!$AE33=1,Sheet6!V33,IF(Sheet6!$AE34=1,Sheet6!V34,IF(Sheet6!$AE35=1,Sheet6!V35,IF(Sheet6!$AE36=1,Sheet6!V36,IF(Sheet6!$AE37=1,Sheet6!V37,\"\")))))","v":""},{"$f":"IF(Sheet6!$AE33=1,Sheet6!W33,IF(Sheet6!$AE34=1,Sheet6!W34,IF(Sheet6!$AE35=1,Sheet6!W35,IF(Sheet6!$AE36=1,Sheet6!W36,IF(Sheet6!$AE37=1,Sheet6!W37,\"\")))))","v":""},{"$f":"IF(Sheet6!$AE33=1,Sheet6!X33,IF(Sheet6!$AE34=1,Sheet6!X34,IF(Sheet6!$AE35=1,Sheet6!X35,IF(Sheet6!$AE36=1,Sheet6!X36,IF(Sheet6!$AE37=1,Sheet6!X37,\"\")))))","v":""},{"$f":"IF(Sheet6!$AE33=1,Sheet6!Y33,IF(Sheet6!$AE34=1,Sheet6!Y34,IF(Sheet6!$AE35=1,Sheet6!Y35,IF(Sheet6!$AE36=1,Sheet6!Y36,IF(Sheet6!$AE37=1,Sheet6!Y37,\"\")))))","v":""},{"$f":"IF(Sheet6!$AE33=1,Sheet6!Z33,IF(Sheet6!$AE34=1,Sheet6!Z34,IF(Sheet6!$AE35=1,Sheet6!Z35,IF(Sheet6!$AE36=1,Sheet6!Z36,IF(Sheet6!$AE37=1,Sheet6!Z37,\"\")))))","v":""},{"$f":"IF(L39=\"\",\"\",IF(Sheet6!$AE33=1,Sheet6!AA33,IF(Sheet6!$AE34=1,Sheet6!AA34,IF(Sheet6!$AE35=1,Sheet6!AA35,IF(Sheet6!$AE36=1,Sheet6!AA36,IF(Sheet6!$AE37=1,Sheet6!AA37,\"\"))))))","v":""},"",{"$f":"IF(Sheet6!$AE33=1,Sheet6!AB33,IF(Sheet6!$AE34=1,Sheet6!AB34,IF(Sheet6!$AE35=1,Sheet6!AB35,IF(Sheet6!$AE36=1,Sheet6!AB36,IF(Sheet6!$AE37=1,Sheet6!AB37,\"\")))))","v":""},{"$f":"IF(Sheet6!$AE33=1,Sheet6!AC33,IF(Sheet6!$AE34=1,Sheet6!AC34,IF(Sheet6!$AE35=1,Sheet6!AC35,IF(Sheet6!$AE36=1,Sheet6!AC36,IF(Sheet6!$AE37=1,Sheet6!AC37,\"\")))))","v":""}]
[null,{"$f":"IF(Sheet6!$AF34=2,Sheet6!R34,IF(Sheet6!$AF35=2,Sheet6!R35,IF(Sheet6!$AF36=2,Sheet6!R36,IF(Sheet6!$AF37=2,Sheet6!R37,IF(Sheet6!$AF38=2,Sheet6!R38,\"\")))))","v":""},{"$f":"IF(Sheet6!$AF34=2,Sheet6!S34,IF(Sheet6!$AF35=2,Sheet6!S35,IF(Sheet6!$AF36=2,Sheet6!S36,IF(Sheet6!$AF37=2,Sheet6!S37,IF(Sheet6!$AF38=2,Sheet6!S38,\"\")))))","v":""},{"$f":"IF(Sheet6!$AF34=2,Sheet6!T34,IF(Sheet6!$AF35=2,\"\",IF(Sheet6!$AF36=2,\"\",IF(Sheet6!$AF37=2,\"\",IF(Sheet6!$AF38=2,Sheet6!T38,\"\")))))","v":""},{"$f":"IF(Sheet6!$AF34=2,Sheet6!U34,IF(Sheet6!$AF35=2,Sheet6!U35,IF(Sheet6!$AF36=2,Sheet6!U36,IF(Sheet6!$AF37=2,Sheet6!U37,IF(Sheet6!$AF38=2,Sheet6!U38,\"\")))))","v":""},{"$f":"IF(Sheet6!$AF34=2,Sheet6!V34,IF(Sheet6!$AF35=2,Sheet6!V35,IF(Sheet6!$AF36=2,Sheet6!V36,IF(Sheet6!$AF37=2,Sheet6!V37,IF(Sheet6!$AF38=2,Sheet6!V38,\"\")))))","v":""},{"$f":"IF(Sheet6!$AF34=2,Sheet6!W34,IF(Sheet6!$AF35=2,Sheet6!W35,IF(Sheet6!$AF36=2,Sheet6!W36,IF(Sheet6!$AF37=2,Sheet6!W37,IF(Sheet6!$AF38=2,Sheet6!W38,\"\")))))","v":""},{"$f":"IF(Sheet6!$AF34=2,Sheet6!X34,IF(Sheet6!$AF35=2,Sheet6!X35,IF(Sheet6!$AF36=2,Sheet6!X36,IF(Sheet6!$AF37=2,Sheet6!X37,IF(Sheet6!$AF38=2,Sheet6!X38,\"\")))))","v":""},{"$f":"IF(Sheet6!$AF34=2,Sheet6!Y34,IF(Sheet6!$AF35=2,Sheet6!Y35,IF(Sheet6!$AF36=2,Sheet6!Y36,IF(Sheet6!$AF37=2,Sheet6!Y37,IF(Sheet6!$AF38=2,Sheet6!Y38,\"\")))))","v":""},{"$f":"IF(Sheet6!$AF34=2,Sheet6!Z34,IF(Sheet6!$AF35=2,Sheet6!Z35,IF(Sheet6!$AF36=2,Sheet6!Z36,IF(Sheet6!$AF37=2,Sheet6!Z37,IF(Sheet6!$AF38=2,Sheet6!Z38,\"\")))))","v":""},{"$f":"IF(L40=\"\",\"\",IF(Sheet6!$AF34=2,Sheet6!AA34,IF(Sheet6!$AF35=2,Sheet6!AA35,IF(Sheet6!$AF36=2,Sheet6!AA36,IF(Sheet6!$AF37=2,Sheet6!AA37,IF(Sheet6!$AF38=2,Sheet6!AA38,\"\"))))))","v":""},"",{"$f":"IF(Sheet6!$AF34=2,Sheet6!AB34,IF(Sheet6!$AF35=2,Sheet6!AB35,IF(Sheet6!$AF36=2,Sheet6!AB36,IF(Sheet6!$AF37=2,Sheet6!AB37,IF(Sheet6!$AF38=2,Sheet6!AB38,\"\")))))","v":""},{"$f":"IF(Sheet6!$AF34=2,Sheet6!AC34,IF(Sheet6!$AF35=2,Sheet6!AC35,IF(Sheet6!$AF36=2,Sheet6!AC36,IF(Sheet6!$AF37=2,Sheet6!AC37,IF(Sheet6!$AF38=2,Sheet6!AC38,\"\")))))","v":""}]
[null,null,null,null,null,null,null,null,null,null,null,"２階","合計",{"$f":"SUM(N29:N40)","v":0}]
[]
[null,null,null,null,null,null,null,null,null,null,null,"使用料合計",null,{"$f":"+N41+N25","v":0}]