{"text_format":"1","workbook":"xlsx","n_sheets":5,"sheets":["例","計算表","Sheet3","Sheet1","印刷用"],"not_rendered":{"charts":0,"images":0,"macros":0,"external_links":0,"defined_names":0,"comments":0,"pivot_tables":0},"unopened":[],"bounds":{"document_bytes":16777216,"sheet_cells":100000,"rows_first":2000,"rows_last":500,"rows_between":2000,"halvings":0,"cell_chars":16384,"cell_head_chars":4096},"cells_cut":0,"cells_raw":0,"read":"whole","date_system":"1900"}

{"sheet":"例","index":0,"n_rows":25,"n_cols":15,"rows_kept":25,"cut":false,"hidden":false,"merged":[[21,8,21,11],[4,5,4,11]]}
["隠岐の島町総合体育館　料金計算表"]
["※黄色の枠に時間もしくは、1を入力して下さい。"]
["※営利目的の場合は、1を入力して下さい。　→　　"]
[]
[null,null,null,null,null,"使用時間",null,null,null,null,null,null,"使用時間","単価","金額"]
["アリーナ使用料","全面",null,"１時間単位","　8：30～22：00",16,"：",30,"～",17,"：",0,{"$f":"+Sheet3!I3","v":1},1670,{"$f":"+IF(M6=0,0,IF(E3=\"\",M6*N6,M6*N6*3))","v":1670}]
[null,"半面",null,"１時間単位","　8：30～22：00",null,"：",null,"～",null,"：",null,{"$f":"+Sheet3!I4","v":0},830,{"$f":"+IF(M7=0,0,IF($E$3=\"\",M7*N7,M7*N7*3))","v":0}]
[null,"１／３面",null,"１時間単位","　8：30～22：00",8,"：",30,"～",9,"：",0,{"$f":"+Sheet3!I5","v":1},620,620]
["アリーナ照明使用料","全点灯",null,"１時間単位","　8：30～22：00",null,"：",null,"～",null,"：",null,{"$f":"+Sheet3!I6","v":0},1880,0]
[null,"通常点灯","全面","１時間単位","8：30～22：00",null,"：",null,"～",null,"：",null,{"$f":"+Sheet3!I7","v":0},830,0]
[null,null,"半面","１時間単位","8：30～22：00",null,"：",null,"～",null,"：",null,{"$f":"+Sheet3!I8","v":0},520,0]
[null,null,"1/3面","１時間単位","8：30～22：00",null,"：",null,"～",null,"：",null,{"$f":"+Sheet3!I9","v":0},410,0]
[null,"展示会用","全面","１時間単位","8：30～22：00",null,"：",null,"～",null,"：",null,{"$f":"+Sheet3!I10","v":0},520,0]
["舞台使用料",null,null,"１時間単位","8：30～22：00",null,"：",null,"～",null,"：",null,{"$f":"+Sheet3!I11","v":0},1570,0]
["舞台照明設備使用料","使用基本料金",null,"１時間単位","8：30～22：00",null,"：",null,"～",null,"：",null,{"$f":"+Sheet3!I12","v":0},2610,0]
["舞台音響設備使用料","使用基本料金",null,"１時間単位","8：30～22：00",null,"：",null,"～",null,"：",null,{"$f":"+Sheet3!I13","v":0},830,0]
["空調設備使用料",null,null,"１時間単位","8：30～22：00",null,"：",null,"～",null,"：",null,{"$f":"+Sheet3!I14","v":0},9420,0]
["移動観覧席使用料",null,null,"１時間単位","8：30～22：00",null,"：",null,"～",null,"：",null,{"$f":"+Sheet3!I15","v":0},1040,0]
["トレーニング室","全面",null,"１時間単位","8：30～22：00",null,"：",null,"～",null,"：",null,{"$f":"+Sheet3!I16","v":0},520,0]
[null,"半面",null,"１時間単位","8：30～22：00",null,"：",null,"～",null,"：",null,{"$f":"+Sheet3!I17","v":0},310,0]
["会議室",null,null,"１時間単位","8：30～22：00",null,"：",null,"～",null,"：",null,{"$f":"+Sheet3!I18","v":0},310,0]
["シャワー",null,null,"人数",1,"人",null,"回数",1,null,null,null,"回",200,{"$f":"+IF(E22=0,0,IF($E$3=\"\",I22*N22*E22,I22*N22*E22*3))","v":200}]
[]
[]
[null,null,null,null,null,null,null,null,null,null,null,null,"１階合計",null,{"$f":"SUM(O6:O24)","v":2490}]

{"sheet":"計算表","index":1,"n_rows":25,"n_cols":15,"rows_kept":25,"cut":false,"hidden":false,"merged":[[22,8,22,11],[5,5,5,11]]}
["隠岐の島町総合体育館　料金計算表"]
["※黄色の枠に時間もしくは、1を入力して下さい。"]
["※営利目的の場合は、1を入力して下さい。　→　　"]
["※町内高等学校の場合は、1を入力して下さい。　→　　"]
[]
[null,null,null,null,null,"使用時間",null,null,null,null,null,null,"使用時間","単価","金額"]
["アリーナ使用料","全面",null,"１時間単位","　8：30～22：00",null,"：",null,"～",null,"：",null,{"$f":"+Sheet3!D3","v":0},1670,{"$f":"IF($E$3=1,M7*N7*3,IF($E$4=1,M7*N7/2,M7*N7))","v":0}]
[null,"半面",null,"１時間単位","　8：30～22：00",null,"：",null,"～",null,"：",null,{"$f":"+Sheet3!D4","v":0},830,{"$f":"IF($E$3=1,M8*N8*3,IF($E$4=1,M8*N8/2,M8*N8))","v":0}]
[null,"１／３面",null,"１時間単位","　8：30～22：00",null,"：",null,"～",null,"：",null,{"$f":"+Sheet3!D5","v":0},620,0]
["アリーナ照明使用料","全点灯",null,"１時間単位","　8：30～22：00",null,"：",null,"～",null,"：",null,{"$f":"+Sheet3!D6","v":0},1880,0]
[null,"通常点灯","全面","１時間単位","8：30～22：00",null,"：",null,"～",null,"：",null,{"$f":"+Sheet3!D7","v":0},830,0]
[null,null,"半面","１時間単位","8：30～22：00",null,"：",null,"～",null,"：",null,{"$f":"+Sheet3!D8","v":0},520,0]
[null,null,"1/3面","１時間単位","8：30～22：00",null,"：",null,"～",null,"：",null,{"$f":"+Sheet3!D9","v":0},410,0]
[null,"展示会用","全面","１時間単位","8：30～22：00",null,"：",null,"～",null,"：",null,{"$f":"+Sheet3!D10","v":0},520,0]
["舞台使用料",null,null,"１時間単位","8：30～22：00",null,"：",null,"～",null,"：",null,{"$f":"+Sheet3!D11","v":0},1570,0]
["舞台照明設備使用料","使用基本料金",null,"１時間単位","8：30～22：00",null,"：",null,"～",null,"：",null,{"$f":"+Sheet3!D12","v":0},2610,0]
["舞台音響設備使用料","使用基本料金",null,"１時間単位","8：30～22：00",null,"：",null,"～",null,"：",null,{"$f":"+Sheet3!D13","v":0},830,0]
["空調設備使用料",null,null,"１時間単位","8：30～22：00",null,"：",null,"～",null,"：",null,{"$f":"+Sheet3!D14","v":0},9420,{"$f":"IF($E$3=1,M18*N18*3,M18*N18)","v":0}]
["移動観覧席使用料",null,null,"１時間単位","8：30～22：00",null,"：",null,"～",null,"：",null,{"$f":"+Sheet3!D15","v":0},1040,0]
["トレーニング室","全面",null,"１時間単位","8：30～22：00",null,"：",null,"～",null,"：",null,{"$f":"+Sheet3!D16","v":0},520,0]
[null,"半面",null,"１時間単位","8：30～22：00",null,"：",null,"～",null,"：",null,{"$f":"+Sheet3!D17","v":0},310,0]
["会議室",null,null,"１時間単位","8：30～22：00",null,"：",null,"～",null,"：",null,{"$f":"+Sheet3!D18","v":0},310,0]
["シャワー",null,null,"人数",null,"人",null,"回数",null,null,null,null,"回",200,{"$f":"IF($E$3=1,I23*E23*N23*3,IF($E$4=1,I23*E23*N23/2,I23*E23*N23))","v":0}]
[]
[null,null,null,null,null,null,null,null,null,null,null,null,"合計",null,{"$f":"SUM(O7:O24)","v":0}]

{"sheet":"Sheet3","index":2,"n_rows":19,"n_cols":9,"rows_kept":19,"cut":false,"hidden":true,"merged":[]}
[]
[]
[{"$f":"+計算表!A7","v":"アリーナ使用料"},{"$f":"+計算表!J7-計算表!F7","v":0},{"$f":"+計算表!L7-計算表!H7","v":0},{"$f":"+IF(C3>0,B3+1,B3)","v":0},null,null,{"$f":"+例!J6-例!F6","v":1},{"$f":"+例!L6-例!H6","v":-30},{"$f":"+IF(H3>0,G3+1,G3)","v":1}]
[null,{"$f":"+計算表!J8-計算表!F8","v":0},{"$f":"+計算表!L8-計算表!H8","v":0},{"$f":"+IF(C4>0,B4+1,B4)","v":0},null,null,{"$f":"+例!J7-例!F7","v":0},{"$f":"+例!L7-例!H7","v":0},{"$f":"+IF(H4>0,G4+1,G4)","v":0}]
[null,{"$f":"+計算表!J9-計算表!F9","v":0},{"$f":"+計算表!L9-計算表!H9","v":0},{"$f":"+IF(C5>0,B5+1,B5)","v":0},null,null,{"$f":"+例!J8-例!F8","v":1},{"$f":"+例!L8-例!H8","v":-30},1]
[{"$f":"+計算表!A10","v":"アリーナ照明使用料"},{"$f":"+計算表!J10-計算表!F10","v":0},{"$f":"+計算表!L10-計算表!H10","v":0},0,null,null,{"$f":"+例!J9-例!F9","v":0},{"$f":"+例!L9-例!H9","v":0},0]
[null,{"$f":"+計算表!J11-計算表!F11","v":0},{"$f":"+計算表!L11-計算表!H11","v":0},0,null,null,{"$f":"+例!J10-例!F10","v":0},{"$f":"+例!L10-例!H10","v":0},0]
[null,{"$f":"+計算表!J12-計算表!F12","v":0},{"$f":"+計算表!L12-計算表!H12","v":0},0,null,null,{"$f":"+例!J11-例!F11","v":0},{"$f":"+例!L11-例!H11","v":0},0]
[null,{"$f":"+計算表!J13-計算表!F13","v":0},{"$f":"+計算表!L13-計算表!H13","v":0},0,null,null,{"$f":"+例!J12-例!F12","v":0},{"$f":"+例!L12-例!H12","v":0},0]
[null,{"$f":"+計算表!J14-計算表!F14","v":0},{"$f":"+計算表!L14-計算表!H14","v":0},0,null,null,{"$f":"+例!J13-例!F13","v":0},{"$f":"+例!L13-例!H13","v":0},0]
[{"$f":"+計算表!A15","v":"舞台使用料"},{"$f":"+計算表!J15-計算表!F15","v":0},{"$f":"+計算表!L15-計算表!H15","v":0},0,null,null,{"$f":"+例!J14-例!F14","v":0},{"$f":"+例!L14-例!H14","v":0},0]
[{"$f":"+計算表!A16","v":"舞台照明設備使用料"},{"$f":"+計算表!J16-計算表!F16","v":0},{"$f":"+計算表!L16-計算表!H16","v":0},0,null,null,{"$f":"+例!J15-例!F15","v":0},{"$f":"+例!L15-例!H15","v":0},0]
[{"$f":"+計算表!A17","v":"舞台音響設備使用料"},{"$f":"+計算表!J17-計算表!F17","v":0},{"$f":"+計算表!L17-計算表!H17","v":0},0,null,null,{"$f":"+例!J16-例!F16","v":0},{"$f":"+例!L16-例!H16","v":0},0]
[{"$f":"+計算表!A18","v":"空調設備使用料"},{"$f":"+計算表!J18-計算表!F18","v":0},{"$f":"+計算表!L18-計算表!H18","v":0},0,null,null,{"$f":"+例!J17-例!F17","v":0},{"$f":"+例!L17-例!H17","v":0},0]
[{"$f":"+計算表!A19","v":"移動観覧席使用料"},{"$f":"+計算表!J19-計算表!F19","v":0},{"$f":"+計算表!L19-計算表!H19","v":0},0,null,null,{"$f":"+例!J18-例!F18","v":0},{"$f":"+例!L18-例!H18","v":0},0]
[{"$f":"+計算表!A20","v":"トレーニング室"},{"$f":"+計算表!J20-計算表!F20","v":0},{"$f":"+計算表!L20-計算表!H20","v":0},0,null,null,{"$f":"+例!J19-例!F19","v":0},{"$f":"+例!L19-例!H19","v":0},0]
[null,{"$f":"+計算表!J21-計算表!F21","v":0},{"$f":"+計算表!L21-計算表!H21","v":0},{"$f":"+IF(C17>0,B17+1,B17)","v":0},null,null,{"$f":"+例!J20-例!F20","v":0},{"$f":"+例!L20-例!H20","v":0},0]
[{"$f":"+計算表!A22","v":"会議室"},{"$f":"+計算表!J22-計算表!F22","v":0},{"$f":"+計算表!L22-計算表!H22","v":0},0,null,null,{"$f":"+例!J21-例!F21","v":0},{"$f":"+例!L21-例!H21","v":0},0]
[{"$f":"+計算表!A23","v":"シャワー"}]

{"sheet":"Sheet1","index":3,"n_rows":27,"n_cols":25,"rows_kept":27,"cut":false,"hidden":true,"merged":[[21,8,21,11],[4,5,4,11]]}
["隠岐の島町総合体育館　料金計算表"]
["※黄色の枠に時間もしくは、1を入力して下さい。"]
["※営利目的の場合は、1を入力して下さい。　→　　"]
[]
[null,null,null,null,null,"使用時間",null,null,null,null,null,null,"使用時間","単価","金額"]
["アリーナ使用料","全面",null,"１時間単位","　8：30～22：00",{"$f":"IF(計算表!F7=\"\",\"\",計算表!F7)","v":""},{"$f":"IF(計算表!G7=\"\",\"\",計算表!G7)","v":"："},{"$f":"IF(計算表!H7=\"\",\"\",計算表!H7)","v":""},{"$f":"IF(計算表!I7=\"\",\"\",計算表!I7)","v":"～"},{"$f":"IF(計算表!J7=\"\",\"\",計算表!J7)","v":""},{"$f":"IF(計算表!K7=\"\",\"\",計算表!K7)","v":"："},{"$f":"IF(計算表!L7=\"\",\"\",計算表!L7)","v":""},{"$f":"IF(+Sheet3!D3=\"\",\"\",Sheet3!D3)","v":0},1600,{"$f":"+IF(M6=0,0,IF($E$3=\"\",M6*N6,M6*N6*3))","v":0},{"$f":"IF(O6=0,1,0)","v":1},{"$f":"IF(F6<8,1,0)","v":0},{"$f":"IF(J6>17,1,0)","v":1},null,null,null,null,null,{"$f":"+IF(O6=0,0,1)","v":0},{"$f":"+X6","v":0}]
[null,"半面",null,"１時間単位","　8：30～22：00",{"$f":"IF(計算表!F8=\"\",\"\",計算表!F8)","v":""},{"$f":"IF(計算表!G8=\"\",\"\",計算表!G8)","v":"："},{"$f":"IF(計算表!H8=\"\",\"\",計算表!H8)","v":""},{"$f":"IF(計算表!I8=\"\",\"\",計算表!I8)","v":"～"},{"$f":"IF(計算表!J8=\"\",\"\",計算表!J8)","v":""},{"$f":"IF(計算表!K8=\"\",\"\",計算表!K8)","v":"："},{"$f":"IF(計算表!L8=\"\",\"\",計算表!L8)","v":""},{"$f":"IF(+Sheet3!D4=\"\",\"\",Sheet3!D4)","v":0},800,{"$f":"+IF(M7=0,0,IF($E$3=\"\",M7*N7,M7*N7*3))","v":0},{"$f":"IF(O7=0,1,0)","v":1},{"$f":"IF(F7<8,1,0)","v":0},{"$f":"IF(J7>17,1,0)","v":1},null,null,null,null,null,{"$f":"+IF(O7=0,0,1)","v":0},{"$f":"IF(SUM(Y6)=1,0,+IF(X7=0,0,1))","v":0}]
[null,"１／３面",null,"１時間単位","　8：30～22：00",{"$f":"IF(計算表!F9=\"\",\"\",計算表!F9)","v":""},{"$f":"IF(計算表!G9=\"\",\"\",計算表!G9)","v":"："},{"$f":"IF(計算表!H9=\"\",\"\",計算表!H9)","v":""},{"$f":"IF(計算表!I9=\"\",\"\",計算表!I9)","v":"～"},{"$f":"IF(計算表!J9=\"\",\"\",計算表!J9)","v":""},{"$f":"IF(計算表!K9=\"\",\"\",計算表!K9)","v":"："},{"$f":"IF(計算表!L9=\"\",\"\",計算表!L9)","v":""},{"$f":"IF(+Sheet3!D5=\"\",\"\",Sheet3!D5)","v":0},600,0,1,{"$f":"IF(F8<8,1,0)","v":0},{"$f":"IF(J8>17,1,0)","v":1},null,null,null,null,null,0,{"$f":"IF(SUM($Y$6:Y7)=1,0,IF(X7>0,0,+IF(X8=0,0,1)))","v":0}]
["アリーナ照明使用料","全点灯",null,"１時間単位","　8：30～22：00",{"$f":"IF(計算表!F10=\"\",\"\",計算表!F10)","v":""},{"$f":"IF(計算表!G10=\"\",\"\",計算表!G10)","v":"："},{"$f":"IF(計算表!H10=\"\",\"\",計算表!H10)","v":""},{"$f":"IF(計算表!I10=\"\",\"\",計算表!I10)","v":"～"},{"$f":"IF(計算表!J10=\"\",\"\",計算表!J10)","v":""},{"$f":"IF(計算表!K10=\"\",\"\",計算表!K10)","v":"："},{"$f":"IF(計算表!L10=\"\",\"\",計算表!L10)","v":""},{"$f":"IF(+Sheet3!D6=\"\",\"\",Sheet3!D6)","v":0},1800,0,1,{"$f":"IF(F9<8,1,0)","v":0},{"$f":"IF(J9>=23,1,0)","v":1},null,null,null,null,null,0,{"$f":"IF(SUM($Y$6:Y8)=1,0,IF(X8>0,0,+IF(X9=0,0,1)))","v":0}]
[null,"通常点灯","全面","１時間単位","8：30～22：00",{"$f":"IF(計算表!F11=\"\",\"\",計算表!F11)","v":""},{"$f":"IF(計算表!G11=\"\",\"\",計算表!G11)","v":"："},{"$f":"IF(計算表!H11=\"\",\"\",計算表!H11)","v":""},{"$f":"IF(計算表!I11=\"\",\"\",計算表!I11)","v":"～"},{"$f":"IF(計算表!J11=\"\",\"\",計算表!J11)","v":""},{"$f":"IF(計算表!K11=\"\",\"\",計算表!K11)","v":"："},{"$f":"IF(計算表!L11=\"\",\"\",計算表!L11)","v":""},{"$f":"IF(+Sheet3!D7=\"\",\"\",Sheet3!D7)","v":0},800,0,1,0,1,null,null,null,null,null,0,{"$f":"IF(SUM($Y$6:Y9)=1,0,IF(X9>0,0,+IF(X10=0,0,1)))","v":0}]
[null,null,"半面","１時間単位","8：30～22：00",{"$f":"IF(計算表!F12=\"\",\"\",計算表!F12)","v":""},{"$f":"IF(計算表!G12=\"\",\"\",計算表!G12)","v":"："},{"$f":"IF(計算表!H12=\"\",\"\",計算表!H12)","v":""},{"$f":"IF(計算表!I12=\"\",\"\",計算表!I12)","v":"～"},{"$f":"IF(計算表!J12=\"\",\"\",計算表!J12)","v":""},{"$f":"IF(計算表!K12=\"\",\"\",計算表!K12)","v":"："},{"$f":"IF(計算表!L12=\"\",\"\",計算表!L12)","v":""},{"$f":"IF(+Sheet3!D8=\"\",\"\",Sheet3!D8)","v":0},500,0,1,0,1,null,null,null,null,null,0,{"$f":"IF(SUM($Y$6:Y10)=1,0,IF(X10>0,0,+IF(X11=0,0,1)))","v":0}]
[null,null,"1/3面","１時間単位","8：30～22：00",{"$f":"IF(計算表!F13=\"\",\"\",計算表!F13)","v":""},{"$f":"IF(計算表!G13=\"\",\"\",計算表!G13)","v":"："},{"$f":"IF(計算表!H13=\"\",\"\",計算表!H13)","v":""},{"$f":"IF(計算表!I13=\"\",\"\",計算表!I13)","v":"～"},{"$f":"IF(計算表!J13=\"\",\"\",計算表!J13)","v":""},{"$f":"IF(計算表!K13=\"\",\"\",計算表!K13)","v":"："},{"$f":"IF(計算表!L13=\"\",\"\",計算表!L13)","v":""},{"$f":"IF(+Sheet3!D9=\"\",\"\",Sheet3!D9)","v":0},400,0,1,0,1,null,null,null,null,null,{"$f":"+IF(O12=0,0,1)","v":0},{"$f":"+X12","v":0}]
[null,"展示会用","全面","１時間単位","8：30～22：00",{"$f":"IF(計算表!F14=\"\",\"\",計算表!F14)","v":""},{"$f":"IF(計算表!G14=\"\",\"\",計算表!G14)","v":"："},{"$f":"IF(計算表!H14=\"\",\"\",計算表!H14)","v":""},{"$f":"IF(計算表!I14=\"\",\"\",計算表!I14)","v":"～"},{"$f":"IF(計算表!J14=\"\",\"\",計算表!J14)","v":""},{"$f":"IF(計算表!K14=\"\",\"\",計算表!K14)","v":"："},{"$f":"IF(計算表!L14=\"\",\"\",計算表!L14)","v":""},{"$f":"IF(+Sheet3!D10=\"\",\"\",Sheet3!D10)","v":0},500,0,1,0,{"$f":"IF(J13>=23,1,0)","v":1},null,null,null,null,null,{"$f":"+IF(O13=0,0,1)","v":0},{"$f":"IF(SUM(Y12)=1,0,+IF(X13=0,0,1))","v":0}]
["舞台使用料",null,null,"１時間単位","8：30～22：00",{"$f":"IF(計算表!F15=\"\",\"\",計算表!F15)","v":""},{"$f":"IF(計算表!G15=\"\",\"\",計算表!G15)","v":"："},{"$f":"IF(計算表!H15=\"\",\"\",計算表!H15)","v":""},{"$f":"IF(計算表!I15=\"\",\"\",計算表!I15)","v":"～"},{"$f":"IF(計算表!J15=\"\",\"\",計算表!J15)","v":""},{"$f":"IF(計算表!K15=\"\",\"\",計算表!K15)","v":"："},{"$f":"IF(計算表!L15=\"\",\"\",計算表!L15)","v":""},{"$f":"IF(+Sheet3!D11=\"\",\"\",Sheet3!D11)","v":0},1500,0,1,0,1,null,null,null,null,null,0,{"$f":"IF(SUM($Y$6:Y13)=1,0,IF(X13>0,0,+IF(X14=0,0,1)))","v":0}]
["舞台照明設備使用料","使用基本料金",null,"１時間単位","8：30～22：00",{"$f":"IF(計算表!F16=\"\",\"\",計算表!F16)","v":""},{"$f":"IF(計算表!G16=\"\",\"\",計算表!G16)","v":"："},{"$f":"IF(計算表!H16=\"\",\"\",計算表!H16)","v":""},{"$f":"IF(計算表!I16=\"\",\"\",計算表!I16)","v":"～"},{"$f":"IF(計算表!J16=\"\",\"\",計算表!J16)","v":""},{"$f":"IF(計算表!K16=\"\",\"\",計算表!K16)","v":"："},{"$f":"IF(計算表!L16=\"\",\"\",計算表!L16)","v":""},{"$f":"IF(+Sheet3!D12=\"\",\"\",Sheet3!D12)","v":0},2500,0,1,0,1,null,null,null,null,null,0,{"$f":"IF(SUM($Y$12:Y14)=1,0,IF(X14>0,0,+IF(X15=0,0,1)))","v":0}]
["舞台照明設備使用料","使用基本料金",null,"１時間単位","8：30～22：00",{"$f":"IF(計算表!F17=\"\",\"\",計算表!F17)","v":""},{"$f":"IF(計算表!G17=\"\",\"\",計算表!G17)","v":"："},{"$f":"IF(計算表!H17=\"\",\"\",計算表!H17)","v":""},{"$f":"IF(計算表!I17=\"\",\"\",計算表!I17)","v":"～"},{"$f":"IF(計算表!J17=\"\",\"\",計算表!J17)","v":""},{"$f":"IF(計算表!K17=\"\",\"\",計算表!K17)","v":"："},{"$f":"IF(計算表!L17=\"\",\"\",計算表!L17)","v":""},{"$f":"+Sheet3!D13","v":0},800,0,1,0,1,null,null,null,null,null,0,{"$f":"IF(SUM($Y$13:Y15)=1,0,IF(X15>0,0,+IF(O16=0,0,1)))","v":0}]
["空調設備使用料",null,null,"１時間単位","8：30～22：00",{"$f":"IF(計算表!F18=\"\",\"\",計算表!F18)","v":""},{"$f":"IF(計算表!G18=\"\",\"\",計算表!G18)","v":"："},{"$f":"IF(計算表!H18=\"\",\"\",計算表!H18)","v":""},{"$f":"IF(計算表!I18=\"\",\"\",計算表!I18)","v":"～"},{"$f":"IF(計算表!J18=\"\",\"\",計算表!J18)","v":""},{"$f":"IF(計算表!K18=\"\",\"\",計算表!K18)","v":"："},{"$f":"IF(計算表!L18=\"\",\"\",計算表!L18)","v":""},{"$f":"+Sheet3!D14","v":0},9000,0,1,{"$f":"IF(F17<8,1,0)","v":0},1,null,null,null,null,null,0,{"$f":"IF(X17=0,0,1)","v":0}]
["移動観覧席使用料",null,null,"１時間単位","8：30～22：00",{"$f":"IF(計算表!F19=\"\",\"\",計算表!F19)","v":""},{"$f":"IF(計算表!G19=\"\",\"\",計算表!G19)","v":"："},{"$f":"IF(計算表!H19=\"\",\"\",計算表!H19)","v":""},{"$f":"IF(計算表!I19=\"\",\"\",計算表!I19)","v":"～"},{"$f":"IF(計算表!J19=\"\",\"\",計算表!J19)","v":""},{"$f":"IF(計算表!K19=\"\",\"\",計算表!K19)","v":"："},{"$f":"IF(計算表!L19=\"\",\"\",計算表!L19)","v":""},{"$f":"+Sheet3!D15","v":0},1000,0,1,0,1,null,null,null,null,null,0,{"$f":"IF(X18=0,0,1)","v":0}]
["トレーニング室","全面",null,"１時間単位","8：30～22：00",{"$f":"IF(計算表!F20=\"\",\"\",計算表!F20)","v":""},{"$f":"IF(計算表!G20=\"\",\"\",計算表!G20)","v":"："},{"$f":"IF(計算表!H20=\"\",\"\",計算表!H20)","v":""},{"$f":"IF(計算表!I20=\"\",\"\",計算表!I20)","v":"～"},{"$f":"IF(計算表!J20=\"\",\"\",計算表!J20)","v":""},{"$f":"IF(計算表!K20=\"\",\"\",計算表!K20)","v":"："},{"$f":"IF(計算表!L20=\"\",\"\",計算表!L20)","v":""},{"$f":"+Sheet3!D16","v":0},500,0,1,0,1,null,null,null,null,null,0,0]
[null,"半面",null,"１時間単位","8：30～22：00",{"$f":"IF(計算表!F21=\"\",\"\",計算表!F21)","v":""},{"$f":"IF(計算表!G21=\"\",\"\",計算表!G21)","v":"："},{"$f":"IF(計算表!H21=\"\",\"\",計算表!H21)","v":""},{"$f":"IF(計算表!I21=\"\",\"\",計算表!I21)","v":"～"},{"$f":"IF(計算表!J21=\"\",\"\",計算表!J21)","v":""},{"$f":"IF(計算表!K21=\"\",\"\",計算表!K21)","v":"："},{"$f":"IF(計算表!L21=\"\",\"\",計算表!L21)","v":""},{"$f":"+Sheet3!D17","v":0},300,0,1,0,1,null,null,null,null,null,0,0]
["会議室",null,null,"１時間単位","8：30～22：00",{"$f":"IF(計算表!F22=\"\",\"\",計算表!F22)","v":""},{"$f":"IF(計算表!G22=\"\",\"\",計算表!G22)","v":"："},{"$f":"IF(計算表!H22=\"\",\"\",計算表!H22)","v":""},{"$f":"IF(計算表!I22=\"\",\"\",計算表!I22)","v":"～"},{"$f":"IF(計算表!J22=\"\",\"\",計算表!J22)","v":""},{"$f":"IF(計算表!K22=\"\",\"\",計算表!K22)","v":"："},{"$f":"IF(計算表!L22=\"\",\"\",計算表!L22)","v":""},{"$f":"+Sheet3!D18","v":0},300,0,1,0,1,null,null,null,null,null,0,0]
["シャワー",null,null,"人数",{"$f":"+計算表!E23","v":0},"人",null,"回数",{"$f":"+計算表!I23","v":0},null,null,null,"回",200,{"$f":"+IF(E22=0,0,IF($E$3=\"\",I22*N22*E22,I22*N22*E22*3))","v":0},1,0,0,null,null,null,null,null,0,0]
[null,null,null,null,null,null,null,null,null,null,null,null,null,null,null,null,null,null,null,null,null,null,null,0,0]
[null,null,null,null,null,null,null,null,null,null,null,null,"合計",null,{"$f":"SUM(O6:O23)","v":0},null,null,null,null,null,null,null,null,{"$f":"+IF(O24=0,IF(O25=0,0,1),1)","v":0},0]
[null,null,null,null,null,null,null,null,null,null,null,null,null,null,null,null,null,null,null,null,null,null,null,{"$f":"+IF(O25=0,0,1)","v":0},{"$f":"IF(SUM(Y24)=1,0,+IF(X25=0,0,1))","v":0}]
[null,null,null,null,null,null,null,null,null,null,null,null,null,null,null,null,null,null,null,null,null,null,null,0,0]
[null,null,null,null,null,null,null,null,null,null,null,null,null,null,null,null,null,null,null,null,null,null,null,{"$f":"+IF(O27=0,0,1)","v":0},0]

{"sheet":"印刷用","index":4,"n_rows":23,"n_cols":17,"rows_kept":23,"cut":false,"hidden":false,"merged":[[0,14,0,16],[4,5,4,11],[35,4,35,10],[16,22,16,28],[14,14,14,15],[15,14,15,15],[4,12,4,13],[19,22,19,28],[20,22,20,28],[21,22,21,28],[16,14,16,15],[17,14,17,15],[18,14,18,15],[26,22,26,28],[27,22,27,28],[4,14,4,15],[5,14,5,15],[6,14,6,15],[7,14,7,15],[8,14,8,15],[10,14,10,15],[11,14,11,15],[13,14,13,15],[25,22,25,28],[9,14,9,15],[12,14,12,15],[36,4,36,10],[25,5,25,11],[25,12,25,13],[19,14,19,15],[20,14,20,15],[21,14,21,15],[25,14,25,15],[30,4,30,10]]}
["隠岐の島町総合体育館　料金計算表",null,null,null,null,null,null,null,null,null,null,null,null,null,"　　　年　　　月　　　日"]
[]
[{"$f":"IF(計算表!E3=1,\"営利目的\",\"\")","v":""},{"$f":"IF(計算表!E3=1,\"○\",\"\")","v":""}]
[]
[null,null,null,null,null,"使用時間",null,null,null,null,null,null,"使用時間",null,"単価",null,"金額"]
["アリーナ使用料",{"$f":"IF(Sheet1!O6=0,\"\",Sheet1!B6)","v":""},null,{"$f":"IF(B6=\"\",\"\",Sheet1!D6)","v":""},{"$f":"IF(D6=\"\",\"\",Sheet1!E6)","v":""},{"$f":"IF(Sheet1!F6=\"\",\"\",Sheet1!F6)","v":""},{"$f":"IF(Sheet1!G6=\"\",\"\",Sheet1!G6)","v":"："},{"$f":"IF(Sheet1!H6=\"\",\"\",Sheet1!H6)","v":""},{"$f":"IF(Sheet1!I6=\"\",\"\",Sheet1!I6)","v":"～"},{"$f":"IF(Sheet1!J6=\"\",\"\",Sheet1!J6)","v":""},{"$f":"IF(Sheet1!K6=\"\",\"\",Sheet1!K6)","v":"："},{"$f":"IF(Sheet1!L6=\"\",\"\",Sheet1!L6)","v":""},{"$f":"IF(Sheet1!M6=0,\"\",Sheet1!M6)","v":""},{"$f":"IF(M6=\"\",\"\",\"時間\")","v":""},{"$f":"IF(Sheet1!O6=0,\"\",Sheet1!N6)","v":""},null,{"$f":"IF(Sheet1!O6=0,\"\",Sheet1!O6)","v":""}]
[null,{"$f":"IF(Sheet1!O7=0,\"\",Sheet1!B7)","v":""},null,{"$f":"IF(B7=\"\",\"\",Sheet1!D7)","v":""},{"$f":"IF(D7=\"\",\"\",Sheet1!E7)","v":""},{"$f":"IF(Sheet1!F7=\"\",\"\",Sheet1!F7)","v":""},{"$f":"IF(Sheet1!G7=\"\",\"\",Sheet1!G7)","v":"："},{"$f":"IF(Sheet1!H7=\"\",\"\",Sheet1!H7)","v":""},{"$f":"IF(Sheet1!I7=\"\",\"\",Sheet1!I7)","v":"～"},{"$f":"IF(Sheet1!J7=\"\",\"\",Sheet1!J7)","v":""},{"$f":"IF(Sheet1!K7=\"\",\"\",Sheet1!K7)","v":"："},{"$f":"IF(Sheet1!L7=\"\",\"\",Sheet1!L7)","v":""},{"$f":"IF(Sheet1!M7=0,\"\",Sheet1!M7)","v":""},"",{"$f":"IF(Sheet1!O7=0,\"\",Sheet1!N7)","v":""},null,{"$f":"IF(Sheet1!O7=0,\"\",Sheet1!O7)","v":""}]
[null,{"$f":"IF(Sheet1!O8=0,\"\",Sheet1!B8)","v":""},null,{"$f":"IF(B8=\"\",\"\",Sheet1!D8)","v":""},{"$f":"IF(D8=\"\",\"\",Sheet1!E8)","v":""},{"$f":"IF(Sheet1!F8=\"\",\"\",Sheet1!F8)","v":""},{"$f":"IF(Sheet1!G8=\"\",\"\",Sheet1!G8)","v":"："},{"$f":"IF(Sheet1!H8=\"\",\"\",Sheet1!H8)","v":""},{"$f":"IF(Sheet1!I8=\"\",\"\",Sheet1!I8)","v":"～"},{"$f":"IF(Sheet1!J8=\"\",\"\",Sheet1!J8)","v":""},{"$f":"IF(Sheet1!K8=\"\",\"\",Sheet1!K8)","v":"："},{"$f":"IF(Sheet1!L8=\"\",\"\",Sheet1!L8)","v":""},{"$f":"IF(Sheet1!M8=0,\"\",Sheet1!M8)","v":""},"",{"$f":"IF(Sheet1!O8=0,\"\",Sheet1!N8)","v":""},null,{"$f":"IF(Sheet1!O8=0,\"\",Sheet1!O8)","v":""}]
["アリーナ照明使用料",{"$f":"IF(Sheet1!O9=0,\"\",Sheet1!B9)","v":""},null,{"$f":"IF(B9=\"\",\"\",Sheet1!D9)","v":""},{"$f":"IF(D9=\"\",\"\",Sheet1!E9)","v":""},{"$f":"IF(Sheet1!F9=\"\",\"\",Sheet1!F9)","v":""},{"$f":"IF(Sheet1!G9=\"\",\"\",Sheet1!G9)","v":"："},{"$f":"IF(Sheet1!H9=\"\",\"\",Sheet1!H9)","v":""},{"$f":"IF(Sheet1!I9=\"\",\"\",Sheet1!I9)","v":"～"},{"$f":"IF(Sheet1!J9=\"\",\"\",Sheet1!J9)","v":""},{"$f":"IF(Sheet1!K9=\"\",\"\",Sheet1!K9)","v":"："},{"$f":"IF(Sheet1!L9=\"\",\"\",Sheet1!L9)","v":""},{"$f":"IF(Sheet1!M9=0,\"\",Sheet1!M9)","v":""},"",{"$f":"IF(Sheet1!O9=0,\"\",Sheet1!N9)","v":""},null,{"$f":"IF(Sheet1!O9=0,\"\",Sheet1!O9)","v":""}]
[null,{"$f":"IF(Sheet1!O10=0,\"\",Sheet1!B10)","v":""},{"$f":"IF(Sheet1!O10=0,\"\",Sheet1!C10)","v":""},{"$f":"IF(B10=\"\",\"\",Sheet1!D10)","v":""},{"$f":"IF(D10=\"\",\"\",Sheet1!E10)","v":""},{"$f":"IF(Sheet1!F10=\"\",\"\",Sheet1!F10)","v":""},{"$f":"IF(Sheet1!G10=\"\",\"\",Sheet1!G10)","v":"："},{"$f":"IF(Sheet1!H10=\"\",\"\",Sheet1!H10)","v":""},{"$f":"IF(Sheet1!I10=\"\",\"\",Sheet1!I10)","v":"～"},{"$f":"IF(Sheet1!J10=\"\",\"\",Sheet1!J10)","v":""},{"$f":"IF(Sheet1!K10=\"\",\"\",Sheet1!K10)","v":"："},{"$f":"IF(Sheet1!L10=\"\",\"\",Sheet1!L10)","v":""},{"$f":"IF(Sheet1!M10=0,\"\",Sheet1!M10)","v":""},"",{"$f":"IF(Sheet1!O10=0,\"\",Sheet1!N10)","v":""},null,{"$f":"IF(Sheet1!O10=0,\"\",Sheet1!O10)","v":""}]
[null,{"$f":"IF(C11=\"\",\"\",Sheet1!B10)","v":""},{"$f":"IF(Sheet1!O11=0,\"\",Sheet1!C11)","v":""},{"$f":"IF(B11=\"\",\"\",Sheet1!D11)","v":""},{"$f":"IF(D11=\"\",\"\",Sheet1!E11)","v":""},{"$f":"IF(Sheet1!F11=\"\",\"\",Sheet1!F11)","v":""},{"$f":"IF(Sheet1!G11=\"\",\"\",Sheet1!G11)","v":"："},{"$f":"IF(Sheet1!H11=\"\",\"\",Sheet1!H11)","v":""},{"$f":"IF(Sheet1!I11=\"\",\"\",Sheet1!I11)","v":"～"},{"$f":"IF(Sheet1!J11=\"\",\"\",Sheet1!J11)","v":""},{"$f":"IF(Sheet1!K11=\"\",\"\",Sheet1!K11)","v":"："},{"$f":"IF(Sheet1!L11=\"\",\"\",Sheet1!L11)","v":""},{"$f":"IF(Sheet1!M11=0,\"\",Sheet1!M11)","v":""},"",{"$f":"IF(Sheet1!O11=0,\"\",Sheet1!N11)","v":""},null,{"$f":"IF(Sheet1!O11=0,\"\",Sheet1!O11)","v":""}]
[null,{"$f":"IF(C12=\"\",\"\",Sheet1!B10)","v":""},{"$f":"IF(Sheet1!O12=0,\"\",Sheet1!C12)","v":""},{"$f":"IF(B12=\"\",\"\",Sheet1!D12)","v":""},{"$f":"IF(D12=\"\",\"\",Sheet1!E12)","v":""},{"$f":"IF(Sheet1!F12=\"\",\"\",Sheet1!F12)","v":""},{"$f":"IF(Sheet1!G12=\"\",\"\",Sheet1!G12)","v":"："},{"$f":"IF(Sheet1!H12=\"\",\"\",Sheet1!H12)","v":""},{"$f":"IF(Sheet1!I12=\"\",\"\",Sheet1!I12)","v":"～"},{"$f":"IF(Sheet1!J12=\"\",\"\",Sheet1!J12)","v":""},{"$f":"IF(Sheet1!K12=\"\",\"\",Sheet1!K12)","v":"："},{"$f":"IF(Sheet1!L12=\"\",\"\",Sheet1!L12)","v":""},{"$f":"IF(Sheet1!M12=0,\"\",Sheet1!M12)","v":""},"",{"$f":"IF(Sheet1!O12=0,\"\",Sheet1!N12)","v":""},null,{"$f":"IF(Sheet1!O12=0,\"\",Sheet1!O12)","v":""}]
[null,{"$f":"IF(Sheet1!O13=0,\"\",Sheet1!B13)","v":""},null,{"$f":"IF(B13=\"\",\"\",Sheet1!D13)","v":""},{"$f":"IF(D13=\"\",\"\",Sheet1!E13)","v":""},{"$f":"IF(Sheet1!F13=\"\",\"\",Sheet1!F13)","v":""},{"$f":"IF(Sheet1!G13=\"\",\"\",Sheet1!G13)","v":"："},{"$f":"IF(Sheet1!H13=\"\",\"\",Sheet1!H13)","v":""},{"$f":"IF(Sheet1!I13=\"\",\"\",Sheet1!I13)","v":"～"},{"$f":"IF(Sheet1!J13=\"\",\"\",Sheet1!J13)","v":""},{"$f":"IF(Sheet1!K13=\"\",\"\",Sheet1!K13)","v":"："},{"$f":"IF(Sheet1!L13=\"\",\"\",Sheet1!L13)","v":""},{"$f":"IF(Sheet1!M13=0,\"\",Sheet1!M13)","v":""},"",{"$f":"IF(Sheet1!O13=0,\"\",Sheet1!N13)","v":""},null,{"$f":"IF(Sheet1!O13=0,\"\",Sheet1!O13)","v":""}]
["舞台使用料",null,null,{"$f":"IF(Q14=\"\",\"\",Sheet1!D14)","v":""},{"$f":"IF(D14=\"\",\"\",Sheet1!E14)","v":""},{"$f":"IF(Sheet1!F14=\"\",\"\",Sheet1!F14)","v":""},{"$f":"IF(Sheet1!G14=\"\",\"\",Sheet1!G14)","v":"："},{"$f":"IF(Sheet1!H14=\"\",\"\",Sheet1!H14)","v":""},{"$f":"IF(Sheet1!I14=\"\",\"\",Sheet1!I14)","v":"～"},{"$f":"IF(Sheet1!J14=\"\",\"\",Sheet1!J14)","v":""},{"$f":"IF(Sheet1!K14=\"\",\"\",Sheet1!K14)","v":"："},{"$f":"IF(Sheet1!L14=\"\",\"\",Sheet1!L14)","v":""},{"$f":"IF(Sheet1!M14=0,\"\",Sheet1!M14)","v":""},"",{"$f":"IF(Sheet1!O14=0,\"\",Sheet1!N14)","v":""},null,{"$f":"IF(Sheet1!O14=0,\"\",Sheet1!O14)","v":""}]
["舞台照明設備使用料",{"$f":"IF(Sheet1!O15=0,\"\",Sheet1!B15)","v":""},null,{"$f":"IF(B15=\"\",\"\",Sheet1!D15)","v":""},{"$f":"IF(D15=\"\",\"\",Sheet1!E15)","v":""},{"$f":"IF(Sheet1!F15=\"\",\"\",Sheet1!F15)","v":""},{"$f":"IF(Sheet1!G15=\"\",\"\",Sheet1!G15)","v":"："},{"$f":"IF(Sheet1!H15=\"\",\"\",Sheet1!H15)","v":""},{"$f":"IF(Sheet1!I15=\"\",\"\",Sheet1!I15)","v":"～"},{"$f":"IF(Sheet1!J15=\"\",\"\",Sheet1!J15)","v":""},{"$f":"IF(Sheet1!K15=\"\",\"\",Sheet1!K15)","v":"："},{"$f":"IF(Sheet1!L15=\"\",\"\",Sheet1!L15)","v":""},{"$f":"IF(Sheet1!M15=0,\"\",Sheet1!M15)","v":""},"",{"$f":"IF(Sheet1!O15=0,\"\",Sheet1!N15)","v":""},null,{"$f":"IF(Sheet1!O15=0,\"\",Sheet1!O15)","v":""}]
["舞台音響設備使用料",{"$f":"IF(Sheet1!O16=0,\"\",Sheet1!B16)","v":""},null,{"$f":"IF(B16=\"\",\"\",Sheet1!D16)","v":""},{"$f":"IF(D16=\"\",\"\",Sheet1!E16)","v":""},{"$f":"IF(Sheet1!F16=\"\",\"\",Sheet1!F16)","v":""},{"$f":"IF(Sheet1!G16=\"\",\"\",Sheet1!G16)","v":"："},{"$f":"IF(Sheet1!H16=\"\",\"\",Sheet1!H16)","v":""},{"$f":"IF(Sheet1!I16=\"\",\"\",Sheet1!I16)","v":"～"},{"$f":"IF(Sheet1!J16=\"\",\"\",Sheet1!J16)","v":""},{"$f":"IF(Sheet1!K16=\"\",\"\",Sheet1!K16)","v":"："},{"$f":"IF(Sheet1!L16=\"\",\"\",Sheet1!L16)","v":""},{"$f":"IF(Sheet1!M16=0,\"\",Sheet1!M16)","v":""},"",{"$f":"IF(Sheet1!O16=0,\"\",Sheet1!N16)","v":""},null,{"$f":"IF(Sheet1!O16=0,\"\",Sheet1!O16)","v":""}]
["空調設備使用料",null,null,{"$f":"IF(Q17=\"\",\"\",Sheet1!D17)","v":""},{"$f":"IF(D17=\"\",\"\",Sheet1!E17)","v":""},{"$f":"IF(Sheet1!F17=\"\",\"\",Sheet1!F17)","v":""},{"$f":"IF(Sheet1!G17=\"\",\"\",Sheet1!G17)","v":"："},{"$f":"IF(Sheet1!H17=\"\",\"\",Sheet1!H17)","v":""},{"$f":"IF(Sheet1!I17=\"\",\"\",Sheet1!I17)","v":"～"},{"$f":"IF(Sheet1!J17=\"\",\"\",Sheet1!J17)","v":""},{"$f":"IF(Sheet1!K17=\"\",\"\",Sheet1!K17)","v":"："},{"$f":"IF(Sheet1!L17=\"\",\"\",Sheet1!L17)","v":""},{"$f":"IF(Sheet1!M17=0,\"\",Sheet1!M17)","v":""},"",{"$f":"IF(Sheet1!O17=0,\"\",Sheet1!N17)","v":""},null,{"$f":"IF(Sheet1!O17=0,\"\",Sheet1!O17)","v":""}]
["移動観覧席使用料",null,null,{"$f":"IF(Q18=\"\",\"\",Sheet1!D18)","v":""},{"$f":"IF(D18=\"\",\"\",Sheet1!E18)","v":""},{"$f":"IF(Sheet1!F18=\"\",\"\",Sheet1!F18)","v":""},{"$f":"IF(Sheet1!G18=\"\",\"\",Sheet1!G18)","v":"："},{"$f":"IF(Sheet1!H18=\"\",\"\",Sheet1!H18)","v":""},{"$f":"IF(Sheet1!I18=\"\",\"\",Sheet1!I18)","v":"～"},{"$f":"IF(Sheet1!J18=\"\",\"\",Sheet1!J18)","v":""},{"$f":"IF(Sheet1!K18=\"\",\"\",Sheet1!K18)","v":"："},{"$f":"IF(Sheet1!L18=\"\",\"\",Sheet1!L18)","v":""},{"$f":"IF(Sheet1!M18=0,\"\",Sheet1!M18)","v":""},"",{"$f":"IF(Sheet1!O18=0,\"\",Sheet1!N18)","v":""},null,{"$f":"IF(Sheet1!O18=0,\"\",Sheet1!O18)","v":""}]
["トレーニング室",{"$f":"IF(Sheet1!O19=0,\"\",Sheet1!B19)","v":""},null,{"$f":"IF(B19=\"\",\"\",Sheet1!D19)","v":""},{"$f":"IF(D19=\"\",\"\",Sheet1!E19)","v":""},{"$f":"IF(Sheet1!F19=\"\",\"\",Sheet1!F19)","v":""},{"$f":"IF(Sheet1!G19=\"\",\"\",Sheet1!G19)","v":"："},{"$f":"IF(Sheet1!H19=\"\",\"\",Sheet1!H19)","v":""},{"$f":"IF(Sheet1!I19=\"\",\"\",Sheet1!I19)","v":"～"},{"$f":"IF(Sheet1!J19=\"\",\"\",Sheet1!J19)","v":""},{"$f":"IF(Sheet1!K19=\"\",\"\",Sheet1!K19)","v":"："},{"$f":"IF(Sheet1!L19=\"\",\"\",Sheet1!L19)","v":""},{"$f":"IF(Sheet1!M19=0,\"\",Sheet1!M19)","v":""},"",{"$f":"IF(Sheet1!O19=0,\"\",Sheet1!N19)","v":""},null,{"$f":"IF(Sheet1!O19=0,\"\",Sheet1!O19)","v":""}]
[null,{"$f":"IF(Sheet1!O20=0,\"\",Sheet1!B20)","v":""},null,{"$f":"IF(B20=\"\",\"\",Sheet1!D20)","v":""},{"$f":"IF(D20=\"\",\"\",Sheet1!E20)","v":""},{"$f":"IF(Sheet1!F20=\"\",\"\",Sheet1!F20)","v":""},{"$f":"IF(Sheet1!G20=\"\",\"\",Sheet1!G20)","v":"："},{"$f":"IF(Sheet1!H20=\"\",\"\",Sheet1!H20)","v":""},{"$f":"IF(Sheet1!I20=\"\",\"\",Sheet1!I20)","v":"～"},{"$f":"IF(Sheet1!J20=\"\",\"\",Sheet1!J20)","v":""},{"$f":"IF(Sheet1!K20=\"\",\"\",Sheet1!K20)","v":"："},{"$f":"IF(Sheet1!L20=\"\",\"\",Sheet1!L20)","v":""},{"$f":"IF(Sheet1!M20=0,\"\",Sheet1!M20)","v":""},"",{"$f":"IF(Sheet1!O20=0,\"\",Sheet1!N20)","v":""},null,{"$f":"IF(Sheet1!O20=0,\"\",Sheet1!O20)","v":""}]
["会議室",{"$f":"IF(Sheet1!O21=0,\"\",Sheet1!B21)","v":""},null,{"$f":"IF(B21=\"\",\"\",Sheet1!D21)","v":""},{"$f":"IF(D21=\"\",\"\",Sheet1!E21)","v":""},{"$f":"IF(Sheet1!F21=\"\",\"\",Sheet1!F21)","v":""},{"$f":"IF(Sheet1!G21=\"\",\"\",Sheet1!G21)","v":"："},{"$f":"IF(Sheet1!H21=\"\",\"\",Sheet1!H21)","v":""},{"$f":"IF(Sheet1!I21=\"\",\"\",Sheet1!I21)","v":"～"},{"$f":"IF(Sheet1!J21=\"\",\"\",Sheet1!J21)","v":""},{"$f":"IF(Sheet1!K21=\"\",\"\",Sheet1!K21)","v":"："},{"$f":"IF(Sheet1!L21=\"\",\"\",Sheet1!L21)","v":""},{"$f":"IF(Sheet1!M21=0,\"\",Sheet1!M21)","v":""},"",{"$f":"IF(Sheet1!O21=0,\"\",Sheet1!N21)","v":""},null,{"$f":"IF(Sheet1!O21=0,\"\",Sheet1!O21)","v":""}]
["シャワー",{"$f":"IF(Q22=0,\"\",Sheet1!B22)","v":0},null,{"$f":"IF(B22=\"\",\"\",Sheet1!D22)","v":"人数"},{"$f":"IF(D22=\"\",\"\",Sheet1!E22)","v":0},{"$f":"IF(Sheet1!F22=\"\",\"\",Sheet1!F22)","v":"人"},{"$f":"IF(Sheet1!G22=\"\",\"\",Sheet1!G22)","v":""},{"$f":"IF(Sheet1!H22=\"\",\"\",Sheet1!H22)","v":"回数"},{"$f":"IF(Sheet1!I22=\"\",\"\",Sheet1!I22)","v":0},{"$f":"IF(Sheet1!J22=\"\",\"\",Sheet1!J22)","v":""},{"$f":"IF(Sheet1!K22=\"\",\"\",Sheet1!K22)","v":""},{"$f":"IF(Sheet1!L22=\"\",\"\",Sheet1!L22)","v":""},{"$f":"IF(Sheet1!M22=0,\"\",Sheet1!M22)","v":"回"},null,{"$f":"IF(Sheet1!O22=0,\"\",Sheet1!N22)","v":""},null,{"$f":"IF(Sheet1!O22=0,\"\",Sheet1!O22)","v":""}]
[null,null,null,null,null,null,null,null,null,null,null,null,"合計",null,null,null,{"$f":"SUM(Q6:Q22)","v":0}]