{"text_format":"1","workbook":"xlsx","n_sheets":5,"sheets":["例","計算表","Sheet3","Sheet1","印刷用"],"not_rendered":{"charts":0,"images":0,"macros":0,"external_links":0,"defined_names":0,"comments":0,"pivot_tables":0},"unopened":[],"bounds":{"document_bytes":16777216,"sheet_cells":100000,"rows_first":2000,"rows_last":500,"rows_between":2000,"halvings":0,"cell_chars":16384,"cell_head_chars":4096},"cells_cut":0,"cells_raw":0,"read":"whole","date_system":"1900"}

{"sheet":"例","index":0,"n_rows":30,"n_cols":32,"rows_kept":30,"cut":false,"hidden":false,"merged":[[27,20,27,26],[28,20,28,26],[20,20,20,26],[21,20,21,26],[22,20,22,26],[26,8,26,11],[26,20,26,26],[4,20,4,26],[9,20,9,26],[15,20,15,26],[16,20,16,26],[18,5,18,11],[4,5,4,11],[20,5,20,11]]}
["隠岐の島町総合体育館　料金計算表"]
["※黄色の枠に時間もしくは、1を入力して下さい。"]
["※営利目的の場合は、1を入力して下さい。　→　　"]
[]
[null,null,null,null,null,"使用時間",null,null,null,null,null,null,"使用時間","単価","金額",null,"舞台照明設備オプション料",null,null,null,"使用時間",null,null,null,null,null,null,"使用時間","単価","基",null,"金額"]
["アリーナ使用料","全面",null,"１時間単位","　8：30～17：00",16,"：",30,"～",17,"：",0,{"$f":"+Sheet3!I3","v":1},1670,{"$f":"+IF(M6=0,0,IF(E3=\"\",M6*N6,M6*N6*3))","v":1670},null,"スポットライト　各種",null,"１時間単位","　8：30～22：00",8,"：",30,"～",17,"：",0,{"$f":"+Sheet3!I28","v":9},50,1,"基",{"$f":"+IF(AB6=0,0,IF($E$3=\"\",AB6*AC6*AD6,AB6*AC6*AD6*3))","v":450}]
[null,null,null,"１時間単位","17：00～22：00",17,"：",0,"～",18,"：",0,{"$f":"+Sheet3!I4","v":1},2090,{"$f":"+IF(M7=0,0,IF($E$3=\"\",M7*N7,M7*N7*3))","v":2090},null,"センターピンスポットライト",null,"１時間単位","　8：30～22：00",null,"：",null,"～",null,"：",null,{"$f":"+Sheet3!I29","v":0},200,null,"基",{"$f":"+IF(AB7=0,0,IF($E$3=\"\",AB7*AC7*AD7,AB7*AC7*AD7*3))","v":0}]
[null,"半面",null,"１時間単位","　8：30～17：00",null,"：",null,"～",null,"：",null,{"$f":"+Sheet3!I5","v":0},830,{"$f":"+IF(M8=0,0,IF($E$3=\"\",M8*N8,M8*N8*3))","v":0},null,"プロジェクタースポットライト",null,"１時間単位","　8：30～22：00",null,"：",null,"～",null,"：",null,{"$f":"+Sheet3!I30","v":0},100,null,"基",0]
[null,null,null,"１時間単位","17：00～22：00",null,"：",null,"～",null,"：",null,{"$f":"+Sheet3!I6","v":0},1040,0,null,"移動式調光盤",null,"１時間単位","　8：30～22：00",null,"：",null,"～",null,"：",null,{"$f":"+Sheet3!I31","v":0},100,null,"基",0]
[null,"１／３面",null,"１時間単位","　8：30～17：00",8,"：",30,"～",9,"：",0,{"$f":"+Sheet3!I7","v":1},620,620,null,null,null,null,null,null,null,null,null,null,null,null,null,"合計",null,null,{"$f":"SUM(AF6:AF9)","v":450}]
[null,null,null,"１時間単位","17：00～22：00",null,"：",null,"～",null,"：",null,{"$f":"+Sheet3!I8","v":0},730,0]
["アリーナ照明使用料","全点灯",null,"１時間単位","　8：30～22：00",null,"：",null,"～",null,"：",null,{"$f":"+Sheet3!I9","v":0},1880,0,null,"舞台音響設備オプション料"]
[null,"通常点灯","全面","１時間単位","8：30～22：00",null,"：",null,"～",null,"：",null,{"$f":"+Sheet3!I10","v":0},830,0,null,"コントロールワゴン",null,"１時間単位","　8：30～22：00",null,"：",null,"～",null,"：",null,{"$f":"+Sheet3!I35","v":0},100,null,"基",{"$f":"+IF(AB13=0,0,IF($E$3=\"\",AB13*AC13*AD13,AB13*AC13*AD13*3))","v":0}]
[null,null,"半面","１時間単位","8：30～22：00",null,"：",null,"～",null,"：",null,{"$f":"+Sheet3!I11","v":0},520,0,null,"マイク　各種",null,"１時間単位","　8：30～22：00",8,"：",30,"～",9,"：",0,{"$f":"+Sheet3!I36","v":1},50,1,"基",{"$f":"+IF(AB14=0,0,IF($E$3=\"\",AB14*AC14*AD14,AB14*AC14*AD14*3))","v":50}]
[null,null,"1/3面","１時間単位","8：30～22：00",null,"：",null,"～",null,"：",null,{"$f":"+Sheet3!I12","v":0},410,0,null,"スピーカー　各種",null,"１時間単位","　8：30～22：00",null,"：",null,"～",null,"：",null,{"$f":"+Sheet3!I37","v":0},50,null,"基",0]
[null,"展示会用","全面","１時間単位","8：30～22：00",null,"：",null,"～",null,"：",null,{"$f":"+Sheet3!I13","v":0},520,0,null,null,null,null,null,null,null,null,null,null,null,null,null,"合計",null,null,{"$f":"SUM(AF12:AF15)","v":50}]
["舞台使用料",null,null,"１時間単位","8：30～22：00",null,"：",null,"～",null,"：",null,{"$f":"+Sheet3!I14","v":0},1570,0]
["舞台照明設備使用料","使用基本料金",null,"１時間単位","8：30～22：00",null,"：",null,"～",null,"：",null,{"$f":"+Sheet3!I15","v":0},2610,0]
[null,"オプション",null,null,null,null,null,null,null,null,null,null,null,null,{"$f":"+IF(AF10=0,0,IF($E$3=\"\",AF10,AF10*3))","v":450},"別表"]
["舞台音響設備使用料","使用基本料金",null,"１時間単位","8：30～22：00",null,"：",null,"～",null,"：",null,{"$f":"+Sheet3!I17","v":0},830,0]
[null,"オプション",null,null,null,null,null,null,null,null,null,null,null,null,{"$f":"+IF(AF16=0,0,IF($E$3=\"\",AF16,AF16*3))","v":50},"別表"]
["空調設備使用料",null,null,"１時間単位","8：30～22：00",null,"：",null,"～",null,"：",null,{"$f":"+Sheet3!I19","v":0},9420,0]
["移動観覧席使用料",null,null,"１時間単位","8：30～22：00",null,"：",null,"～",null,"：",null,{"$f":"+Sheet3!I20","v":0},1040,0]
["トレーニング室","全面",null,"１時間単位","8：30～22：00",null,"：",null,"～",null,"：",null,{"$f":"+Sheet3!I21","v":0},520,0]
[null,"半面",null,"１時間単位","8：30～22：00",null,"：",null,"～",null,"：",null,{"$f":"+Sheet3!I22","v":0},310,0]
["会議室",null,null,"１時間単位","8：30～22：00",null,"：",null,"～",null,"：",null,{"$f":"+Sheet3!I23","v":0},310,0]
["シャワー",null,null,"人数",1,"人",null,"回数",1,null,null,null,"回",200,{"$f":"+IF(E27=0,0,IF($E$3=\"\",I27*N27*E27,I27*N27*E27*3))","v":200}]
[]
[]
[null,null,null,null,null,null,null,null,null,null,null,null,"１階合計",null,{"$f":"SUM(O6:O29)","v":5080}]

{"sheet":"計算表","index":1,"n_rows":30,"n_cols":32,"rows_kept":30,"cut":false,"hidden":false,"merged":[[28,20,28,26],[29,20,29,26],[16,20,16,26],[17,20,17,26],[21,20,21,26],[22,20,22,26],[23,20,23,26],[27,20,27,26],[27,8,27,11],[10,20,10,26],[5,20,5,26],[19,5,19,11],[21,5,21,11],[5,5,5,11]]}
["隠岐の島町総合体育館　料金計算表"]
["※黄色の枠に時間もしくは、1を入力して下さい。"]
["※営利目的の場合は、1を入力して下さい。　→　　"]
["※町内高等学校の場合は、1を入力して下さい。　→　　"]
[null,null,null,null,null,null,null,null,null,null,null,null,null,null,null,null,"別表"]
[null,null,null,null,null,"使用時間",null,null,null,null,null,null,"使用時間","単価","金額",null,"舞台照明設備オプション料",null,null,null,"使用時間",null,null,null,null,null,null,"使用時間","単価","基",null,"金額"]
["アリーナ使用料","全面",null,"１時間単位","　8：30～17：00",null,"：",null,"～",null,"：",null,{"$f":"IF(F7<8,0,IF(J7>17,0,+Sheet3!D3))","v":0},1670,{"$f":"IF($F$3=1,M7*N7*3,IF($F$4=1,M7*N7/2,M7*N7))","v":0},null,"スポットライト　各種",null,"１時間単位","　8：30～22：00",null,"：",null,"～",null,"：",null,{"$f":"+Sheet3!D28","v":0},50,null,"基",{"$f":"IF($F$3=1,AD7*AB7*AC7*3,IF($F$4=1,AD7*AB7*AC7/2,AD7*AB7*AC7))","v":0}]
[null,null,null,"１時間単位","17：00～22：00",null,"：",null,"～",null,"：",null,{"$f":"IF(F8<17,0,IF(J8>23,0,+Sheet3!D4))","v":0},2090,{"$f":"IF($F$3=1,M8*N8*3,IF($F$4=1,M8*N8/2,M8*N8))","v":0},null,"センターピンスポットライト",null,"１時間単位","　8：30～22：00",null,"：",null,"～",null,"：",null,{"$f":"+Sheet3!D29","v":0},200,null,"基",{"$f":"IF($F$3=1,AD8*AB8*AC8*3,IF($F$4=1,AD8*AB8*AC8/2,AD8*AB8*AC8))","v":0}]
[null,"半面",null,"１時間単位","　8：30～17：00",null,"：",null,"～",null,"：",null,{"$f":"IF(F9<8,0,IF(J9>17,0,+Sheet3!D5))","v":0},830,0,null,"プロジェクタースポットライト",null,"１時間単位","　8：30～22：00",null,"：",null,"～",null,"：",null,{"$f":"+Sheet3!D30","v":0},100,null,"基",0]
[null,null,null,"１時間単位","17：00～22：00",null,"：",null,"～",null,"：",null,{"$f":"IF(F10<17,0,IF(J10>23,0,+Sheet3!D6))","v":0},1040,0,null,"移動式調光盤",null,"１時間単位","　8：30～22：00",null,"：",null,"～",null,"：",null,{"$f":"+Sheet3!D31","v":0},100,null,"基",0]
[null,"１／３面",null,"１時間単位","　8：30～17：00",null,"：",null,"～",null,"：",null,{"$f":"IF(F11<8,0,IF(J11>17,0,+Sheet3!D7))","v":0},620,0,null,null,null,null,null,null,null,null,null,null,null,null,null,"合計",null,null,{"$f":"SUM(AF7:AF10)","v":0}]
[null,null,null,"１時間単位","17：00～22：00",null,"：",null,"～",null,"：",null,{"$f":"IF(F12<8,0,IF(J12>17,0,+Sheet3!D8))","v":0},730,0]
["アリーナ照明使用料","全点灯",null,"１時間単位","　8：30～22：00",null,"：",null,"～",null,"：",null,{"$f":"IF(F13<8,0,IF(J13>23,0,+Sheet3!D9))","v":0},1880,0,null,"舞台音響設備オプション料"]
[null,"通常点灯","全面","１時間単位","8：30～22：00",null,"：",null,"～",null,"：",null,{"$f":"IF(F14<8,0,IF(J14>23,0,+Sheet3!D10))","v":0},830,0,null,"コントロールワゴン",null,"１時間単位","　8：30～22：00",null,"：",null,"～",null,"：",null,{"$f":"+Sheet3!D35","v":0},100,null,"基",{"$f":"IF($F$3=1,AD14*AB14*AC14*3,IF($F$4=1,AD14*AB14*AC14/2,AD14*AB14*AC14))","v":0}]
[null,null,"半面","１時間単位","8：30～22：00",null,"：",null,"～",null,"：",null,{"$f":"IF(F15<8,0,IF(J15>23,0,+Sheet3!D11))","v":0},520,0,null,"マイク　各種",null,"１時間単位","　8：30～22：00",null,"：",null,"～",null,"：",null,{"$f":"+Sheet3!D36","v":0},50,null,"基",0]
[null,null,"1/3面","１時間単位","8：30～22：00",null,"：",null,"～",null,"：",null,{"$f":"IF(F16<8,0,IF(J16>23,0,+Sheet3!D12))","v":0},410,0,null,"スピーカー　各種",null,"１時間単位","　8：30～22：00",null,"：",null,"～",null,"：",null,{"$f":"+Sheet3!D37","v":0},50,null,"基",0]
[null,"展示会用","全面","１時間単位","8：30～22：00",null,"：",null,"～",null,"：",null,{"$f":"IF(F17<8,0,IF(J17>23,0,+Sheet3!D13))","v":0},520,0,null,null,null,null,null,null,null,null,null,null,null,null,null,"合計",null,null,{"$f":"SUM(AF13:AF16)","v":0}]
["舞台使用料",null,null,"１時間単位","8：30～22：00",null,"：",null,"～",null,"：",null,{"$f":"IF(F18<8,0,IF(J18>23,0,+Sheet3!D14))","v":0},1570,0]
["舞台照明設備使用料","使用基本料金",null,"１時間単位","8：30～22：00",null,"：",null,"～",null,"：",null,{"$f":"IF(F19<8,0,IF(J19>23,0,+Sheet3!D15))","v":0},2610,0]
[null,"オプション",null,null,null,null,null,null,null,null,null,null,null,null,{"$f":"IF(AF11=\"\",\"\",AF11)","v":0},"別表"]
["舞台音響設備使用料","使用基本料金",null,"１時間単位","8：30～22：00",null,"：",null,"～",null,"：",null,{"$f":"IF(F21<8,0,IF(J21>23,0,+Sheet3!D17))","v":0},830,0]
[null,"オプション",null,null,null,null,null,null,null,null,null,null,null,null,{"$f":"IF(AF17=\"\",\"\",AF17)","v":0},"別表"]
["空調設備使用料",null,null,"１時間単位","8：30～22：00",null,"：",null,"～",null,"：",null,{"$f":"IF(F23<8,0,IF(J23>23,0,+Sheet3!D19))","v":0},9420,0]
["移動観覧席使用料",null,null,"１時間単位","8：30～22：00",null,"：",null,"～",null,"：",null,{"$f":"IF(F24<8,0,IF(J24>23,0,+Sheet3!D20))","v":0},1040,0]
["トレーニング室","全面",null,"１時間単位","8：30～22：00",null,"：",null,"～",null,"：",null,{"$f":"IF(F25<8,0,IF(J25>23,0,+Sheet3!D21))","v":0},520,0]
[null,"半面",null,"１時間単位","8：30～22：00",null,"：",null,"～",null,"：",null,{"$f":"IF(F26<8,0,IF(J26>23,0,+Sheet3!D22))","v":0},310,0]
["会議室",null,null,"１時間単位","8：30～22：00",null,"：",null,"～",null,"：",null,{"$f":"IF(F27<8,0,IF(J27>23,0,+Sheet3!D23))","v":0},310,0]
["シャワー",null,null,"人数",null,"人",null,"回数",null,null,null,null,"回",200,{"$f":"IF($F$3=1,I28*E28*N28*3,IF($F$4=1,I28*E28*N28/2,I28*E28*N28))","v":0}]
[]
[null,null,null,null,null,null,null,null,null,null,null,null,"合計",null,{"$f":"SUM(O7:O29)","v":0}]

{"sheet":"Sheet3","index":2,"n_rows":37,"n_cols":9,"rows_kept":37,"cut":false,"hidden":true,"merged":[]}
[]
[]
[{"$f":"+計算表!A7","v":"アリーナ使用料"},{"$f":"+計算表!J7-計算表!F7","v":0},{"$f":"+計算表!L7-計算表!H7","v":0},{"$f":"+IF(C3>0,B3+1,B3)","v":0},null,null,{"$f":"+例!J6-例!F6","v":1},{"$f":"+例!L6-例!H6","v":-30},{"$f":"+IF(H3>0,G3+1,G3)","v":1}]
[null,{"$f":"+計算表!J8-計算表!F8","v":0},{"$f":"+計算表!L8-計算表!H8","v":0},{"$f":"+IF(C4>0,B4+1,B4)","v":0},null,null,{"$f":"+例!J7-例!F7","v":1},{"$f":"+例!L7-例!H7","v":0},{"$f":"+IF(H4>0,G4+1,G4)","v":1}]
[null,{"$f":"+計算表!J9-計算表!F9","v":0},{"$f":"+計算表!L9-計算表!H9","v":0},0,null,null,{"$f":"+例!J8-例!F8","v":0},{"$f":"+例!L8-例!H8","v":0},0]
[null,{"$f":"+計算表!J10-計算表!F10","v":0},{"$f":"+計算表!L10-計算表!H10","v":0},{"$f":"+IF(C6>0,B6+1,B6)","v":0},null,null,{"$f":"+例!J9-例!F9","v":0},{"$f":"+例!L9-例!H9","v":0},0]
[null,{"$f":"+計算表!J11-計算表!F11","v":0},{"$f":"+計算表!L11-計算表!H11","v":0},0,null,null,{"$f":"+例!J10-例!F10","v":1},{"$f":"+例!L10-例!H10","v":-30},1]
[null,{"$f":"+計算表!J12-計算表!F12","v":0},{"$f":"+計算表!L12-計算表!H12","v":0},0,null,null,{"$f":"+例!J11-例!F11","v":0},{"$f":"+例!L11-例!H11","v":0},0]
[{"$f":"+計算表!A13","v":"アリーナ照明使用料"},{"$f":"+計算表!J13-計算表!F13","v":0},{"$f":"+計算表!L13-計算表!H13","v":0},0,null,null,{"$f":"+例!J12-例!F12","v":0},{"$f":"+例!L12-例!H12","v":0},0]
[null,{"$f":"+計算表!J14-計算表!F14","v":0},{"$f":"+計算表!L14-計算表!H14","v":0},0,null,null,{"$f":"+例!J13-例!F13","v":0},{"$f":"+例!L13-例!H13","v":0},0]
[null,{"$f":"+計算表!J15-計算表!F15","v":0},{"$f":"+計算表!L15-計算表!H15","v":0},0,null,null,{"$f":"+例!J14-例!F14","v":0},{"$f":"+例!L14-例!H14","v":0},0]
[null,{"$f":"+計算表!J16-計算表!F16","v":0},{"$f":"+計算表!L16-計算表!H16","v":0},0,null,null,{"$f":"+例!J15-例!F15","v":0},{"$f":"+例!L15-例!H15","v":0},0]
[null,{"$f":"+計算表!J17-計算表!F17","v":0},{"$f":"+計算表!L17-計算表!H17","v":0},0,null,null,{"$f":"+例!J16-例!F16","v":0},{"$f":"+例!L16-例!H16","v":0},0]
[{"$f":"+計算表!A18","v":"舞台使用料"},{"$f":"+計算表!J18-計算表!F18","v":0},{"$f":"+計算表!L18-計算表!H18","v":0},0,null,null,{"$f":"+例!J17-例!F17","v":0},{"$f":"+例!L17-例!H17","v":0},0]
[{"$f":"+計算表!A19","v":"舞台照明設備使用料"},{"$f":"+計算表!J19-計算表!F19","v":0},{"$f":"+計算表!L19-計算表!H19","v":0},0,null,null,{"$f":"+例!J18-例!F18","v":0},{"$f":"+例!L18-例!H18","v":0},0]
[null,{"$f":"+計算表!J20-計算表!F20","v":0},{"$f":"+計算表!L20-計算表!H20","v":0},0,null,null,{"$f":"+例!J19-例!F19","v":0},{"$f":"+例!L19-例!H19","v":0},0]
[{"$f":"+計算表!A21","v":"舞台音響設備使用料"},{"$f":"+計算表!J21-計算表!F21","v":0},{"$f":"+計算表!L21-計算表!H21","v":0},0,null,null,{"$f":"+例!J20-例!F20","v":0},{"$f":"+例!L20-例!H20","v":0},0]
[null,{"$f":"+計算表!J22-計算表!F22","v":0},{"$f":"+計算表!L22-計算表!H22","v":0},0,null,null,{"$f":"+例!J21-例!F21","v":0},{"$f":"+例!L21-例!H21","v":0},0]
[{"$f":"+計算表!A23","v":"空調設備使用料"},{"$f":"+計算表!J23-計算表!F23","v":0},{"$f":"+計算表!L23-計算表!H23","v":0},0,null,null,{"$f":"+例!J22-例!F22","v":0},{"$f":"+例!L22-例!H22","v":0},0]
[{"$f":"+計算表!A24","v":"移動観覧席使用料"},{"$f":"+計算表!J24-計算表!F24","v":0},{"$f":"+計算表!L24-計算表!H24","v":0},0,null,null,{"$f":"+例!J23-例!F23","v":0},{"$f":"+例!L23-例!H23","v":0},0]
[{"$f":"+計算表!A25","v":"トレーニング室"},{"$f":"+計算表!J25-計算表!F25","v":0},{"$f":"+計算表!L25-計算表!H25","v":0},0,null,null,{"$f":"+例!J24-例!F24","v":0},{"$f":"+例!L24-例!H24","v":0},0]
[null,{"$f":"+計算表!J26-計算表!F26","v":0},{"$f":"+計算表!L26-計算表!H26","v":0},{"$f":"+IF(C22>0,B22+1,B22)","v":0},null,null,{"$f":"+例!J25-例!F25","v":0},{"$f":"+例!L25-例!H25","v":0},0]
[{"$f":"+計算表!A27","v":"会議室"},{"$f":"+計算表!J27-計算表!F27","v":0},{"$f":"+計算表!L27-計算表!H27","v":0},0,null,null,{"$f":"+例!J26-例!F26","v":0},{"$f":"+例!L26-例!H26","v":0},0]
[{"$f":"+計算表!A28","v":"シャワー"}]
[]
[]
[]
[{"$f":"+計算表!Q7","v":"スポットライト　各種"},{"$f":"+計算表!Y7-計算表!U7","v":0},{"$f":"+計算表!AA7-計算表!W7","v":0},{"$f":"+IF(C28>0,B28+1,B28)","v":0},null,null,{"$f":"+例!Y6-例!U6","v":9},{"$f":"+例!AA6-例!W6","v":-30},{"$f":"+IF(H28>0,G28+1,G28)","v":9}]
[{"$f":"+計算表!Q8","v":"センターピンスポットライト"},{"$f":"+計算表!Y8-計算表!U8","v":0},{"$f":"+計算表!AA8-計算表!W8","v":0},{"$f":"+IF(C29>0,B29+1,B29)","v":0},null,null,{"$f":"+例!Y7-例!U7","v":0},{"$f":"+例!AA7-例!W7","v":0},{"$f":"+IF(H29>0,G29+1,G29)","v":0}]
[{"$f":"+計算表!Q9","v":"プロジェクタースポットライト"},{"$f":"+計算表!Y9-計算表!U9","v":0},{"$f":"+計算表!AA9-計算表!W9","v":0},0,null,null,{"$f":"+例!Y8-例!U8","v":0},{"$f":"+例!AA8-例!W8","v":0},0]
[{"$f":"+計算表!Q10","v":"移動式調光盤"},{"$f":"+計算表!Y10-計算表!U10","v":0},{"$f":"+計算表!AA10-計算表!W10","v":0},0,null,null,{"$f":"+例!Y9-例!U9","v":0},{"$f":"+例!AA9-例!W9","v":0},0]
[]
[]
[{"$f":"+計算表!Q13","v":"舞台音響設備オプション料"},{"$f":"+計算表!Y13-計算表!U13","v":0},{"$f":"+計算表!AA13-計算表!W13","v":0},0,null,null,{"$f":"+例!Y12-例!U12","v":0},{"$f":"+例!AA12-例!W12","v":0},0]
[{"$f":"+計算表!Q14","v":"コントロールワゴン"},{"$f":"+計算表!Y14-計算表!U14","v":0},{"$f":"+計算表!AA14-計算表!W14","v":0},0,null,null,{"$f":"+例!Y13-例!U13","v":0},{"$f":"+例!AA13-例!W13","v":0},0]
[{"$f":"+計算表!Q15","v":"マイク　各種"},{"$f":"+計算表!Y15-計算表!U15","v":0},{"$f":"+計算表!AA15-計算表!W15","v":0},0,null,null,{"$f":"+例!Y14-例!U14","v":1},{"$f":"+例!AA14-例!W14","v":-30},1]
[{"$f":"+計算表!Q16","v":"スピーカー　各種"},{"$f":"+計算表!Y16-計算表!U16","v":0},{"$f":"+計算表!AA16-計算表!W16","v":0},0,null,null,{"$f":"+例!Y15-例!U15","v":0},{"$f":"+例!AA15-例!W15","v":0},0]

{"sheet":"Sheet1","index":3,"n_rows":29,"n_cols":48,"rows_kept":29,"cut":false,"hidden":true,"merged":[[18,5,18,11],[4,5,4,11],[4,31,4,37],[9,31,9,37],[15,31,15,37],[16,31,16,37],[27,31,27,37],[28,31,28,37],[20,5,20,11],[20,31,20,37],[21,31,21,37],[22,31,22,37],[26,8,26,11],[26,31,26,37]]}
["隠岐の島町総合体育館　料金計算表"]
["※黄色の枠に時間もしくは、1を入力して下さい。"]
["※営利目的の場合は、1を入力して下さい。　→　　"]
[null,null,null,null,null,null,null,null,null,null,null,null,null,null,null,null,null,null,null,null,null,null,null,null,null,null,null,"別表"]
[null,null,null,null,null,"使用時間",null,null,null,null,null,null,"使用時間","単価","金額",null,null,null,null,null,null,null,null,null,null,null,null,"舞台照明設備オプション料",null,null,null,"使用時間",null,null,null,null,null,null,"使用時間","単価","基",null,"金額"]
["アリーナ使用料","全面",null,"１時間単位","　8：30～17：00",{"$f":"IF(計算表!F7=\"\",\"\",計算表!F7)","v":""},{"$f":"IF(計算表!G7=\"\",\"\",計算表!G7)","v":"："},{"$f":"IF(計算表!H7=\"\",\"\",計算表!H7)","v":""},{"$f":"IF(計算表!I7=\"\",\"\",計算表!I7)","v":"～"},{"$f":"IF(計算表!J7=\"\",\"\",計算表!J7)","v":""},{"$f":"IF(計算表!K7=\"\",\"\",計算表!K7)","v":"："},{"$f":"IF(計算表!L7=\"\",\"\",計算表!L7)","v":""},{"$f":"IF(+Sheet3!D3=\"\",\"\",Sheet3!D3)","v":0},1600,{"$f":"+IF(M6=0,0,IF(E3=\"\",M6*N6,M6*N6*3))","v":0},{"$f":"IF(O6=0,1,0)","v":1},{"$f":"IF(F6<8,1,0)","v":0},{"$f":"IF(J6>17,1,0)","v":1},null,null,null,null,null,{"$f":"+IF(O6=0,0,1)","v":0},{"$f":"+X6","v":0},null,null,"スポットライト　各種",null,"１時間単位","　8：30～22：00",{"$f":"IF(+計算表!U7=\"\",\"\",計算表!U7)","v":""},"：",{"$f":"IF(+計算表!W7=\"\",\"\",計算表!W7)","v":""},"～",{"$f":"IF(+計算表!Y7=\"\",\"\",計算表!Y7)","v":""},"：",{"$f":"IF(+計算表!AA7=\"\",\"\",計算表!AA7)","v":""},{"$f":"+Sheet3!D28","v":0},50,null,"基",{"$f":"IF(+計算表!AF7=\"\",\"\",計算表!AF7)","v":0},{"$f":"+IF(AQ6=0,0,1)","v":0},{"$f":"+AR6","v":0}]
[null,null,null,"１時間単位","17：00～22：00",{"$f":"IF(計算表!F8=\"\",\"\",計算表!F8)","v":""},{"$f":"IF(計算表!G8=\"\",\"\",計算表!G8)","v":"："},{"$f":"IF(計算表!H8=\"\",\"\",計算表!H8)","v":""},{"$f":"IF(計算表!I8=\"\",\"\",計算表!I8)","v":"～"},{"$f":"IF(計算表!J8=\"\",\"\",計算表!J8)","v":""},{"$f":"IF(計算表!K8=\"\",\"\",計算表!K8)","v":"："},{"$f":"IF(計算表!L8=\"\",\"\",計算表!L8)","v":""},{"$f":"IF(+Sheet3!D4=\"\",\"\",Sheet3!D4)","v":0},2000,{"$f":"+IF(M7=0,0,IF($E$3=\"\",M7*N7,M7*N7*3))","v":0},{"$f":"IF(O7=0,1,0)","v":1},{"$f":"IF(F7<17,1,0)","v":0},{"$f":"IF(J7>=23,1,0)","v":1},null,null,null,null,null,{"$f":"+IF(O7=0,0,1)","v":0},{"$f":"IF(SUM(Y6)=1,0,+IF(X7=0,0,1))","v":0},{"$f":"IF(X7=0,0,IF(Y6=0,0,2))","v":0},{"$f":"IF(Y7=0,0,IF(Z6=0,0,3))","v":0},"センターピンスポットライト",null,"１時間単位","　8：30～22：00",{"$f":"IF(+計算表!U8=\"\",\"\",計算表!U8)","v":""},"：",{"$f":"IF(+計算表!W8=\"\",\"\",計算表!W8)","v":""},"～",{"$f":"IF(+計算表!Y8=\"\",\"\",計算表!Y8)","v":""},"：",{"$f":"IF(+計算表!AA8=\"\",\"\",計算表!AA8)","v":""},{"$f":"+Sheet3!D29","v":0},200,null,"基",{"$f":"IF(+計算表!AF8=\"\",\"\",計算表!AF8)","v":0},{"$f":"+IF(AQ7=0,0,1)","v":0},{"$f":"IF(SUM(AS6)=1,0,+IF(AR7=0,0,1))","v":0},{"$f":"IF(AR7=0,0,IF(AS6=0,0,2))","v":0},{"$f":"IF(AS7=0,0,IF(AT6=0,0,3))","v":0},{"$f":"IF(AT7=0,0,IF(AU6=0,0,4))","v":0}]
[null,"半面",null,"１時間単位","　8：30～17：00",{"$f":"IF(計算表!F9=\"\",\"\",計算表!F9)","v":""},{"$f":"IF(計算表!G9=\"\",\"\",計算表!G9)","v":"："},{"$f":"IF(計算表!H9=\"\",\"\",計算表!H9)","v":""},{"$f":"IF(計算表!I9=\"\",\"\",計算表!I9)","v":"～"},{"$f":"IF(計算表!J9=\"\",\"\",計算表!J9)","v":""},{"$f":"IF(計算表!K9=\"\",\"\",計算表!K9)","v":"："},{"$f":"IF(計算表!L9=\"\",\"\",計算表!L9)","v":""},{"$f":"IF(+Sheet3!D5=\"\",\"\",Sheet3!D5)","v":0},800,{"$f":"+IF(M8=0,0,IF(F5=\"\",M8*N8,M8*N8*3))","v":0},1,{"$f":"IF(F8<8,1,0)","v":0},{"$f":"IF(J8>17,1,0)","v":1},null,null,null,null,null,0,{"$f":"IF(SUM($Y$6:Y7)=1,0,IF(X7>0,0,+IF(X8=0,0,1)))","v":0},{"$f":"IF(SUM($Z$7:Z7)=2,0,IF(SUM(Y7:Y8)>0,0,+IF(X8=0,0,2)))","v":0},{"$f":"IF(SUM($AA$7:AA7)=3,0,IF(SUM(Y6:Y8)=1,0,IF(SUM(Z7:Z8)=2,IF(X8=0,0,3),0)))","v":0},"プロジェクタースポットライト",null,"１時間単位","　8：30～22：00",{"$f":"IF(+計算表!U9=\"\",\"\",計算表!U9)","v":""},"：",{"$f":"IF(+計算表!W9=\"\",\"\",計算表!W9)","v":""},"～",{"$f":"IF(+計算表!Y9=\"\",\"\",計算表!Y9)","v":""},"：",{"$f":"IF(+計算表!AA9=\"\",\"\",計算表!AA9)","v":""},{"$f":"+Sheet3!D30","v":0},100,null,"基",{"$f":"IF(+計算表!AF9=\"\",\"\",計算表!AF9)","v":0},0,{"$f":"IF(SUM($Y$6:AS7)=1,0,IF(AR7>0,0,+IF(AR8=0,0,1)))","v":0},{"$f":"IF(SUM($Z$7:AT7)=2,0,IF(SUM(AS7:AS8)>0,0,+IF(AR8=0,0,2)))","v":0},{"$f":"IF(SUM($AA$7:AU7)=3,0,IF(SUM(AS6:AS8)=1,0,IF(SUM(AT7:AT8)=2,IF(AR8=0,0,3),0)))","v":0},{"$f":"IF(SUM($AA$7:AV7)=3,0,IF(SUM(AT6:AT8)=1,0,IF(SUM(AU7:AU8)=2,IF(AS8=0,0,3),0)))","v":0}]
[null,null,null,"１時間単位","17：00～22：00",{"$f":"IF(計算表!F10=\"\",\"\",計算表!F10)","v":""},{"$f":"IF(計算表!G10=\"\",\"\",計算表!G10)","v":"："},{"$f":"IF(計算表!H10=\"\",\"\",計算表!H10)","v":""},{"$f":"IF(計算表!I10=\"\",\"\",計算表!I10)","v":"～"},{"$f":"IF(計算表!J10=\"\",\"\",計算表!J10)","v":""},{"$f":"IF(計算表!K10=\"\",\"\",計算表!K10)","v":"："},{"$f":"IF(計算表!L10=\"\",\"\",計算表!L10)","v":""},{"$f":"IF(+Sheet3!D6=\"\",\"\",Sheet3!D6)","v":0},1000,{"$f":"+IF(M9=0,0,IF($E$3=\"\",M9*N9,M9*N9*3))","v":0},1,{"$f":"IF(F9<17,1,0)","v":0},{"$f":"IF(J9>=23,1,0)","v":1},null,null,null,null,null,0,{"$f":"IF(SUM($Y$6:Y8)=1,0,IF(X8>0,0,+IF(X9=0,0,1)))","v":0},{"$f":"IF(SUM($Z$7:Z8)=2,0,IF(SUM(Y8:Y9)>0,0,+IF(X9=0,0,2)))","v":0},{"$f":"IF(SUM($AA$7:AA8)=3,0,IF(SUM(Y7:Y9)=1,0,IF(SUM(Z7:Z9)=2,IF(X9=0,0,3),0)))","v":0},"移動式調光盤",null,"１時間単位","　8：30～22：00",{"$f":"IF(+計算表!U10=\"\",\"\",計算表!U10)","v":""},"：",{"$f":"IF(+計算表!W10=\"\",\"\",計算表!W10)","v":""},"～",{"$f":"IF(+計算表!Y10=\"\",\"\",計算表!Y10)","v":""},"：",{"$f":"IF(+計算表!AA10=\"\",\"\",計算表!AA10)","v":""},{"$f":"+Sheet3!D31","v":0},100,null,"基",{"$f":"IF(+計算表!AF10=\"\",\"\",計算表!AF10)","v":0},0,{"$f":"IF(SUM($Y$6:AS8)=1,0,IF(AR8>0,0,+IF(AR9=0,0,1)))","v":0},{"$f":"IF(SUM($Z$7:AT8)=2,0,IF(SUM(AS8:AS9)>0,0,+IF(AR9=0,0,2)))","v":0},{"$f":"IF(SUM($AA$7:AU8)=3,0,IF(SUM(AS7:AS9)=1,0,IF(SUM(AT7:AT9)=2,IF(AR9=0,0,3),0)))","v":0},{"$f":"IF(SUM($AA$7:AV8)=3,0,IF(SUM(AT7:AT9)=1,0,IF(SUM(AU7:AU9)=2,IF(AS9=0,0,3),0)))","v":0}]
[null,"１／３面",null,"１時間単位","　8：30～17：00",{"$f":"IF(計算表!F11=\"\",\"\",計算表!F11)","v":""},{"$f":"IF(計算表!G11=\"\",\"\",計算表!G11)","v":"："},{"$f":"IF(計算表!H11=\"\",\"\",計算表!H11)","v":""},{"$f":"IF(計算表!I11=\"\",\"\",計算表!I11)","v":"～"},{"$f":"IF(計算表!J11=\"\",\"\",計算表!J11)","v":""},{"$f":"IF(計算表!K11=\"\",\"\",計算表!K11)","v":"："},{"$f":"IF(計算表!L11=\"\",\"\",計算表!L11)","v":""},{"$f":"IF(+Sheet3!D7=\"\",\"\",Sheet3!D7)","v":0},600,{"$f":"+IF(M10=0,0,IF(F7=\"\",M10*N10,M10*N10*3))","v":0},1,{"$f":"IF(F10<8,1,0)","v":0},{"$f":"IF(J10>17,1,0)","v":1},null,null,null,null,null,0,{"$f":"IF(SUM($Y$6:Y9)=1,0,IF(X9>0,0,+IF(X10=0,0,1)))","v":0},{"$f":"IF(SUM($Z$7:Z9)=2,0,IF(SUM(Y9:Y10)>0,0,+IF(X10=0,0,2)))","v":0},{"$f":"IF(SUM($AA$7:AA9)=3,0,IF(SUM(Y8:Y10)=1,0,IF(SUM(Z8:Z10)=2,IF(X10=0,0,3),0)))","v":0},null,null,null,null,null,null,null,null,null,null,null,null,"合計",null,null,{"$f":"SUM(AQ6:AQ9)","v":0}]
[null,null,null,"１時間単位","17：00～22：00",{"$f":"IF(計算表!F12=\"\",\"\",計算表!F12)","v":""},{"$f":"IF(計算表!G12=\"\",\"\",計算表!G12)","v":"："},{"$f":"IF(計算表!H12=\"\",\"\",計算表!H12)","v":""},{"$f":"IF(計算表!I12=\"\",\"\",計算表!I12)","v":"～"},{"$f":"IF(計算表!J12=\"\",\"\",計算表!J12)","v":""},{"$f":"IF(計算表!K12=\"\",\"\",計算表!K12)","v":"："},{"$f":"IF(計算表!L12=\"\",\"\",計算表!L12)","v":""},{"$f":"IF(+Sheet3!D8=\"\",\"\",Sheet3!D8)","v":0},700,{"$f":"+IF(M11=0,0,IF($E$3=\"\",M11*N11,M11*N11*3))","v":0},1,{"$f":"IF(F11<17,1,0)","v":0},{"$f":"IF(J11>=23,1,0)","v":1},null,null,null,null,null,{"$f":"+IF(O11=0,0,1)","v":0},{"$f":"IF(SUM($Y$6:Y10)=1,0,IF(X10>0,0,+IF(X11=0,0,1)))","v":0},{"$f":"IF(SUM($Z$7:Z10)=2,0,IF(SUM(Y10:Y11)>0,0,+IF(X11=0,0,2)))","v":0},{"$f":"IF(SUM($AA$7:AA10)=3,0,IF(SUM(Y9:Y11)=1,0,IF(SUM(Z9:Z11)=2,IF(X11=0,0,3),0)))","v":0}]
["アリーナ照明使用料","全点灯",null,"１時間単位","　8：30～22：00",{"$f":"IF(計算表!F13=\"\",\"\",計算表!F13)","v":""},{"$f":"IF(計算表!G13=\"\",\"\",計算表!G13)","v":"："},{"$f":"IF(計算表!H13=\"\",\"\",計算表!H13)","v":""},{"$f":"IF(計算表!I13=\"\",\"\",計算表!I13)","v":"～"},{"$f":"IF(計算表!J13=\"\",\"\",計算表!J13)","v":""},{"$f":"IF(計算表!K13=\"\",\"\",計算表!K13)","v":"："},{"$f":"IF(計算表!L13=\"\",\"\",計算表!L13)","v":""},{"$f":"IF(+Sheet3!D9=\"\",\"\",Sheet3!D9)","v":0},1800,{"$f":"+IF(M12=0,0,IF($E$3=\"\",M12*N12,M12*N12*3))","v":0},1,{"$f":"IF(F12<8,1,0)","v":0},{"$f":"IF(J12>=23,1,0)","v":1},null,null,null,null,null,{"$f":"+IF(O12=0,0,1)","v":0},{"$f":"+X12","v":0},null,null,"舞台音響設備オプション料"]
[null,"通常点灯","全面","１時間単位","8：30～22：00",{"$f":"IF(計算表!F14=\"\",\"\",計算表!F14)","v":""},{"$f":"IF(計算表!G14=\"\",\"\",計算表!G14)","v":"："},{"$f":"IF(計算表!H14=\"\",\"\",計算表!H14)","v":""},{"$f":"IF(計算表!I14=\"\",\"\",計算表!I14)","v":"～"},{"$f":"IF(計算表!J14=\"\",\"\",計算表!J14)","v":""},{"$f":"IF(計算表!K14=\"\",\"\",計算表!K14)","v":"："},{"$f":"IF(計算表!L14=\"\",\"\",計算表!L14)","v":""},{"$f":"IF(+Sheet3!D10=\"\",\"\",Sheet3!D10)","v":0},800,{"$f":"+IF(M13=0,0,IF($E$3=\"\",M13*N13,M13*N13*3))","v":0},1,0,1,null,null,null,null,null,{"$f":"+IF(O13=0,0,1)","v":0},{"$f":"IF(SUM(Y12)=1,0,+IF(X13=0,0,1))","v":0},{"$f":"IF(X13=0,0,IF(Y12=0,0,2))","v":0},{"$f":"IF(Y13=0,0,IF(Z12=0,0,3))","v":0},"コントロールワゴン",null,"１時間単位","　8：30～22：00",{"$f":"IF(+計算表!U14=\"\",\"\",計算表!U14)","v":""},"：",{"$f":"IF(+計算表!W14=\"\",\"\",計算表!W14)","v":""},"～",{"$f":"IF(+計算表!Y14=\"\",\"\",計算表!Y14)","v":""},"：",{"$f":"IF(+計算表!AA14=\"\",\"\",計算表!AA14)","v":""},{"$f":"+Sheet3!D35","v":0},100,null,"基",{"$f":"IF(+計算表!AF14=\"\",\"\",計算表!AF14)","v":0},{"$f":"+IF(AQ13=0,0,1)","v":0},{"$f":"+AR13","v":0}]
[null,null,"半面","１時間単位","8：30～22：00",{"$f":"IF(計算表!F15=\"\",\"\",計算表!F15)","v":""},{"$f":"IF(計算表!G15=\"\",\"\",計算表!G15)","v":"："},{"$f":"IF(計算表!H15=\"\",\"\",計算表!H15)","v":""},{"$f":"IF(計算表!I15=\"\",\"\",計算表!I15)","v":"～"},{"$f":"IF(計算表!J15=\"\",\"\",計算表!J15)","v":""},{"$f":"IF(計算表!K15=\"\",\"\",計算表!K15)","v":"："},{"$f":"IF(計算表!L15=\"\",\"\",計算表!L15)","v":""},{"$f":"IF(+Sheet3!D11=\"\",\"\",Sheet3!D11)","v":0},500,{"$f":"+IF(M14=0,0,IF($E$3=\"\",M14*N14,M14*N14*3))","v":0},1,0,1,null,null,null,null,null,0,{"$f":"IF(SUM($Y$6:Y13)=1,0,IF(X13>0,0,+IF(X14=0,0,1)))","v":0},{"$f":"IF(SUM($Z$13:Z13)=2,0,IF(SUM(Y13:Y14)>0,0,+IF(X14=0,0,2)))","v":0},{"$f":"IF(SUM($AA$12:AA13)=3,0,IF(SUM(Y12:Y14)=1,0,IF(SUM(Z13:Z14)=2,IF(X14=0,0,3),0)))","v":0},"マイク　各種",null,"１時間単位","　8：30～22：00",{"$f":"IF(+計算表!U15=\"\",\"\",計算表!U15)","v":""},"：",{"$f":"IF(+計算表!W15=\"\",\"\",計算表!W15)","v":""},"～",{"$f":"IF(+計算表!Y15=\"\",\"\",計算表!Y15)","v":""},"：",{"$f":"IF(+計算表!AA15=\"\",\"\",計算表!AA15)","v":""},{"$f":"+Sheet3!D36","v":0},50,null,"基",{"$f":"IF(+計算表!AF15=\"\",\"\",計算表!AF15)","v":0},{"$f":"+IF(AQ14=0,0,1)","v":0},{"$f":"IF(SUM(AS13)=1,0,+IF(AR14=0,0,1))","v":0},{"$f":"IF(AR14=0,0,IF(AS13=0,0,2))","v":0},{"$f":"IF(AS14=0,0,IF(AT13=0,0,3))","v":0}]
[null,null,"1/3面","１時間単位","8：30～22：00",{"$f":"IF(計算表!F16=\"\",\"\",計算表!F16)","v":""},{"$f":"IF(計算表!G16=\"\",\"\",計算表!G16)","v":"："},{"$f":"IF(計算表!H16=\"\",\"\",計算表!H16)","v":""},{"$f":"IF(計算表!I16=\"\",\"\",計算表!I16)","v":"～"},{"$f":"IF(計算表!J16=\"\",\"\",計算表!J16)","v":""},{"$f":"IF(計算表!K16=\"\",\"\",計算表!K16)","v":"："},{"$f":"IF(計算表!L16=\"\",\"\",計算表!L16)","v":""},{"$f":"IF(+Sheet3!D12=\"\",\"\",Sheet3!D12)","v":0},400,0,1,0,1,null,null,null,null,null,0,{"$f":"IF(SUM($Y$12:Y14)=1,0,IF(X14>0,0,+IF(X15=0,0,1)))","v":0},{"$f":"IF(SUM($Z$13:Z14)=2,0,IF(SUM(Y14:Y15)>0,0,+IF(X15=0,0,2)))","v":0},{"$f":"IF(SUM($AA$13:AA14)=3,0,IF(SUM(Y13:Y15)=1,0,IF(SUM(Z13:Z15)=2,IF(X15=0,0,3),0)))","v":0},"スピーカー　各種",null,"１時間単位","　8：30～22：00",{"$f":"IF(+計算表!U16=\"\",\"\",計算表!U16)","v":""},"：",{"$f":"IF(+計算表!W16=\"\",\"\",計算表!W16)","v":""},"～",{"$f":"IF(+計算表!Y16=\"\",\"\",計算表!Y16)","v":""},"：",{"$f":"IF(+計算表!AA16=\"\",\"\",計算表!AA16)","v":""},{"$f":"+Sheet3!D37","v":0},50,null,"基",{"$f":"IF(+計算表!AF16=\"\",\"\",計算表!AF16)","v":0},0,{"$f":"IF(SUM($Y$6:AS14)=1,0,IF(AR14>0,0,+IF(AR15=0,0,1)))","v":0},{"$f":"IF(SUM($Z$7:AT14)=2,0,IF(SUM(AS14:AS15)>0,0,+IF(AR15=0,0,2)))","v":0},{"$f":"IF(SUM($AA$7:AU14)=3,0,IF(SUM(AS13:AS15)=1,0,IF(SUM(AT14:AT15)=2,IF(AR15=0,0,3),0)))","v":0}]
[null,"展示会用","全面","１時間単位","8：30～22：00",{"$f":"IF(計算表!F17=\"\",\"\",計算表!F17)","v":""},{"$f":"IF(計算表!G17=\"\",\"\",計算表!G17)","v":"："},{"$f":"IF(計算表!H17=\"\",\"\",計算表!H17)","v":""},{"$f":"IF(計算表!I17=\"\",\"\",計算表!I17)","v":"～"},{"$f":"IF(計算表!J17=\"\",\"\",計算表!J17)","v":""},{"$f":"IF(計算表!K17=\"\",\"\",計算表!K17)","v":"："},{"$f":"IF(計算表!L17=\"\",\"\",計算表!L17)","v":""},{"$f":"IF(+Sheet3!D13=\"\",\"\",Sheet3!D13)","v":0},500,0,1,0,{"$f":"IF(J16>=23,1,0)","v":1},null,null,null,null,null,0,{"$f":"IF(SUM($Y$13:Y15)=1,0,IF(X15>0,0,+IF(O16=0,0,1)))","v":0},{"$f":"IF(SUM($Z$12:Z15)=2,0,IF(SUM(Y15:Y16)>0,0,+IF(X16=0,0,2)))","v":0},{"$f":"IF(SUM($AA$12:AA15)=3,0,IF(SUM(Y14:Y16)=1,0,IF(SUM(Z13:Z16)=2,IF(X16=0,0,3),0)))","v":0},null,null,null,null,null,null,null,null,null,null,null,null,"合計",null,null,{"$f":"SUM(AQ12:AQ15)","v":0}]
["舞台使用料",null,null,"１時間単位","8：30～22：00",{"$f":"IF(計算表!F18=\"\",\"\",計算表!F18)","v":""},{"$f":"IF(計算表!G18=\"\",\"\",計算表!G18)","v":"："},{"$f":"IF(計算表!H18=\"\",\"\",計算表!H18)","v":""},{"$f":"IF(計算表!I18=\"\",\"\",計算表!I18)","v":"～"},{"$f":"IF(計算表!J18=\"\",\"\",計算表!J18)","v":""},{"$f":"IF(計算表!K18=\"\",\"\",計算表!K18)","v":"："},{"$f":"IF(計算表!L18=\"\",\"\",計算表!L18)","v":""},{"$f":"IF(+Sheet3!D14=\"\",\"\",Sheet3!D14)","v":0},1500,{"$f":"+IF(M17=0,0,IF($E$3=\"\",M17*N17,M17*N17*3))","v":0},1,0,1,null,null,null,null,null,{"$f":"+IF(O17=0,0,1)","v":0},{"$f":"IF(X17=0,0,1)","v":0}]
["舞台照明設備使用料","使用基本料金",null,"１時間単位","8：30～22：00",{"$f":"IF(計算表!F19=\"\",\"\",計算表!F19)","v":""},{"$f":"IF(計算表!G19=\"\",\"\",計算表!G19)","v":"："},{"$f":"IF(計算表!H19=\"\",\"\",計算表!H19)","v":""},{"$f":"IF(計算表!I19=\"\",\"\",計算表!I19)","v":"～"},{"$f":"IF(計算表!J19=\"\",\"\",計算表!J19)","v":""},{"$f":"IF(計算表!K19=\"\",\"\",計算表!K19)","v":"："},{"$f":"IF(計算表!L19=\"\",\"\",計算表!L19)","v":""},{"$f":"IF(+Sheet3!D15=\"\",\"\",Sheet3!D15)","v":0},2500,{"$f":"+IF(M18=0,0,IF($E$3=\"\",M18*N18,M18*N18*3))","v":0},1,0,1,null,null,null,null,null,{"$f":"+IF(O18=0,0,1)","v":0},{"$f":"IF(X18=0,0,1)","v":0}]
[null,"オプション",null,null,null,null,null,null,null,null,null,null,null,null,{"$f":"IF(AQ10=\"\",\"\",IF(E3=\"\",AQ10,AQ10*3))","v":0},1,1,0,null,null,null,null,null,0,0]
["舞台照明設備使用料","使用基本料金",null,"１時間単位","8：30～22：00",{"$f":"IF(計算表!F21=\"\",\"\",計算表!F21)","v":""},{"$f":"IF(計算表!G21=\"\",\"\",計算表!G21)","v":"："},{"$f":"IF(計算表!H21=\"\",\"\",計算表!H21)","v":""},{"$f":"IF(計算表!I21=\"\",\"\",計算表!I21)","v":"～"},{"$f":"IF(計算表!J21=\"\",\"\",計算表!J21)","v":""},{"$f":"IF(計算表!K21=\"\",\"\",計算表!K21)","v":"："},{"$f":"IF(計算表!L21=\"\",\"\",計算表!L21)","v":""},{"$f":"+Sheet3!D17","v":0},800,{"$f":"+IF(M20=0,0,IF($E$3=\"\",M20*N20,M20*N20*3))","v":0},1,0,1,null,null,null,null,null,0,0]
[null,"オプション",null,null,null,null,null,null,null,null,null,null,null,null,{"$f":"IF(AQ16=\"\",\"\",IF(E3=\"\",AQ16,AQ16*3))","v":0},1,1,0,null,null,null,null,null,0,0]
["空調設備使用料",null,null,"１時間単位","8：30～22：00",{"$f":"IF(計算表!F23=\"\",\"\",計算表!F23)","v":""},{"$f":"IF(計算表!G23=\"\",\"\",計算表!G23)","v":"："},{"$f":"IF(計算表!H23=\"\",\"\",計算表!H23)","v":""},{"$f":"IF(計算表!I23=\"\",\"\",計算表!I23)","v":"～"},{"$f":"IF(計算表!J23=\"\",\"\",計算表!J23)","v":""},{"$f":"IF(計算表!K23=\"\",\"\",計算表!K23)","v":"："},{"$f":"IF(計算表!L23=\"\",\"\",計算表!L23)","v":""},{"$f":"+Sheet3!D19","v":0},9000,{"$f":"+IF(M22=0,0,IF($E$3=\"\",M22*N22,M22*N22*3))","v":0},1,{"$f":"IF(F22<8,1,0)","v":0},1,null,null,null,null,null,0,0]
["移動観覧席使用料",null,null,"１時間単位","8：30～22：00",{"$f":"IF(計算表!F24=\"\",\"\",計算表!F24)","v":""},{"$f":"IF(計算表!G24=\"\",\"\",計算表!G24)","v":"："},{"$f":"IF(計算表!H24=\"\",\"\",計算表!H24)","v":""},{"$f":"IF(計算表!I24=\"\",\"\",計算表!I24)","v":"～"},{"$f":"IF(計算表!J24=\"\",\"\",計算表!J24)","v":""},{"$f":"IF(計算表!K24=\"\",\"\",計算表!K24)","v":"："},{"$f":"IF(計算表!L24=\"\",\"\",計算表!L24)","v":""},{"$f":"+Sheet3!D20","v":0},1000,0,1,0,1,null,null,null,null,null,0,0]
["トレーニング室","全面",null,"１時間単位","8：30～22：00",{"$f":"IF(計算表!F25=\"\",\"\",計算表!F25)","v":""},{"$f":"IF(計算表!G25=\"\",\"\",計算表!G25)","v":"："},{"$f":"IF(計算表!H25=\"\",\"\",計算表!H25)","v":""},{"$f":"IF(計算表!I25=\"\",\"\",計算表!I25)","v":"～"},{"$f":"IF(計算表!J25=\"\",\"\",計算表!J25)","v":""},{"$f":"IF(計算表!K25=\"\",\"\",計算表!K25)","v":"："},{"$f":"IF(計算表!L25=\"\",\"\",計算表!L25)","v":""},{"$f":"+Sheet3!D21","v":0},500,0,1,0,1,null,null,null,null,null,{"$f":"+IF(O24=0,IF(O25=0,0,1),1)","v":0},0]
[null,"半面",null,"１時間単位","8：30～22：00",{"$f":"IF(計算表!F26=\"\",\"\",計算表!F26)","v":""},{"$f":"IF(計算表!G26=\"\",\"\",計算表!G26)","v":"："},{"$f":"IF(計算表!H26=\"\",\"\",計算表!H26)","v":""},{"$f":"IF(計算表!I26=\"\",\"\",計算表!I26)","v":"～"},{"$f":"IF(計算表!J26=\"\",\"\",計算表!J26)","v":""},{"$f":"IF(計算表!K26=\"\",\"\",計算表!K26)","v":"："},{"$f":"IF(計算表!L26=\"\",\"\",計算表!L26)","v":""},{"$f":"+Sheet3!D22","v":0},300,0,1,0,1,null,null,null,null,null,{"$f":"+IF(O25=0,0,1)","v":0},{"$f":"IF(SUM(Y24)=1,0,+IF(X25=0,0,1))","v":0},{"$f":"IF(X25=0,0,IF(Y24=0,0,2))","v":0},{"$f":"IF(Y25=0,0,IF(Z24=0,0,3))","v":0}]
["会議室",null,null,"１時間単位","8：30～22：00",{"$f":"IF(計算表!F27=\"\",\"\",計算表!F27)","v":""},{"$f":"IF(計算表!G27=\"\",\"\",計算表!G27)","v":"："},{"$f":"IF(計算表!H27=\"\",\"\",計算表!H27)","v":""},{"$f":"IF(計算表!I27=\"\",\"\",計算表!I27)","v":"～"},{"$f":"IF(計算表!J27=\"\",\"\",計算表!J27)","v":""},{"$f":"IF(計算表!K27=\"\",\"\",計算表!K27)","v":"："},{"$f":"IF(計算表!L27=\"\",\"\",計算表!L27)","v":""},{"$f":"+Sheet3!D23","v":0},300,{"$f":"+IF(M26=0,0,IF($E$3=\"\",M26*N26,M26*N26*3))","v":0},1,0,1,null,null,null,null,null,0,0]
["シャワー",null,null,"人数",{"$f":"+計算表!E28","v":0},"人",null,"回数",{"$f":"+計算表!I28","v":0},null,null,null,"回",200,{"$f":"+IF(E27=0,0,IF($E$3=\"\",I27*N27*E27,I27*N27*E27*3))","v":0},1,0,0,null,null,null,null,null,{"$f":"+IF(O27=0,0,1)","v":0},0]
[]
[null,null,null,null,null,null,null,null,null,null,null,null,"合計",null,{"$f":"SUM(O6:O28)","v":0}]

{"sheet":"印刷用","index":4,"n_rows":23,"n_cols":17,"rows_kept":23,"cut":false,"hidden":false,"merged":[[36,4,36,10],[25,5,25,11],[25,12,25,13],[19,14,19,15],[20,14,20,15],[21,14,21,15],[21,12,21,13],[25,14,25,15],[30,4,30,10],[17,14,17,15],[18,14,18,15],[26,22,26,28],[27,22,27,28],[4,14,4,15],[5,14,5,15],[6,14,6,15],[7,14,7,15],[8,14,8,15],[9,14,9,15],[10,14,10,15],[11,14,11,15],[25,22,25,28],[0,14,0,16],[4,5,4,11],[35,4,35,10],[16,22,16,28],[13,5,13,11],[12,14,12,15],[13,14,13,15],[4,12,4,13],[14,14,14,15],[15,5,15,11],[19,22,19,28],[20,22,20,28],[21,22,21,28],[21,8,21,11],[15,14,15,15],[16,14,16,15]]}
["隠岐の島町総合体育館　料金計算表",null,null,null,null,null,null,null,null,null,null,null,null,null,"　　　年　　　月　　　日"]
[]
[{"$f":"IF(計算表!E3=1,\"営利目的\",\"\")","v":""},{"$f":"IF(計算表!E3=1,\"○\",\"\")","v":""}]
[]
[null,null,null,null,null,"使用時間",null,null,null,null,null,null,"使用時間",null,"単価",null,"金額"]
["アリーナ使用料",{"$f":"IF(Sheet1!$Y$6=1,Sheet1!B6,IF(Sheet1!$Y$7=1,Sheet1!B6,IF(Sheet1!$Y$8=1,Sheet1!B8,IF(Sheet1!$Y$9=1,Sheet1!B8,IF(Sheet1!$Y$10=1,Sheet1!B10,IF(Sheet1!$Y$11=1,Sheet1!B10,\"\"))))))","v":""},null,{"$f":"IF(Sheet1!$Y6=1,Sheet1!D6,IF(Sheet1!$Y7=1,Sheet1!D6,IF(Sheet1!$Y8=1,Sheet1!D8,IF(Sheet1!$Y9=1,Sheet1!D8,IF(Sheet1!$Y10=1,Sheet1!D10,IF(Sheet1!$Y11=1,Sheet1!D10,\"\"))))))","v":""},{"$f":"IF(Sheet1!$Y$6=1,Sheet1!E6,IF(Sheet1!$Y$7=1,Sheet1!E6,IF(Sheet1!$Y$8=1,Sheet1!E8,IF(Sheet1!$Y$9=1,Sheet1!E8,IF(Sheet1!$Y$10=1,Sheet1!E10,IF(Sheet1!$Y$11=1,Sheet1!E10,\"\"))))))","v":""},{"$f":"IF(Sheet1!$Y$6=1,Sheet1!F6,IF(Sheet1!$Y$7=1,Sheet1!F6,IF(Sheet1!$Y$8=1,Sheet1!F8,IF(Sheet1!$Y$9=1,Sheet1!F8,IF(Sheet1!$Y$10=1,Sheet1!F10,IF(Sheet1!$Y$11=1,Sheet1!F10,\"\"))))))","v":""},{"$f":"IF(Sheet1!$Y$6=1,Sheet1!G6,IF(Sheet1!$Y$7=1,Sheet1!G6,IF(Sheet1!$Y$8=1,Sheet1!G8,IF(Sheet1!$Y$9=1,Sheet1!G8,IF(Sheet1!$Y$10=1,Sheet1!G10,IF(Sheet1!$Y$11=1,Sheet1!G10,\"\"))))))","v":""},{"$f":"IF(Sheet1!$Y$6=1,Sheet1!H6,IF(Sheet1!$Y$7=1,Sheet1!H6,IF(Sheet1!$Y$8=1,Sheet1!H8,IF(Sheet1!$Y$9=1,Sheet1!H8,IF(Sheet1!$Y$10=1,Sheet1!H10,IF(Sheet1!$Y$11=1,Sheet1!H10,\"\"))))))","v":""},{"$f":"IF(Sheet1!$Y$6=1,Sheet1!I6,IF(Sheet1!$Y$7=1,Sheet1!I6,IF(Sheet1!$Y$8=1,Sheet1!I8,IF(Sheet1!$Y$9=1,Sheet1!I8,IF(Sheet1!$Y$10=1,Sheet1!I10,IF(Sheet1!$Y$11=1,Sheet1!I10,\"\"))))))","v":""},{"$f":"IF(Sheet1!$Y$6=1,Sheet1!J6,IF(Sheet1!$Y$7=1,Sheet1!J6,IF(Sheet1!$Y$8=1,Sheet1!J8,IF(Sheet1!$Y$9=1,Sheet1!J8,IF(Sheet1!$Y$10=1,Sheet1!J10,IF(Sheet1!$Y$11=1,Sheet1!J10,\"\"))))))","v":""},{"$f":"IF(Sheet1!$Y$6=1,Sheet1!K6,IF(Sheet1!$Y$7=1,Sheet1!K6,IF(Sheet1!$Y$8=1,Sheet1!K8,IF(Sheet1!$Y$9=1,Sheet1!K8,IF(Sheet1!$Y$10=1,Sheet1!K10,IF(Sheet1!$Y$11=1,Sheet1!K10,\"\"))))))","v":""},{"$f":"IF(Sheet1!$Y$6=1,Sheet1!L6,IF(Sheet1!$Y$7=1,Sheet1!L6,IF(Sheet1!$Y$8=1,Sheet1!L8,IF(Sheet1!$Y$9=1,Sheet1!L8,IF(Sheet1!$Y$10=1,Sheet1!L10,IF(Sheet1!$Y$11=1,Sheet1!L10,\"\"))))))","v":""},{"$f":"IF(Sheet1!$Y$6=1,Sheet1!M6,IF(Sheet1!$Y$7=1,Sheet1!M6,IF(Sheet1!$Y$8=1,Sheet1!M8,IF(Sheet1!$Y$9=1,Sheet1!M8,IF(Sheet1!$Y$10=1,Sheet1!M10,IF(Sheet1!$Y$11=1,Sheet1!M10,\"\"))))))","v":""},{"$f":"IF(M6=\"\",\"\",\"時間\")","v":""},{"$f":"IF(Sheet1!$Y$6=1,Sheet1!N6,IF(Sheet1!$Y$7=1,Sheet1!N6,IF(Sheet1!$Y$8=1,Sheet1!N8,IF(Sheet1!$Y$9=1,Sheet1!N8,IF(Sheet1!$Y$10=1,Sheet1!N10,IF(Sheet1!$Y$11=1,Sheet1!N10,\"\"))))))","v":""},null,{"$f":"IF(Sheet1!$Y$6=1,Sheet1!O6,IF(Sheet1!$Y$7=1,Sheet1!O6,IF(Sheet1!$Y$8=1,Sheet1!O8,IF(Sheet1!$Y$9=1,Sheet1!O8,IF(Sheet1!$Y$10=1,Sheet1!O10,IF(Sheet1!$Y$11=1,Sheet1!O10,\"\"))))))","v":""}]
[null,{"$f":"IF(Sheet1!$Z$7=2,Sheet1!B6,IF(Sheet1!$Z$8=2,Sheet1!B8,IF(Sheet1!$Z$9=2,Sheet1!B8,IF(Sheet1!$Z$10=2,Sheet1!B10,IF(Sheet1!$Z$11=2,Sheet1!B10,\"\")))))","v":""},null,{"$f":"IF(Sheet1!$Z$7=2,Sheet1!D7,IF(Sheet1!$Z$8=2,Sheet1!D8,IF(Sheet1!$Z$9=2,Sheet1!D9,IF(Sheet1!$Z$10=2,Sheet1!D10,IF(Sheet1!$Z$11=2,Sheet1!D11,\"\")))))","v":""},{"$f":"IF(Sheet1!$Z$7=2,Sheet1!E7,IF(Sheet1!$Z$8=2,Sheet1!E8,IF(Sheet1!$Z$9=2,Sheet1!E9,IF(Sheet1!$Z$10=2,Sheet1!E10,IF(Sheet1!$Z$11=2,Sheet1!E11,\"\")))))","v":""},{"$f":"IF(Sheet1!$Z$7=2,Sheet1!F7,IF(Sheet1!$Z$8=2,Sheet1!F8,IF(Sheet1!$Z$9=2,Sheet1!F9,IF(Sheet1!$Z$10=2,Sheet1!F10,IF(Sheet1!$Z$11=2,Sheet1!F11,\"\")))))","v":""},{"$f":"IF(Sheet1!$Z$7=2,Sheet1!G7,IF(Sheet1!$Z$8=2,Sheet1!G8,IF(Sheet1!$Z$9=2,Sheet1!G9,IF(Sheet1!$Z$10=2,Sheet1!G10,IF(Sheet1!$Z$11=2,Sheet1!G11,\"\")))))","v":""},{"$f":"IF(Sheet1!$Z$7=2,Sheet1!H7,IF(Sheet1!$Z$8=2,Sheet1!H8,IF(Sheet1!$Z$9=2,Sheet1!H9,IF(Sheet1!$Z$10=2,Sheet1!H10,IF(Sheet1!$Z$11=2,Sheet1!H11,\"\")))))","v":""},{"$f":"IF(Sheet1!$Z$7=2,Sheet1!I7,IF(Sheet1!$Z$8=2,Sheet1!I8,IF(Sheet1!$Z$9=2,Sheet1!I9,IF(Sheet1!$Z$10=2,Sheet1!I10,IF(Sheet1!$Z$11=2,Sheet1!I11,\"\")))))","v":""},{"$f":"IF(Sheet1!$Z$7=2,Sheet1!J7,IF(Sheet1!$Z$8=2,Sheet1!J8,IF(Sheet1!$Z$9=2,Sheet1!J9,IF(Sheet1!$Z$10=2,Sheet1!J10,IF(Sheet1!$Z$11=2,Sheet1!J11,\"\")))))","v":""},{"$f":"IF(Sheet1!$Z$7=2,Sheet1!K7,IF(Sheet1!$Z$8=2,Sheet1!K8,IF(Sheet1!$Z$9=2,Sheet1!K9,IF(Sheet1!$Z$10=2,Sheet1!K10,IF(Sheet1!$Z$11=2,Sheet1!K11,\"\")))))","v":""},{"$f":"IF(Sheet1!$Z$7=2,Sheet1!L7,IF(Sheet1!$Z$8=2,Sheet1!L8,IF(Sheet1!$Z$9=2,Sheet1!L9,IF(Sheet1!$Z$10=2,Sheet1!L10,IF(Sheet1!$Z$11=2,Sheet1!L11,\"\")))))","v":""},{"$f":"IF(Sheet1!$Z$7=2,Sheet1!M7,IF(Sheet1!$Z$8=2,Sheet1!M8,IF(Sheet1!$Z$9=2,Sheet1!M9,IF(Sheet1!$Z$10=2,Sheet1!M10,IF(Sheet1!$Z$11=2,Sheet1!M11,\"\")))))","v":""},{"$f":"IF(M7=\"\",\"\",\"時間\")","v":""},{"$f":"IF(Sheet1!$Z$7=2,Sheet1!N7,IF(Sheet1!$Z$8=2,Sheet1!N8,IF(Sheet1!$Z$9=2,Sheet1!N9,IF(Sheet1!$Z$10=2,Sheet1!N10,IF(Sheet1!$Z$11=2,Sheet1!N11,\"\")))))","v":""},null,{"$f":"IF(Sheet1!$Z$7=2,Sheet1!O7,IF(Sheet1!$Z$8=2,Sheet1!O8,IF(Sheet1!$Z$9=2,Sheet1!O9,IF(Sheet1!$Z$10=2,Sheet1!O10,IF(Sheet1!$Z$11=2,Sheet1!O11,\"\")))))","v":""}]
[null,{"$f":"IF(Sheet1!$AA$7=3,Sheet1!B6,IF(Sheet1!$AA$8=3,Sheet1!B8,IF(Sheet1!$AA$9=3,Sheet1!B8,IF(Sheet1!$AA$10=3,Sheet1!B10,IF(Sheet1!$AA$11=3,Sheet1!B10,\"\")))))","v":""},null,{"$f":"IF(Sheet1!$Z$7=3,Sheet1!D8,IF(Sheet1!$Z$8=3,Sheet1!D9,IF(Sheet1!$Z$9=3,Sheet1!D10,IF(Sheet1!$Z$10=3,Sheet1!D11,IF(Sheet1!$Z$11=3,Sheet1!D12,\"\")))))","v":""},{"$f":"IF(Sheet1!$Z$7=3,Sheet1!E8,IF(Sheet1!$Z$8=3,Sheet1!E9,IF(Sheet1!$Z$9=3,Sheet1!E10,IF(Sheet1!$Z$10=3,Sheet1!E11,IF(Sheet1!$Z$11=3,Sheet1!E12,\"\")))))","v":""},{"$f":"IF(Sheet1!$Z$7=3,Sheet1!F8,IF(Sheet1!$Z$8=3,Sheet1!F9,IF(Sheet1!$Z$9=3,Sheet1!F10,IF(Sheet1!$Z$10=3,Sheet1!F11,IF(Sheet1!$Z$11=3,Sheet1!F12,\"\")))))","v":""},{"$f":"IF(Sheet1!$Z$7=3,Sheet1!G8,IF(Sheet1!$Z$8=3,Sheet1!G9,IF(Sheet1!$Z$9=3,Sheet1!G10,IF(Sheet1!$Z$10=3,Sheet1!G11,IF(Sheet1!$Z$11=3,Sheet1!G12,\"\")))))","v":""},{"$f":"IF(Sheet1!$Z$7=3,Sheet1!H8,IF(Sheet1!$Z$8=3,Sheet1!H9,IF(Sheet1!$Z$9=3,Sheet1!H10,IF(Sheet1!$Z$10=3,Sheet1!H11,IF(Sheet1!$Z$11=3,Sheet1!H12,\"\")))))","v":""},{"$f":"IF(Sheet1!$Z$7=3,Sheet1!I8,IF(Sheet1!$Z$8=3,Sheet1!I9,IF(Sheet1!$Z$9=3,Sheet1!I10,IF(Sheet1!$Z$10=3,Sheet1!I11,IF(Sheet1!$Z$11=3,Sheet1!I12,\"\")))))","v":""},{"$f":"IF(Sheet1!$Z$7=3,Sheet1!J8,IF(Sheet1!$Z$8=3,Sheet1!J9,IF(Sheet1!$Z$9=3,Sheet1!J10,IF(Sheet1!$Z$10=3,Sheet1!J11,IF(Sheet1!$Z$11=3,Sheet1!J12,\"\")))))","v":""},{"$f":"IF(Sheet1!$Z$7=3,Sheet1!K8,IF(Sheet1!$Z$8=3,Sheet1!K9,IF(Sheet1!$Z$9=3,Sheet1!K10,IF(Sheet1!$Z$10=3,Sheet1!K11,IF(Sheet1!$Z$11=3,Sheet1!K12,\"\")))))","v":""},{"$f":"IF(Sheet1!$Z$7=3,Sheet1!L8,IF(Sheet1!$Z$8=3,Sheet1!L9,IF(Sheet1!$Z$9=3,Sheet1!L10,IF(Sheet1!$Z$10=3,Sheet1!L11,IF(Sheet1!$Z$11=3,Sheet1!L12,\"\")))))","v":""},{"$f":"IF(Sheet1!$Z$7=3,Sheet1!M8,IF(Sheet1!$Z$8=3,Sheet1!M9,IF(Sheet1!$Z$9=3,Sheet1!M10,IF(Sheet1!$Z$10=3,Sheet1!M11,IF(Sheet1!$Z$11=3,Sheet1!M12,\"\")))))","v":""},"",{"$f":"IF(Sheet1!$Z$7=3,Sheet1!N8,IF(Sheet1!$Z$8=3,Sheet1!N9,IF(Sheet1!$Z$9=3,Sheet1!N10,IF(Sheet1!$Z$10=3,Sheet1!N11,IF(Sheet1!$Z$11=3,Sheet1!N12,\"\")))))","v":""},null,{"$f":"IF(Sheet1!$Z$7=3,Sheet1!O8,IF(Sheet1!$Z$8=3,Sheet1!O9,IF(Sheet1!$Z$9=3,Sheet1!O10,IF(Sheet1!$Z$10=3,Sheet1!O11,IF(Sheet1!$Z$11=3,Sheet1!O12,\"\")))))","v":""}]
["アリーナ照明使用料",{"$f":"IF(Sheet1!$Y$12=1,Sheet1!B12,IF(Sheet1!$Y13=1,Sheet1!B13,IF(Sheet1!$Y14=1,Sheet1!B13,IF(Sheet1!Y15=1,Sheet1!B13,IF(Sheet1!$Y$16=1,Sheet1!B13,\"\")))))","v":""},{"$f":"IF(Sheet1!$Y$12=1,\"\",IF(Sheet1!$Y13=1,Sheet1!C13,IF(Sheet1!$Y14=1,Sheet1!C13,IF(Sheet1!Z15=1,Sheet1!C13,IF(Sheet1!$Y$16=1,Sheet1!C13,\"\")))))","v":""},{"$f":"IF(Sheet1!$Y$12=1,Sheet1!D12,IF(Sheet1!$Y13=1,Sheet1!D13,IF(Sheet1!$Y14=1,Sheet1!D14,IF(Sheet1!Y15=1,Sheet1!D15,IF(Sheet1!$Y$16=1,Sheet1!D16,\"\")))))","v":""},{"$f":"IF(Sheet1!$Y$12=1,Sheet1!E12,IF(Sheet1!$Y13=1,Sheet1!E13,IF(Sheet1!$Y14=1,Sheet1!E14,IF(Sheet1!Z15=1,Sheet1!E15,IF(Sheet1!$Y$16=1,Sheet1!E16,\"\")))))","v":""},{"$f":"IF(Sheet1!$Y$12=1,Sheet1!F12,IF(Sheet1!$Y13=1,Sheet1!F13,IF(Sheet1!$Y14=1,Sheet1!F14,IF(Sheet1!AA15=1,Sheet1!F15,IF(Sheet1!$Y$16=1,Sheet1!F16,\"\")))))","v":""},{"$f":"IF(Sheet1!$Y$12=1,Sheet1!G12,IF(Sheet1!$Y13=1,Sheet1!G13,IF(Sheet1!$Y14=1,Sheet1!G14,IF(Sheet1!AB15=1,Sheet1!G15,IF(Sheet1!$Y$16=1,Sheet1!G16,\"\")))))","v":""},{"$f":"IF(Sheet1!$Y$12=1,Sheet1!H12,IF(Sheet1!$Y13=1,Sheet1!H13,IF(Sheet1!$Y14=1,Sheet1!H14,IF(Sheet1!AC15=1,Sheet1!H15,IF(Sheet1!$Y$16=1,Sheet1!H16,\"\")))))","v":""},{"$f":"IF(Sheet1!$Y$12=1,Sheet1!I12,IF(Sheet1!$Y13=1,Sheet1!I13,IF(Sheet1!$Y14=1,Sheet1!I14,IF(Sheet1!AD15=1,Sheet1!I15,IF(Sheet1!$Y$16=1,Sheet1!I16,\"\")))))","v":""},{"$f":"IF(Sheet1!$Y$12=1,Sheet1!J12,IF(Sheet1!$Y13=1,Sheet1!J13,IF(Sheet1!$Y14=1,Sheet1!J14,IF(Sheet1!AE15=1,Sheet1!J15,IF(Sheet1!$Y$16=1,Sheet1!J16,\"\")))))","v":""},{"$f":"IF(Sheet1!$Y$12=1,Sheet1!K12,IF(Sheet1!$Y13=1,Sheet1!K13,IF(Sheet1!$Y14=1,Sheet1!K14,IF(Sheet1!AF15=1,Sheet1!K15,IF(Sheet1!$Y$16=1,Sheet1!K16,\"\")))))","v":""},{"$f":"IF(Sheet1!$Y$12=1,Sheet1!L12,IF(Sheet1!$Y13=1,Sheet1!L13,IF(Sheet1!$Y14=1,Sheet1!L14,IF(Sheet1!AG15=1,Sheet1!L15,IF(Sheet1!$Y$16=1,Sheet1!L16,\"\")))))","v":""},{"$f":"IF(Sheet1!$Y$12=1,Sheet1!M12,IF(Sheet1!$Y13=1,Sheet1!M13,IF(Sheet1!$Y14=1,Sheet1!M14,IF(Sheet1!AH15=1,Sheet1!M15,IF(Sheet1!$Y$16=1,Sheet1!M16,\"\")))))","v":""},"",{"$f":"IF(Sheet1!$Y$12=1,Sheet1!N12,IF(Sheet1!$Y13=1,Sheet1!N13,IF(Sheet1!$Y14=1,Sheet1!N14,IF(Sheet1!AI15=1,Sheet1!N15,IF(Sheet1!$Y$16=1,Sheet1!N16,\"\")))))","v":""},null,{"$f":"IF(Sheet1!$Y$12=1,Sheet1!O12,IF(Sheet1!$Y13=1,Sheet1!O13,IF(Sheet1!$Y14=1,Sheet1!O14,IF(Sheet1!AJ15=1,Sheet1!O15,IF(Sheet1!$Y$16=1,Sheet1!O16,\"\")))))","v":""}]
[null,{"$f":"IF(Sheet1!$Z$13=2,Sheet1!B13,IF(Sheet1!$Z14=2,Sheet1!B13,IF(Sheet1!$Z15=2,Sheet1!B13,IF(Sheet1!Z16=2,Sheet1!B13,IF(Sheet1!$Z$16=2,Sheet1!B13,\"\")))))","v":""},{"$f":"IF(Sheet1!$Z$13=2,Sheet1!C13,IF(Sheet1!$Z14=2,Sheet1!C14,IF(Sheet1!$Z15=2,Sheet1!C15,IF(Sheet1!$Z$16=2,Sheet1!C16,\"\"))))","v":""},{"$f":"IF(Sheet1!$Z$13=2,Sheet1!D13,IF(Sheet1!$Z14=2,Sheet1!D14,IF(Sheet1!$Z15=2,Sheet1!D15,IF(Sheet1!Z16=2,Sheet1!D16,\"\"))))","v":""},{"$f":"IF(Sheet1!$Z$13=2,Sheet1!E13,IF(Sheet1!$Z14=2,Sheet1!E14,IF(Sheet1!$Z15=2,Sheet1!E15,IF(Sheet1!AA16=2,Sheet1!E16,\"\"))))","v":""},{"$f":"IF(Sheet1!$Z$13=2,Sheet1!F13,IF(Sheet1!$Z14=2,Sheet1!F14,IF(Sheet1!$Z15=2,Sheet1!F15,IF(Sheet1!AB16=2,Sheet1!F16,\"\"))))","v":""},{"$f":"IF(Sheet1!$Z$13=2,Sheet1!G13,IF(Sheet1!$Z14=2,Sheet1!G14,IF(Sheet1!$Z15=2,Sheet1!G15,IF(Sheet1!AC16=2,Sheet1!G16,\"\"))))","v":""},{"$f":"IF(Sheet1!$Z$13=2,Sheet1!H13,IF(Sheet1!$Z14=2,Sheet1!H14,IF(Sheet1!$Z15=2,Sheet1!H15,IF(Sheet1!AD16=2,Sheet1!H16,\"\"))))","v":""},{"$f":"IF(Sheet1!$Z$13=2,Sheet1!I13,IF(Sheet1!$Z14=2,Sheet1!I14,IF(Sheet1!$Z15=2,Sheet1!I15,IF(Sheet1!AE16=2,Sheet1!I16,\"\"))))","v":""},{"$f":"IF(Sheet1!$Z$13=2,Sheet1!J13,IF(Sheet1!$Z14=2,Sheet1!J14,IF(Sheet1!$Z15=2,Sheet1!J15,IF(Sheet1!AF16=2,Sheet1!J16,\"\"))))","v":""},{"$f":"IF(Sheet1!$Z$13=2,Sheet1!K13,IF(Sheet1!$Z14=2,Sheet1!K14,IF(Sheet1!$Z15=2,Sheet1!K15,IF(Sheet1!AG16=2,Sheet1!K16,\"\"))))","v":""},{"$f":"IF(Sheet1!$Z$13=2,Sheet1!L13,IF(Sheet1!$Z14=2,Sheet1!L14,IF(Sheet1!$Z15=2,Sheet1!L15,IF(Sheet1!AH16=2,Sheet1!L16,\"\"))))","v":""},{"$f":"IF(Sheet1!$Z$13=2,Sheet1!M13,IF(Sheet1!$Z14=2,Sheet1!M14,IF(Sheet1!$Z15=2,Sheet1!M15,IF(Sheet1!AI16=2,Sheet1!M16,\"\"))))","v":""},"",{"$f":"IF(Sheet1!$Z$13=2,Sheet1!N13,IF(Sheet1!$Z14=2,Sheet1!N14,IF(Sheet1!$Z15=2,Sheet1!N15,IF(Sheet1!AJ16=2,Sheet1!N16,\"\"))))","v":""},null,{"$f":"IF(Sheet1!$Z$13=2,Sheet1!O13,IF(Sheet1!$Z14=2,Sheet1!O14,IF(Sheet1!$Z15=2,Sheet1!O15,IF(Sheet1!AK16=2,Sheet1!O16,\"\"))))","v":""}]
[null,{"$f":"IF(Sheet1!$AA$12=3,Sheet1!B13,IF(Sheet1!$AA15=3,Sheet1!B13,IF(Sheet1!AA16=3,Sheet1!B13,IF(Sheet1!AA17=3,Sheet1!B13,IF(Sheet1!$AA$16=3,Sheet1!B13,\"\")))))","v":""},{"$f":"IF(Sheet1!$AA$13=3,Sheet1!C13,IF(Sheet1!$AA14=3,Sheet1!C14,IF(Sheet1!AA15=3,Sheet1!C15,IF(Sheet1!AB16=3,Sheet1!C16,\"\"))))","v":""},{"$f":"IF(Sheet1!$AA14=3,Sheet1!D14,IF(Sheet1!$AA15=3,Sheet1!D15,IF(Sheet1!$AA16=3,Sheet1!D16,\"\")))","v":""},{"$f":"IF(Sheet1!$AA14=3,Sheet1!E14,IF(Sheet1!$AA15=3,Sheet1!E15,IF(Sheet1!$AA16=3,Sheet1!E16,\"\")))","v":""},{"$f":"IF(Sheet1!$AA14=3,Sheet1!F14,IF(Sheet1!$AA15=3,Sheet1!F15,IF(Sheet1!$AA16=3,Sheet1!F16,\"\")))","v":""},{"$f":"IF(Sheet1!$AA14=3,Sheet1!G14,IF(Sheet1!$AA15=3,Sheet1!G15,IF(Sheet1!$AA16=3,Sheet1!G16,\"\")))","v":""},{"$f":"IF(Sheet1!$AA14=3,Sheet1!H14,IF(Sheet1!$AA15=3,Sheet1!H15,IF(Sheet1!$AA16=3,Sheet1!H16,\"\")))","v":""},{"$f":"IF(Sheet1!$AA14=3,Sheet1!I14,IF(Sheet1!$AA15=3,Sheet1!I15,IF(Sheet1!$AA16=3,Sheet1!I16,\"\")))","v":""},{"$f":"IF(Sheet1!$AA14=3,Sheet1!J14,IF(Sheet1!$AA15=3,Sheet1!J15,IF(Sheet1!$AA16=3,Sheet1!J16,\"\")))","v":""},{"$f":"IF(Sheet1!$AA14=3,Sheet1!K14,IF(Sheet1!$AA15=3,Sheet1!K15,IF(Sheet1!$AA16=3,Sheet1!K16,\"\")))","v":""},{"$f":"IF(Sheet1!$AA14=3,Sheet1!L14,IF(Sheet1!$AA15=3,Sheet1!L15,IF(Sheet1!$AA16=3,Sheet1!L16,\"\")))","v":""},{"$f":"IF(Sheet1!$AA14=3,Sheet1!M14,IF(Sheet1!$AA15=3,Sheet1!M15,IF(Sheet1!$AA16=3,Sheet1!M16,\"\")))","v":""},"",{"$f":"IF(Sheet1!$AA14=3,Sheet1!N14,IF(Sheet1!$AA15=3,Sheet1!N15,IF(Sheet1!$AA16=3,Sheet1!N16,\"\")))","v":""},null,{"$f":"IF(Sheet1!$AA14=3,Sheet1!O14,IF(Sheet1!$AA15=3,Sheet1!O15,IF(Sheet1!$AA16=3,Sheet1!O16,\"\")))","v":""}]
["舞台使用料",null,null,{"$f":"IF(Sheet1!$Y17=1,Sheet1!D17,\"\")","v":""},{"$f":"IF(Sheet1!$Y17=1,Sheet1!E17,\"\")","v":""},{"$f":"IF(Sheet1!$Y17=1,Sheet1!F17,\"\")","v":""},{"$f":"IF(Sheet1!$Y17=1,Sheet1!G17,\"\")","v":""},{"$f":"IF(Sheet1!$Y17=1,Sheet1!H17,\"\")","v":""},{"$f":"IF(Sheet1!$Y17=1,Sheet1!I17,\"\")","v":""},{"$f":"IF(Sheet1!$Y17=1,Sheet1!J17,\"\")","v":""},{"$f":"IF(Sheet1!$Y17=1,Sheet1!K17,\"\")","v":""},{"$f":"IF(Sheet1!$Y17=1,Sheet1!L17,\"\")","v":""},{"$f":"IF(Sheet1!$Y17=1,Sheet1!M17,\"\")","v":""},"",{"$f":"IF(Sheet1!$Y17=1,Sheet1!N17,\"\")","v":""},null,{"$f":"IF(Sheet1!$Y17=1,Sheet1!O17,\"\")","v":""}]
["舞台照明設備使用料",{"$f":"IF(Sheet1!$Y18=1,Sheet1!B18,\"\")","v":""},null,{"$f":"IF(Sheet1!$Y18=1,Sheet1!D18,\"\")","v":""},{"$f":"IF(Sheet1!$Y18=1,Sheet1!E18,\"\")","v":""},{"$f":"IF(Sheet1!$Y18=1,Sheet1!F18,\"\")","v":""},{"$f":"IF(Sheet1!$Y18=1,Sheet1!G18,\"\")","v":""},{"$f":"IF(Sheet1!$Y18=1,Sheet1!H18,\"\")","v":""},{"$f":"IF(Sheet1!$Y18=1,Sheet1!I18,\"\")","v":""},{"$f":"IF(Sheet1!$Y18=1,Sheet1!J18,\"\")","v":""},{"$f":"IF(Sheet1!$Y18=1,Sheet1!K18,\"\")","v":""},{"$f":"IF(Sheet1!$Y18=1,Sheet1!L18,\"\")","v":""},{"$f":"IF(Sheet1!$Y18=1,Sheet1!M18,\"\")","v":""},"",{"$f":"IF(Sheet1!$Y18=1,Sheet1!N18,\"\")","v":""},null,{"$f":"IF(Sheet1!$Y18=1,Sheet1!O18,\"\")","v":""}]
[null,{"$f":"IF(Sheet1!$Y19=1,Sheet1!B19,\"\")","v":""},null,null,null,null,null,null,null,null,null,null,null,"",null,null,{"$f":"IF(Sheet1!$Y19=1,Sheet1!O19,\"\")","v":""}]
["舞台音響設備使用料",{"$f":"IF(Sheet1!$Y20=1,Sheet1!B20,\"\")","v":""},null,{"$f":"IF(Sheet1!$Y20=1,Sheet1!D20,\"\")","v":""},{"$f":"IF(Sheet1!$Y20=1,Sheet1!E20,\"\")","v":""},{"$f":"IF(Sheet1!$Y20=1,Sheet1!F20,\"\")","v":""},{"$f":"IF(Sheet1!$Y20=1,Sheet1!G20,\"\")","v":""},{"$f":"IF(Sheet1!$Y20=1,Sheet1!H20,\"\")","v":""},{"$f":"IF(Sheet1!$Y20=1,Sheet1!I20,\"\")","v":""},{"$f":"IF(Sheet1!$Y20=1,Sheet1!J20,\"\")","v":""},{"$f":"IF(Sheet1!$Y20=1,Sheet1!K20,\"\")","v":""},{"$f":"IF(Sheet1!$Y20=1,Sheet1!L20,\"\")","v":""},{"$f":"IF(Sheet1!$Y20=1,Sheet1!M20,\"\")","v":""},"",{"$f":"IF(Sheet1!$Y20=1,Sheet1!N20,\"\")","v":""},null,{"$f":"IF(Sheet1!$Y20=1,Sheet1!O20,\"\")","v":""}]
[null,{"$f":"IF(Sheet1!$Y21=1,Sheet1!B21,\"\")","v":""},null,null,null,null,null,null,null,null,null,null,null,"",null,null,{"$f":"IF(Sheet1!$Y21=1,Sheet1!O21,\"\")","v":""}]
["空調設備使用料",null,null,{"$f":"IF(Sheet1!$Y22=1,Sheet1!D22,\"\")","v":""},{"$f":"IF(Sheet1!$Y22=1,Sheet1!E22,\"\")","v":""},{"$f":"IF(Sheet1!$Y22=1,Sheet1!F22,\"\")","v":""},{"$f":"IF(Sheet1!$Y22=1,Sheet1!G22,\"\")","v":""},{"$f":"IF(Sheet1!$Y22=1,Sheet1!H22,\"\")","v":""},{"$f":"IF(Sheet1!$Y22=1,Sheet1!I22,\"\")","v":""},{"$f":"IF(Sheet1!$Y22=1,Sheet1!J22,\"\")","v":""},{"$f":"IF(Sheet1!$Y22=1,Sheet1!K22,\"\")","v":""},{"$f":"IF(Sheet1!$Y22=1,Sheet1!L22,\"\")","v":""},{"$f":"IF(Sheet1!$Y22=1,Sheet1!M22,\"\")","v":""},"",{"$f":"IF(Sheet1!$Y22=1,Sheet1!N22,\"\")","v":""},null,{"$f":"IF(Sheet1!$Y22=1,Sheet1!O22,\"\")","v":""}]
["移動観覧席使用料",null,null,{"$f":"IF(Sheet1!$Y23=1,Sheet1!D23,\"\")","v":""},{"$f":"IF(Sheet1!$Y23=1,Sheet1!E23,\"\")","v":""},{"$f":"IF(Sheet1!$Y23=1,Sheet1!F23,\"\")","v":""},{"$f":"IF(Sheet1!$Y23=1,Sheet1!G23,\"\")","v":""},{"$f":"IF(Sheet1!$Y23=1,Sheet1!H23,\"\")","v":""},{"$f":"IF(Sheet1!$Y23=1,Sheet1!I23,\"\")","v":""},{"$f":"IF(Sheet1!$Y23=1,Sheet1!J23,\"\")","v":""},{"$f":"IF(Sheet1!$Y23=1,Sheet1!K23,\"\")","v":""},{"$f":"IF(Sheet1!$Y23=1,Sheet1!L23,\"\")","v":""},{"$f":"IF(Sheet1!$Y23=1,Sheet1!M23,\"\")","v":""},"",{"$f":"IF(Sheet1!$Y23=1,Sheet1!N23,\"\")","v":""},null,{"$f":"IF(Sheet1!$Y23=1,Sheet1!O23,\"\")","v":""}]
["トレーニング室",{"$f":"IF(Sheet1!$Y24=1,Sheet1!B24,IF(Sheet1!$Y25=1,Sheet1!B25,\"\"))","v":""},null,{"$f":"IF(Sheet1!$Y24=1,Sheet1!D24,IF(Sheet1!$Y25=1,Sheet1!D25,\"\"))","v":""},{"$f":"IF(Sheet1!$Y24=1,Sheet1!E24,IF(Sheet1!$Y25=1,Sheet1!E25,\"\"))","v":""},{"$f":"IF(Sheet1!$Y24=1,Sheet1!F24,IF(Sheet1!$Y25=1,Sheet1!F25,\"\"))","v":""},{"$f":"IF(Sheet1!$Y24=1,Sheet1!G24,IF(Sheet1!$Y25=1,Sheet1!G25,\"\"))","v":""},{"$f":"IF(Sheet1!$Y24=1,Sheet1!H24,IF(Sheet1!$Y25=1,Sheet1!H25,\"\"))","v":""},{"$f":"IF(Sheet1!$Y24=1,Sheet1!I24,IF(Sheet1!$Y25=1,Sheet1!I25,\"\"))","v":""},{"$f":"IF(Sheet1!$Y24=1,Sheet1!J24,IF(Sheet1!$Y25=1,Sheet1!J25,\"\"))","v":""},{"$f":"IF(Sheet1!$Y24=1,Sheet1!K24,IF(Sheet1!$Y25=1,Sheet1!K25,\"\"))","v":""},{"$f":"IF(Sheet1!$Y24=1,Sheet1!L24,IF(Sheet1!$Y25=1,Sheet1!L25,\"\"))","v":""},{"$f":"IF(Sheet1!$Y24=1,Sheet1!M24,IF(Sheet1!$Y25=1,Sheet1!M25,\"\"))","v":""},"",{"$f":"IF(Sheet1!$Y24=1,Sheet1!N24,IF(Sheet1!$Y25=1,Sheet1!N25,\"\"))","v":""},null,{"$f":"IF(Sheet1!$Y24=1,Sheet1!O24,IF(Sheet1!$Y25=1,Sheet1!O25,\"\"))","v":""}]
[null,{"$f":"IF(Sheet1!$Z25=2,Sheet1!B25,IF(Sheet1!$Z26=2,Sheet1!B26,\"\"))","v":""},null,{"$f":"IF(Sheet1!$Z25=2,Sheet1!D25,IF(Sheet1!$Z26=2,Sheet1!D26,\"\"))","v":""},{"$f":"IF(Sheet1!$Z25=2,Sheet1!E25,IF(Sheet1!$Z26=2,Sheet1!E26,\"\"))","v":""},{"$f":"IF(Sheet1!$Z25=2,Sheet1!F25,IF(Sheet1!$Z26=2,Sheet1!F26,\"\"))","v":""},{"$f":"IF(Sheet1!$Z25=2,Sheet1!G25,IF(Sheet1!$Z26=2,Sheet1!G26,\"\"))","v":""},{"$f":"IF(Sheet1!$Z25=2,Sheet1!H25,IF(Sheet1!$Z26=2,Sheet1!H26,\"\"))","v":""},{"$f":"IF(Sheet1!$Z25=2,Sheet1!I25,IF(Sheet1!$Z26=2,Sheet1!I26,\"\"))","v":""},{"$f":"IF(Sheet1!$Z25=2,Sheet1!J25,IF(Sheet1!$Z26=2,Sheet1!J26,\"\"))","v":""},{"$f":"IF(Sheet1!$Z25=2,Sheet1!K25,IF(Sheet1!$Z26=2,Sheet1!K26,\"\"))","v":""},{"$f":"IF(Sheet1!$Z25=2,Sheet1!L25,IF(Sheet1!$Z26=2,Sheet1!L26,\"\"))","v":""},{"$f":"IF(Sheet1!$Z25=2,Sheet1!M25,IF(Sheet1!$Z26=2,Sheet1!M26,\"\"))","v":""},"",{"$f":"IF(Sheet1!$Z25=2,Sheet1!N25,IF(Sheet1!$Z26=2,Sheet1!N26,\"\"))","v":""},null,{"$f":"IF(Sheet1!$Z25=2,Sheet1!O25,IF(Sheet1!$Z26=2,Sheet1!O26,\"\"))","v":""}]
["会議室",null,null,{"$f":"IF(Sheet1!$Y26=1,Sheet1!D26,\"\")","v":""},{"$f":"IF(Sheet1!$Y26=1,Sheet1!E26,\"\")","v":""},{"$f":"IF(Sheet1!$Y26=1,Sheet1!F26,\"\")","v":""},{"$f":"IF(Sheet1!$Y26=1,Sheet1!G26,\"\")","v":""},{"$f":"IF(Sheet1!$Y26=1,Sheet1!H26,\"\")","v":""},{"$f":"IF(Sheet1!$Y26=1,Sheet1!I26,\"\")","v":""},{"$f":"IF(Sheet1!$Y26=1,Sheet1!J26,\"\")","v":""},{"$f":"IF(Sheet1!$Y26=1,Sheet1!K26,\"\")","v":""},{"$f":"IF(Sheet1!$Y26=1,Sheet1!L26,\"\")","v":""},{"$f":"IF(Sheet1!$Y26=1,Sheet1!M26,\"\")","v":""},"",{"$f":"IF(Sheet1!$Y26=1,Sheet1!N26,\"\")","v":""},null,{"$f":"IF(Sheet1!$Y26=1,Sheet1!O26,\"\")","v":""}]
["シャワー",null,null,{"$f":"IF(Sheet1!$Y27=1,Sheet1!D27,\"\")","v":""},{"$f":"IF(Sheet1!$Y27=1,Sheet1!E27,\"\")","v":""},{"$f":"IF(Sheet1!$Y27=1,Sheet1!F27,\"\")","v":""},null,{"$f":"IF(Sheet1!$Y27=1,Sheet1!H27,\"\")","v":""},"",null,null,null,{"$f":"IF(Sheet1!$Y27=1,Sheet1!M27,\"\")","v":""},null,{"$f":"IF(Sheet1!$Y27=1,Sheet1!N27,\"\")","v":""},null,{"$f":"IF(Sheet1!$Y27=1,Sheet1!O27,\"\")","v":""}]
[null,null,null,null,null,null,null,null,null,null,null,null,"合計",null,null,null,{"$f":"SUM(Q6:Q22)","v":0}]